Workbook

Sheet Daftar Data
A1: Nomor Tabel | B1: Daftar Data | N1: 2024 | O1: 2025
A2: 10 | B2: Potensi Wisata di Kota Probolinggo Tahun 2025 | C2: RKPD | E2: Tahunan | F2: 1 | G2: mohon diperbaiki datanya, jika memang tidak ada atau datanya ganda, mohon dihapus salah satu | N2: v | O2: -
A3: 11 | B3: Jumlah Akomodasi Menurut Kecamatan di Kota Probolinggo Tahun 2025 | E3: Tahunan | F3: 1 | N3: v | O3: -
A4: 12 | B4: Daftar Nama dan Alamat Akomodasi dan Hotel di Kota Probolinggo Tahun 2025 | C4: BPS | E4: Tahunan | F4: 1 | N4: v | O4: -
A5: 13 | B5: Jumlah Kamar Hotel/Akomodasi Lainnya di Kota Probolinggo Tahun 2025 | C5: BPS | E5: Tahunan | F5: 1 | N5: v | O5: -
A6: 14 | B6: Jumlah Lapangan Olahraga Menurut Kelurahan di Kota Probolinggo Tahun 2025 | C6: RKPD | E6: Tahunan | F6: 1 | N6: v | O6: -
A7: 15 | B7: Daftar Lapangan Olahraga yang ada di Kota Probolinggo Tahun 2025 | E7: Tahunan | F7: 1 | N7: v | O7: -
A8: 16 | B8: Jumlah Klub Olahraga Menurut Jenis Olahraga di Kota Probolinggo Tahun 2025 | C8: RKPD | E8: Tahunan | F8: 2 | N8: v | O8: -
A9: 17 | B9: Daftar Klub Olahraga yang ada di Kota Probolinggo Tahun 2025 | E9: Tahunan | N9: v | O9: -
A10: 18 | B10: Jumlah Gedung Olahraga Menurut Kelurahan di Kota Probolinggo Tahun 2025 | C10: RKPD | E10: Tahunan | F10: 1 | N10: v | O10: -
A11: 19 | B11: Daftar Gedung Olahraga yang ada di Kota Probolinggo Tahun 2025 | E11: Tahunan | F11: 1 | N11: v | O11: -
A12: 20 | B12: Jumlah Organisasi Kepemudaan Menurut Kelurahan di Kota Probolinggo Tahun 2025 | C12: RKPD | E12: Tahunan | N12: v | O12: -
A13: 21 | B13: Daftar Organisasi Kepemudaan yang ada di Kota Probolinggo Tahun 2025 | E13: Tahunan | N13: v | O13: -
A14: 22 | B14: Jumlah Organisasi Olahraga Menurut Kelurahan di Kota Probolinggo Tahun 2025 | C14: RKPD | E14: Tahunan | F14: 2 | N14: v | O14: -
A15: 23 | B15: Daftar Organisasi Olahraga yang ada di Kota Probolinggo Tahun 2025 | E15: Tahunan | N15: v | O15: -
A16: 24 | B16: Daftar Kegiatan Kepemudaan yang dilaksanakan di Kota Probolinggo Tahun 2025 | C16: RKPD | E16: Tahunan | N16: v | O16: -
A17: 25 | B17: Daftar Kegiatan Olahraga yang dilaksanakan di Kota Probolinggo Tahun 2025 | C17: RKPD | E17: Tahunan | F17: 1 | N17: v | O17: -
A18: 26 | B18: Jumlah Usaha Makanan dan Minuman Menurut Jenis Usaha dan Kelurahan di Kota Probolinggo Tahun 2025 | C18: BPS | E18: Tahunan | F18: 1 | N18: v | O18: -
A19: 27 | B19: Daftar Usaha Restoran di Kota Probolinggo Tahun 2025 | E19: Tahunan | F19: 1 | N19: v | O19: -
A20: 28 | B20: Daftar Usaha Rumah Makan di Kota Probolinggo Tahun 2025 | E20: Tahunan | F20: 1 | N20: v | O20: -
A21: 29 | B21: Daftar Usaha Kafe di Kota Probolinggo Tahun 2025 | E21: Tahunan | F21: 1 | N21: v | O21: -
A22: 30 | B22: Daftar Usaha Catering di Kota Probolinggo Tahun 2025 | E22: Tahunan | F22: 1 | N22: v | O22: -
A23: 31 | B23: Daftar Usaha Pusat Makanan di Kota Probolinggo Tahun 2025 | E23: Tahunan | F23: 1 | N23: v | O23: -
A24: 32 | B24: Jumlah Usaha Jasa Perjalanan Wisata di Kota Probolinggo Tahun 2025 | E24: Tahunan | F24: 1 | G24: jumlah Biro Perjalanan Wisata tidak sama dengan sheet 33 | N24: v | O24: -
A25: 33 | B25: Daftar Usaha Biro Perjalanan Wisata di Kota Probolinggo Tahun 2025 | E25: Tahunan | F25: 1 | G25: jumlah Biro Perjalanan Wisata tidak sama dengan sheet 32 | N25: v | O25: -
A26: 34 | B26: Daftar Usaha Agen Perjalanan Wisata di Kota Probolinggo Tahun 2025 | E26: Tahunan | F26: 1 | N26: v | O26: -
A27: 35 | B27: Jumlah Usaha Jasa Transportasi Wisata di Kota Probolinggo Tahun 2025 | E27: Tahunan | F27: 1 | N27: v | O27: -
A28: 36 | B28: Daftar Jasa Transportasi Wisata di Kota Probolinggo Tahun 2025 | E28: Tahunan | F28: 1 | N28: v | O28: -
A29: 37 | B29: Jumlah Usaha Rumah Kos Menurut Kelurahan di Kota Probolinggo Tahun 2025 | E29: Tahunan | F29: 1 | N29: v | O29: -
A30: 38 | B30: Daftar Usaha Rumah Kos di Kota Probolinggo Tahun 2025 | E30: Tahunan | F30: 1 | N30: v | O30: -
A31: 39 | B31: Jumlah Usaha Wisata Tirta Menurut Kelurahan di Kota Probolinggo Tahun 2025 | E31: Tahunan | F31: 1 | N31: v | O31: -
A32: 40 | B32: Daftar Usaha Wisata Memancing di Kota Probolinggo Tahun 2025 | E32: Tahunan | F32: 1 | N32: v | O32: -
A33: 41 | B33: Daftar Usaha Wisata Olahraga Tirta di Kota Probolinggo Tahun 2025 | E33: Tahunan | F33: 1 | N33: v | O33: -
A34: 42 | B34: Jumlah Usaha Spa Menurut Kelurahan di Kota Probolinggo Tahun 2025 | E34: Tahunan | F34: 1 | N34: v | O34: -
A35: 43 | B35: Daftar Usaha Spa di Kota Probolinggo Tahun 2025 | E35: Tahunan | F35: 1 | N35: v | O35: -
A36: 44 | B36: Jumlah Jasa Impresariat (Promotor) Menurut Kelurahan di Kota Probolinggo Tahun 2025 | E36: Tahunan | F36: 1 | N36: v | O36: -
A37: 45 | B37: Daftar Usaha Jasa Impresariat (Promotor) di Kota Probolinggo Tahun 2025 | E37: Tahunan | F37: 1 | N37: v | O37: -
... A39: 47 | B39: Jumlah Usaha Kegiatan Hiburan dan Rekreasi Menurut Jenis Usaha dan Kelurahan di Kota Probolinggo | E39: Tahunan | F39: 1 | N39: v | O39: -
A40: 48 | B40: Jumlah Usaha Taman Rekreasi Menurut Kelurahan di Kota Probolinggo Tahun 2025 | E40: Tahunan | F40: 1 | G40: Jumlah Arena Permainan berbeda dengan sheet 51 dan 52 | N40: v | O40: -
A41: 49 | B41: Daftar Taman Bertema di Kota Probolinggo Tahun 2025 | E41: Tahunan | F41: 1 | N41: v | O41: -
...

Sheet 10
A1: Tahun 2025 - Potensi Wisata di Kota Probolinggo
A2: Catatan : Mohon ditambah/dikurangi bila ada perubahan
A4: tahun | B4: jenis_wisata | C4: nama_potensi_wisata | D4: alamat | F4: jenis_wisata | G4: COUNTA of jenis_wisata
A5: 2025 | B5: Wisata Alam | C5: Pantai Permata | D5: Jl. Anggrek RT.04 RW.01, Kel. Pilang Kec. Kademangan | F5: Wisata Alam | G5: 16
A6: 2025 | B6: Wisata Alam | C6: Sumber Mata Air Sentong | D6: Jl.Sunan Bonang RT.03 RW.02, Kel. Jrebeng Wetan Kec. Kedopok | F6: Wisata Buatan | G6: 30
A7: 2025 | B7: Wisata Alam | C7: Sumber Mata Air Ardi | D7: Jl. Prof Dr. Hamka, Kel. Kedopok Kec. Kedopok | F7: Wisata Budaya | G7: 2
A8: 2025 | B8: Wisata Alam | C8: Sumber Mata Air Mutiara | D8: Kel. Sumber Wetan Kec. Kedopok | F8: Wisata Budaya/Religi | G8: 11
A9: 2025 | B9: Wisata Budaya/Religi | C9: Museum Probolinggo | D9: Jl. Suroyo No.17, Kel. Tisnonegaran Kec. Kanigaran | F9: Wisata Edukasi | G9: 26
A10: 2025 | B10: Wisata Budaya/Religi | C10: Museum Dr. Saleh | D10: Jl. Dr. Saleh No.1, Kel. Tisnonegaran Kec. Kanigaran | F10: Wisata Religi | G10: 4
A11: 2025 | B11: Wisata Budaya/Religi | C11: Masjid Tiban Babussalam | D11: Jl. Soekarno Hatta, Kel. Pilang Kec. Kademangan | F11: Wisata Sejarah | G11: 1
A12: 2025 | B12: Wisata Budaya/Religi | C12: Gereja Merah | D12: Jl. Suroyo No.32, Kel. Tisnonegaran Kec. Kanigaran | F12: Total Keseluruhan | G12: 90
A13: 2025 | B13: Wisata Budaya/Religi | C13: Benteng Mayangan | D13: Jl. Ikan Paus, Kel. Mayangan Kec. Mayangan
A14: 2025 | B14: Wisata Budaya/Religi | C14: Klenteng Tri Darma Sumber Naga | D14: Jl. WR. Soepratman No.127, Kel. Mangunharjo Kec. Mayangan
A15: 2025 | B15: Wisata Budaya/Religi | C15: Masjid Agung Roudlotul Jannah | D15: Jl. KH. Agus Salim No.6, Kel. Sukabumi Kec. Mayangan | F15: 2024 | G15: 33
A16: 2025 | B16: Wisata Budaya/Religi | C16: Larung Sesaji Bumi dan Petik Laut | D16: Pelabuhan Probolinggo
A17: 2025 | B17: Wisata Budaya/Religi | C17: Kerapan Sapi Brujul | D17: Kota Probolinggo
A18: 2025 | B18: Wisata Budaya/Religi | C18: Kerapan Kambing | D18: Kota Probolinggo
A19: 2025 | B19: Wisata Budaya/Religi | C19: Kesenian Jaran Bodhag | D19: Kota Probolinggo
A20: 2025 | B20: Wisata Buatan | C20: Taman Wisata Studi Lingkungan (TWSL) | D20: Jl. Basuki Rahmad No.62, Kel. Mangunharjo Kec. Mayangan
A21: 2025 | B21: Wisata Buatan | C21: Pelabuhan Perikanan Pantai Mayangan | D21: Jl. Pelabuhan Perikanan Pantai No.1, Kel. Mangunharjo Kec. Mayangan
A22: 2025 | B22: Wisata Buatan | C22: Kolam Renang Bayuangga | D22: Jl. Hayam Wuruk, Kel. Mangunharjo Kec. Mayangan
A23: 2025 | B23: Wisata Buatan | C23: Kolam Renang Olimpic | D23: Jl. Mastrip, Kel. Kedopok Kec. Kedopok
A24: 2025 | B24: Wisata Buatan | C24: Kolam Pancing Nila | D24: Jl. Anggrek RT.07 RW.07, Kel. Sukabumi Kec. Mayangan
A25: 2025 | B25: Wisata Buatan | C25: Pasar Tugu | D25: 4 sisi ruas jalan Alun-Alun (Jl. Ahmad Yani, Jl. KH. Agus Salim, Jl. Trunojoyo, Jl. KH. Mansyur)
A26: 2025 | B26: Wisata Buatan | C26: Taman Semeru | D26: Jl. Semeru, Kel. Triwung Kidul Kec. Kademangan
A27: 2025 | B27: Wisata Buatan | C27: Taman Manula | D27: Jl. Soekarno Hatta No.137, Kel. Curahgrinting Kec. Kanigaran
... A94: 2025 | B94: Wisata Buatan | C94: Kampung Bogowonto | D94: Perumahan Mutiara Bogowonto Kel. Kareng Lor Kec. Kedopok

Sheet 11
A1: Tahun 2025 - Jumlah Akomodasi Menurut Kecamatan di Kota Probolinggo
A3: tahun | B3: kode_kecamatan | C3: kecamatan | D3: jenis_akomodasi | E3: jumlah | G3: SUM of jumlah | H3: jenis_akomodasi
A4: 2025 | B4: 35.74.01 | C4: Kademangan | D4: Hotel | E4: 3 | G4: kecamatan | H4: Hotel | I4: Hunian Wisata Senior/Lanjut Usia | J4: Motel | K4: Pondok Wisata | L4: Rumah Wisata | M4: Villa | N4: Total Keseluruhan
A5: 2025 | B5: 35.74.01 | C5: Kademangan | D5: Pondok Wisata | E5: 9 | G5: Kademangan | H5: 3 | I5: 0 | J5: 0 | K5: 9 | L5: 0 | M5: 0 | N5: 12
A6: 2025 | B6: 35.74.01 | C6: Kademangan | D6: Rumah Wisata | E6: 0 | G6: Kanigaran | H6: 4 | I6: 0 | J6: 0 | K6: 2 | L6: 0 | M6: 0 | N6: 6
A7: 2025 | B7: 35.74.01 | C7: Kademangan | D7: Villa | E7: 0 | G7: Kedopok | H7: 0 | I7: 0 | J7: 1 | K7: 1 | L7: 0 | M7: 0 | N7: 2
A8: 2025 | B8: 35.74.01 | C8: Kademangan | D8: Hunian Wisata Senior/Lanjut Usia | E8: 0 | G8: Mayangan | H8: 3 | I8: 0 | J8: 0 | K8: 17 | L8: 0 | M8: 0 | N8: 20
A9: 2025 | B9: 35.74.01 | C9: Kademangan | D9: Motel | E9: 0 | G9: Wonoasih | H9: 0 | I9: 0 | J9: 0 | K9: 0 | L9: 0 | M9: 0 | N9: 0
A10: 2025 | B10: 35.74.02 | C10: Wonoasih | D10: Hotel | E10: 0 | G10: Total Keseluruhan | H10: 10 | I10: 0 | J10: 1 | K10: 29 | L10: 0 | M10: 0 | N10: 40
A11: 2025 | B11: 35.74.02 | C11: Wonoasih | D11: Pondok Wisata | E11: 0 | G11: 2024 | H11: 10 | I11: 0 | J11: 1 | K11: 25 | L11: 0 | M11: 0 | N11: 36
A12: 2025 | B12: 35.74.02 | C12: Wonoasih | D12: Rumah Wisata | E12: 0
A13: 2025 | B13: 35.74.02 | C13: Wonoasih | D13: Villa | E13: 0
A14: 2025 | B14: 35.74.02 | C14: Wonoasih | D14: Hunian Wisata Senior/Lanjut Usia | E14: 0
A15: 2025 | B15: 35.74.02 | C15: Wonoasih | D15: Motel | E15: 0
A16: 2025 | B16: 35.74.03 | C16: Mayangan | D16: Hotel | E16: 3
A17: 2025 | B17: 35.74.03 | C17: Mayangan | D17: Pondok Wisata | E17: 17
A18: 2025 | B18: 35.74.03 | C18: Mayangan | D18: Rumah Wisata | E18: 0
A19: 2025 | B19: 35.74.03 | C19: Mayangan | D19: Villa | E19: 0
A20: 2025 | B20: 35.74.03 | C20: Mayangan | D20: Hunian Wisata Senior/Lanjut Usia | E20: 0
A21: 2025 | B21: 35.74.03 | C21: Mayangan | D21: Motel | E21: 0
A22: 2025 | B22: 35.74.04 | C22: Kanigaran | D22: Hotel | E22: 4
A23: 2025 | B23: 35.74.04 | C23: Kanigaran | D23: Pondok Wisata | E23: 2
... A33: 2025 | B33: 35.74.05 | C33: Kedopok | D33: Motel | E33: 1

Sheet 12
A1: Tahun 2025 - Daftar Nama dan Alamat Akomodasi dan Hotel di Kota Probolinggo
A2: NB : Mohon diperiksa kembali data yang sudah terisi
A4: tahun | B4: kode_kecamatan | C4: kecamatan | D4: kode_kelurahan | E4: kelurahan | F4: jenis_akomodasi | G4: nama_akomodasi | H4: kelas | I4: alamat | J4: nomor_telepon | K4: tarif | M4: COUNTA of kelas | N4: kelas
A5: 2025 | B5: 35.74.01 | C5: Kademangan | D5: 35.74.01.1001 | E5: Ketapang | F5: Pondok Wisata | G5: Bromo 22 Homestay Syariah | H5: Melati | I5: Jl. Raya Bromo No.22 Kel. Ketapang Kec. Kademangan | J5: 0895-2954-3521 | K5: 170.000 - 200.000 | M5: kecamatan | N5: Bintang 1 | O5: Bintang 3 | P5: Melati | Q5: Total Keseluruhan
A6: 2025 | B6: 35.74.01 | C6: Kademangan | D6: 35.74.01.1001 | E6: Ketapang | F6: Pondok Wisata | G6: Caldera Park Homestay | H6: Melati | I6: Jl. Kelud No.17 Kel. Ketapang Kec. Kademangan | J6: 0813-7324-2198 0852-3330-9748 | K6: 75000 | M6: Kademangan | P6: 12 | Q6: 12
A7: 2025 | B7: 35.74.01 | C7: Kademangan | D7: 35.74.01.1001 | E7: Ketapang | F7: Pondok Wisata | G7: Home Stay Hadi’s | H7: Melati | I7: Jl. Raya Bromo No.31 Km.04 Kel. Ketapang Kec. Kademangan | J7: 0335-427601 | K7: 110.000 - 200.000 | M7: Kanigaran | N7: 1 | O7: 1 | P7: 4 | Q7: 6
A8: 2025 | B8: 35.74.01 | C8: Kademangan | D8: 35.74.01.1002 | E8: Triwung Lor | F8: Hotel | G8: Hotel BROMO VIEW | H8: Melati | I8: Jl. Raya Bromo Km.05 Kel. Triwung Lor Kec. Kademangan | J8: 0335-436000 0335-434000 0812-3350-0599 | K8: 336.364 - 781.819 | M8: Kedopok | P8: 2 | Q8: 2
A9: 2025 | B9: 35.74.01 | C9: Kademangan | D9: 35.74.01.1002 | E9: Triwung Lor | F9: Hotel | G9: Hotel LAVA-LAVA | H9: Melati | I9: Jl. Raya Bromo Km.05 Kel. Triwung Lor Kec. Kademangan | J9: 0335-437888 0822-4500-1541 | K9: 200.000 - 300.000 | M9: Mayangan | P9: 20 | Q9: 20
A10: 2025 | B10: 35.74.01 | C10: Kademangan | D10: 35.74.01.1002 | E10: Triwung Lor | F10: Hotel | G10: Hotel MORONYOTO | H10: Melati | I10: Jl. Raya Bromo No.100A Kel. Triwung Lor Kec. Kademangan | J10: 0335-432582 | K10: 130.000 - 300.000 | M10: Total Keseluruhan | N10: 1 | O10: 1 | P10: 38 | Q10: 40
A11: 2025 | B11: 35.74.01 | C11: Kademangan | D11: 35.74.01.1002 | E11: Triwung Lor | F11: Pondok Wisata | G11: Happy House | H11: Melati | I11: Jl. Semeru Gg. Buntu Kel. Triwung Lor Kec. Kademangan | J11: 0823-3633-8689 | K11: 70.000 - 250.000 | M11: 2024 | N11: 1 | O11: 1 | P11: 34 | Q11: 36
A12: 2025 | B12: 35.74.01 | C12: Kademangan | D12: 35.74.01.1002 | E12: Triwung Lor | F12: Pondok Wisata | G12: Home Stay Hari’s | H12: Melati | I12: Jl. Raya Bromo Km.05 Kel. Triwung Lor Kec. Kademangan | J12: 0335-5894614 0812-3281-313 | K12: 230.000 - 360.000
A13: 2025 | B13: 35.74.01 | C13: Kademangan | D13: 35.74.01.1002 | E13: Triwung Lor | F13: Pondok Wisata | G13: Raysha Guest House | H13: Melati | I13: Jl. Merapi Gg. Masjid At Taqwa Kel. Triwung Lor Kec. Kademangan | J13: 0851-4249-1148 | K13: 110.000 - 160.000
A14: 2025 | B14: 35.74.01 | C14: Kademangan | D14: 35.74.01.1003 | E14: Triwung Kidul | F14: Pondok Wisata | G14: Home Stay BROMO SUNRISE | H14: Melati | I14: Jl. Raya Bromo Km.4 Kel. Triwung Kidul Kec. Kademangan | J14: 0813-3680-4697 | K14: 140.000 - 170.000 | M14: COUNTA of jenis_akomodasi | N14: jenis_akomodasi
A15: 2025 | B15: 35.74.01 | C15: Kademangan | D15: 35.74.01.1009 | E15: Pilang | F15: Pondok Wisata | G15: Home Stay ANGGREK | H15: Melati | I15: Jl. Anggrek No.02 Kel. Pilang Kec. Kademangan | J15: 0335-428852 | K15: 75.000 - 135.000 | M15: kecamatan | N15: Hotel | O15: Motel | P15: Pondok Wisata | Q15: Total Keseluruhan
A16: 2025 | B16: 35.74.01 | C16: Kademangan | D16: 35.74.01.1009 | E16: Pilang | F16: Pondok Wisata | G16: Home Stay WIDURI | H16: Melati | I16: Jl. Sukarno Hatta No.65 Kel. Pilang Kec. Kademangan | J16: 0335-421310 | K16: 85.000 - 130.000 | M16: Kademangan | N16: 3 | P16: 9 | Q16: 12
A17: 2025 | B17: 35.74.03 | C17: Mayangan | D17: 35.74.03.1001 | E17: Mayangan | F17: Pondok Wisata | G17: Home Stay HASRAT MULIA | H17: Melati | I17: Jl. Lingkar Utara Kel. Mayangan Kec. Mayangan | J17: 0821-6556-6788 | K17: 80.000 - 200.000 | M17: Kanigaran | N17: 3 | P17: 3 | Q17: 6
A18: 2025 | B18: 35.74.03 | C18: Mayangan | D18: 35.74.03.1002 | E18: Mangunharjo | F18: Pondok Wisata | G18: Bungalow BJBR | H18: Melati | I18: Jl. Pelabuhan Perikanan Pantai Kel. Mangunharjo Kec. Mayangan | J18: 0335-5892001 0822-9254-4313 0812-4947-1969 | K18: 650.000 - 2.500.000 | M18: Kedopok | O18: 1 | P18: 1 | Q18: 2
A19: 2025 | B19: 35.74.03 | C19: Mayangan | D19: 35.74.03.1002 | E19: Mangunharjo | F19: Pondok Wisata | G19: FEMALE Guest House | H19: Melati | I19: Jl. Ahmad Yani No.41 Kel. Mangunharjo Kec. Mayangan | J19: 0335-423096 | K19: 80.000 - 150.000 | M19: Mayangan | N19: 3 | P19: 17 | Q19: 20
A20: 2025 | B20: 35.74.03 | C20: Mayangan | D20: 35.74.03.1002 | E20: Mangunharjo | F20: Pondok Wisata | G20: iLomba Guest House | H20: Melati | I20: Jl. KH. Mansyur No.78 Kel. Mangunharjo Kec. Mayangan | J20: 0852-2845-7757 | K20: 220000 | M20: Total Keseluruhan | N20: 9 | O20: 1 | P20: 30 | Q20: 40
A21: 2025 | B21: 35.74.03 | C21: Mayangan | D21: 35.74.03.1004 | E21: Jati | F21: Hotel | G21: Hotel PARAMITA | H21: Melati | I21: Jl. Siaman No.07 Kel. Jati Kec. Mayangan | J21: 0335-421535 | K21: 110.000 - 330.000 | M21: 2024 | N21: 10 | O21: 1 | P21: 25 | Q21: 36
A22: 2025 | B22: 35.74.03 | C22: Mayangan | D22: 35.74.03.1004 | E22: Jati | F22: Pondok Wisata | G22: Home Stay Bidara Syariah | H22: Melati | I22: Jl. Anjasmara No.26 Kel. Jati Kec. Mayangan | J22: 0813-3685-7117 | K22: 100.000 - 150.000
A23: 2025 | B23: 35.74.03 | C23: Mayangan | D23: 35.74.03.1007 | E23: Sukabumi | F23: Hotel | G23: Hotel PASEBAN SENA | H23: Melati | I23: Jl. Suroyo No.50-52 Kel. Sukabumi Kec. Mayangan | J23: 0335-420444 | K23: 680.000 - 860.000
A24: 2025 | B24: 35.74.03 | C24: Mayangan | D24: 35.74.03.1007 | E24: Sukabumi | F24: Hotel | G24: Hotel RATNA | H24: Melati | I24: Jl. Panglima Sudirman No.16 &18 Kel. Sukabumi Kec. Mayangan | J24: 0335-421597 | K24: 100.000 - 950.000
A25: 2025 | B25: 35.74.03 | C25: Mayangan | D25: 35.74.03.1007 | E25: Sukabumi | F25: Pondok Wisata | G25: Brak Homestay | H25: Melati | I25: Jl. Soekarno Hatta No.36 Kel. Sukabumi Kec. Mayangan | J25: 0812-3454-595 | K25: 220.000 - 240.000
A26: 2025 | B26: 35.74.03 | C26: Mayangan | D26: 35.74.03.1007 | E26: Sukabumi | F26: Pondok Wisata | G26: Home Stay CLOVER | H26: Melati | I26: Jl. Mawar Merah No.8 Kel. Sukabumi Kec. Mayangan | J26: 0335-4493483 0813-3049-6663 | K26: 250.000 - 300.000
A27: 2025 | B27: 35.74.03 | C27: Mayangan | D27: 35.74.03.1007 | E27: Sukabumi | F27: Pondok Wisata | G27: Home Stay DARMA | H27: Melati | I27: Jl. Buton No.03 Kel. Sukabumi Kec. Mayangan | J27: 0335-435594 0823-3022-8783 | K27: 85.000 - 135.000
A28: 2025 | B28: 35.74.03 | C28: Mayangan | D28: 35.74.03.1007 | E28: Sukabumi | F28: Pondok Wisata | G28: Home Stay DIPONEGORO | H28: Melati | I28: Jl. Diponegoro No.5 Kel. Sukabumi Kec. Mayangan | J28: 0811-3661-355 | K28: 165.000 - 350.000
A29: 2025 | B29: 35.74.03 | C29: Mayangan | D29: 35.74.03.1007 | E29: Sukabumi | F29: Pondok Wisata | G29: Home Stay PINK HOUSE | H29: Melati | I29: Jl. Mawar Permai No.26 Kel. Sukabumi Kec. Mayangan | J29: 0335-4430999 0815-5980-8888 | K29: 200000
A30: 2025 | B30: 35.74.03 | C30: Mayangan | D30: 35.74.03.1007 | E30: Sukabumi | F30: Pondok Wisata | G30: Home Stay SUYOSO | H30: Melati | I30: Jl. Suyoso No.45 Kel. Sukabumi Kec. Mayangan | J30: 0812-2277-7883 | K30: 150.000 - 235.000
A31: 2025 | B31: 35.74.03 | C31: Mayangan | D31: 35.74.03.1007 | E31: Sukabumi | F31: Pondok Wisata | G31: Home Stay WAHIDIN | H31: Melati | I31: Jl. Dr. Wahidin No.8 Kel. Sukabumi Kec. Mayangan | J31: 0335-425333 0823-3062-2036 | K31: 225.000 - 325.000
A32: 2025 | B32: 35.74.03 | C32: Mayangan | D32: 35.74.03.1007 | E32: Sukabumi | F32: Pondok Wisata | G32: Kartini Guest House | H32: Melati | I32: Jl. RA. Kartini No.69 Kel. Sukabumi Kec. Mayangan | J32: 0813-9105-1203 | K32: 100.000 - 150.000
A33: 2025 | B33: 35.74.03 | C33: Mayangan | D33: 35.74.03.1007 | E33: Sukabumi | F33: Pondok Wisata | G33: Moshi Moshi Hostel | H33: Melati | I33: Jl. RA. Kartini No.67 Kel. Sukabumi Kec. Mayangan | J33: 0818-7630-58 | K33: 85.000 - 210.000
A34: 2025 | B34: 35.74.03 | C34: Mayangan | D34: 35.74.03.1007 | E34: Sukabumi | F34: Pondok Wisata | G34: Nasution Homestay | H34: Melati | I34: Jl. AIS. Nasution No.12 Kel. Sukabumi Kec. Mayangan | J34: 0812-3461-700 | K34: 300.000 - 470.000
A35: 2025 | B35: 35.74.03 | C35: Mayangan | D35: 35.74.03.1007 | E35: Sukabumi | F35: Pondok Wisata | G35: Rumah Singgah Ombass | H35: Melati | I35: Jl. dr. Moch. Saleh No.14 Kel. Sukabumi Kec. Mayangan | J35: 0852-3335-1112 | K35: 200000
A36: 2025 | B36: 35.74.03 | C36: Mayangan | D36: 35.74.03.1010 | E36: Wiroborang | F36: Pondok Wisata | G36: The Canal Paalupi Homestay | H36: Melati | I36: Jl. Panglima Sudirman Kel. Wiroborang Kec. Mayangan | J36: 0822-3224-0476 0858-5361-3025 | K36: 225.000 - 250.000
A37: 2025 | B37: 35.74.04 | C37: Kanigaran | D37: 35.74.04.1001 | E37: Tisnonegaran | F37: Hotel | G37: Hotel BROMO PARK | H37: Bintang 3 | I37: Jl. Dr. Sutomo No.70 Kel. Tisnonegaran Kec. Kanigaran | J37: 0335-4493777 0813-3083-7775 | K37: 618.000 - 2.488.000
A38: 2025 | B38: 35.74.04 | C38: Kanigaran | D38: 35.74.04.1001 | E38: Tisnonegaran | F38: Hotel | G38: Hotel TAMPIARTO | H38: Bintang 1 | I38: Jl. Suroyo No.15 Kel. Tisnonegaran Kec. Kanigaran | J38: 0335-421288 | K38: 200.000 - 350.000
A39: 2025 | B39: 35.74.04 | C39: Kanigaran | D39: 35.74.04.1001 | E39: Tisnonegaran | F39: Pondok Wisata | G39: Home Stay EBONY | H39: Melati | I39: Jl. Gubernur Suryo Kel. Tisnonegaran Kec. Kanigaran | J39: 0335-7606264 | K39: 170.000 - 400.000
A40: 2025 | B40: 35.74.04 | C40: Kanigaran | D40: 35.74.04.1001 | E40: Tisnonegaran | F40: Pondok Wisata | G40: Hotel TENTREM | H40: Melati | I40: Jl. Panglima Sudirman No.15 Kel. Tisnonegaran Kec. Kanigaran | J40: 0335-421049 | K40: 70.000 - 180.000
A41: 2025 | B41: 35.74.04 | C41: Kanigaran | D41: 35.74.04.1001 | E41: Tisnonegaran | F41: Pondok Wisata | G41: SURYA Guest House | H41: Melati | I41: Jl. Gubernur Suryo No.02 Kel. Tisnonegaran Kec. Kanigaran | J41: 0812-3493-2982 0813-5839-8398 | K41: 175.000 - 350.000
...

Sheet 13
A1: Tahun 2025 - Jumlah Kamar Hotel/Akomodasi Lainnya di Kota Probolinggo
A2: NB : Mohon diperiksa kembali data yang sudah terisi
A4: tahun | B4: kode_kecamatan | C4: kecamatan | D4: kode_kelurahan | E4: kelurahan | F4: jenis_akomodasi | G4: nama_akomodasi | H4: jumlah_kamar | J4: COUNTA of jenis_akomodasi | K4: jenis_akomodasi
A5: 2025 | B5: 35.74.01 | C5: Kademangan | D5: 35.74.01.1001 | E5: Ketapang | F5: Pondok Wisata | G5: Bromo 22 Homestay Syariah | H5: 20 | J5: kecamatan | K5: Hotel | L5: Motel | M5: Pondok Wisata | N5: Total Keseluruhan
A6: 2025 | B6: 35.74.01 | C6: Kademangan | D6: 35.74.01.1001 | E6: Ketapang | F6: Pondok Wisata | G6: Caldera Park Homestay | H6: 10 | J6: Kademangan | K6: 3 | M6: 9 | N6: 12
A7: 2025 | B7: 35.74.01 | C7: Kademangan | D7: 35.74.01.1001 | E7: Ketapang | F7: Pondok Wisata | G7: Home Stay Hadi’s | H7: 20 | J7: Kanigaran | K7: 3 | M7: 3 | N7: 6
A8: 2025 | B8: 35.74.01 | C8: Kademangan | D8: 35.74.01.1002 | E8: Triwung Lor | F8: Hotel | G8: Hotel BROMO VIEW | H8: 63 | J8: Kedopok | L8: 1 | M8: 1 | N8: 2
A9: 2025 | B9: 35.74.01 | C9: Kademangan | D9: 35.74.01.1002 | E9: Triwung Lor | F9: Hotel | G9: Hotel LAVA-LAVA | H9: 20 | J9: Mayangan | K9: 3 | M9: 17 | N9: 20
A10: 2025 | B10: 35.74.01 | C10: Kademangan | D10: 35.74.01.1002 | E10: Triwung Lor | F10: Hotel | G10: Hotel MORONYOTO | H10: 30 | J10: Total Keseluruhan | K10: 9 | L10: 1 | M10: 30 | N10: 40
A11: 2025 | B11: 35.74.01 | C11: Kademangan | D11: 35.74.01.1002 | E11: Triwung Lor | F11: Pondok Wisata | G11: Happy House | H11: 11
A12: 2025 | B12: 35.74.01 | C12: Kademangan | D12: 35.74.01.1002 | E12: Triwung Lor | F12: Pondok Wisata | G12: Home Stay Hari’s | H12: 22
A13: 2025 | B13: 35.74.01 | C13: Kademangan | D13: 35.74.01.1002 | E13: Triwung Lor | F13: Pondok Wisata | G13: Raysha Guest House | H13: 10 | J13: SUM of jumlah_kamar | K13: jenis_akomodasi
A14: 2025 | B14: 35.74.01 | C14: Kademangan | D14: 35.74.01.1003 | E14: Triwung Kidul | F14: Pondok Wisata | G14: Home Stay BROMO SUNRISE | H14: 16 | J14: kecamatan | K14: Hotel | L14: Motel | M14: Pondok Wisata | N14: Total Keseluruhan
A15: 2025 | B15: 35.74.01 | C15: Kademangan | D15: 35.74.01.1009 | E15: Pilang | F15: Pondok Wisata | G15: Home Stay ANGGREK | H15: 12 | J15: Kademangan | K15: 113 | M15: 132 | N15: 245
A16: 2025 | B16: 35.74.01 | C16: Kademangan | D16: 35.74.01.1009 | E16: Pilang | F16: Pondok Wisata | G16: Home Stay WIDURI | H16: 11 | J16: Kanigaran | K16: 154 | M16: 71 | N16: 225
A17: 2025 | B17: 35.74.03 | C17: Mayangan | D17: 35.74.03.1001 | E17: Mayangan | F17: Pondok Wisata | G17: Home Stay HASRAT MULIA | H17: 15 | J17: Kedopok | L17: 19 | M17: 16 | N17: 35
A18: 2025 | B18: 35.74.03 | C18: Mayangan | D18: 35.74.03.1002 | E18: Mangunharjo | F18: Pondok Wisata | G18: Bungalow BJBR | H18: 21 | J18: Mayangan | K18: 131 | M18: 311 | N18: 442
A19: 2025 | B19: 35.74.03 | C19: Mayangan | D19: 35.74.03.1002 | E19: Mangunharjo | F19: Pondok Wisata | G19: FEMALE Guest House | H19: 23 | J19: Total Keseluruhan | K19: 398 | L19: 19 | M19: 530 | N19: 947
A20: 2025 | B20: 35.74.03 | C20: Mayangan | D20: 35.74.03.1002 | E20: Mangunharjo | F20: Pondok Wisata | G20: iLomba Guest House | H20: 7
A21: 2025 | B21: 35.74.03 | C21: Mayangan | D21: 35.74.03.1004 | E21: Jati | F21: Hotel | G21: Hotel PARAMITA | H21: 39
A22: 2025 | B22: 35.74.03 | C22: Mayangan | D22: 35.74.03.1004 | E22: Jati | F22: Pondok Wisata | G22: Home Stay Bidara Syariah | H22: 8
A23: 2025 | B23: 35.74.03 | C23: Mayangan | D23: 35.74.03.1007 | E23: Sukabumi | F23: Hotel | G23: Hotel PASEBAN SENA | H23: 20
A24: 2025 | B24: 35.74.03 | C24: Mayangan | D24: 35.74.03.1007 | E24: Sukabumi | F24: Hotel | G24: Hotel RATNA | H24: 72
A25: 2025 | B25: 35.74.03 | C25: Mayangan | D25: 35.74.03.1007 | E25: Sukabumi | F25: Pondok Wisata | G25: Brak Homestay | H25: 6
A26: 2025 | B26: 35.74.03 | C26: Mayangan | D26: 35.74.03.1007 | E26: Sukabumi | F26: Pondok Wisata | G26: Home Stay CLOVER | H26: 20
A27: 2025 | B27: 35.74.03 | C27: Mayangan | D27: 35.74.03.1007 | E27: Sukabumi | F27: Pondok Wisata | G27: Home Stay DARMA | H27: 40
A28: 2025 | B28: 35.74.03 | C28: Mayangan | D28: 35.74.03.1007 | E28: Sukabumi | F28: Pondok Wisata | G28: Home Stay DIPONEGORO | H28: 42
A29: 2025 | B29: 35.74.03 | C29: Mayangan | D29: 35.74.03.1007 | E29: Sukabumi | F29: Pondok Wisata | G29: Home Stay PINK HOUSE | H29: 21
A30: 2025 | B30: 35.74.03 | C30: Mayangan | D30: 35.74.03.1007 | E30: Sukabumi | F30: Pondok Wisata | G30: Home Stay SUYOSO | H30: 58
A31: 2025 | B31: 35.74.03 | C31: Mayangan | D31: 35.74.03.1007 | E31: Sukabumi | F31: Pondok Wisata | G31: Home Stay WAHIDIN | H31: 21
... A44: 2025 | B44: 35.74.05 | C44: Kedopok | D44: 35.74.05.1002 | E44: Kareng Lor | F44: Motel | G44: Penginapan Sri Rejeki | H44: 19

Sheet 14
A1: Tahun 2025 - Jumlah Lapangan Olahraga Menurut Kelurahan di Kota Probolinggo
A3: tahun | B3: kode_kecamatan | C3: kecamatan | D3: kode_kelurahan | E3: kelurahan | F3: jumlah_lapangan_olahraga | H3: kecamatan | I3: SUM of jumlah_lapangan_olahraga
A4: 2025 | B4: 35.74.01 | C4: Kademangan | D4: 35.74.01.1001 | E4: Ketapang | F4: 5 | H4: Kademangan | I4: 18
A5: 2025 | B5: 35.74.01 | C5: Kademangan | D5: 35.74.01.1002 | E5: Triwung Lor | F5: 5 | H5: Kanigaran | I5: 25
A6: 2025 | B6: 35.74.01 | C6: Kademangan | D6: 35.74.01.1003 | E6: Triwung Kidul | F6: 0 | H6: Kedopok | I6: 16
A7: 2025 | B7: 35.74.01 | C7: Kademangan | D7: 35.74.01.1007 | E7: Pohsangit Kidul | F7: 2 | H7: Mayangan | I7: 13
A8: 2025 | B8: 35.74.01 | C8: Kademangan | D8: 35.74.01.1008 | E8: Kademangan | F8: 3 | H8: Wonoasih | I8: 8
A9: 2025 | B9: 35.74.01 | C9: Kademangan | D9: 35.74.01.1009 | E9: Pilang | F9: 3 | H9: Total Keseluruhan | I9: 80
A10: 2025 | B10: 35.74.02 | C10: Wonoasih | D10: 35.74.02.1001 | E10: Jrebeng Kidul | F10: 0 | H10: 2024 | I10: 80
A11: 2025 | B11: 35.74.02 | C11: Wonoasih | D11: 35.74.02.1002 | E11: Pakistaji | F11: 0
A12: 2025 | B12: 35.74.02 | C12: Wonoasih | D12: 35.74.02.1003 | E12: Kedunggaleng | F12: 0
A13: 2025 | B13: 35.74.02 | C13: Wonoasih | D13: 35.74.02.1005 | E13: Kedung Asem | F13: 2
A14: 2025 | B14: 35.74.02 | C14: Wonoasih | D14: 35.74.02.1006 | E14: Sumber Taman | F14: 4
A15: 2025 | B15: 35.74.02 | C15: Wonoasih | D15: 35.74.02.1007 | E15: Wonoasih | F15: 2
A16: 2025 | B16: 35.74.03 | C16: Mayangan | D16: 35.74.03.1001 | E16: Mayangan | F16: 1
A17: 2025 | B17: 35.74.03 | C17: Mayangan | D17: 35.74.03.1002 | E17: Mangunharjo | F17: 2
A18: 2025 | B18: 35.74.03 | C18: Mayangan | D18: 35.74.03.1004 | E18: Jati | F18: 3
A19: 2025 | B19: 35.74.03 | C19: Mayangan | D19: 35.74.03.1007 | E19: Sukabumi | F19: 4
A20: 2025 | B20: 35.74.03 | C20: Mayangan | D20: 35.74.03.1010 | E20: Wiroborang | F20: 3
A21: 2025 | B21: 35.74.04 | C21: Kanigaran | D21: 35.74.04.1001 | E21: Tisnonegaran | F21: 0
A22: 2025 | B22: 35.74.04 | C22: Kanigaran | D22: 35.74.04.1002 | E22: Sukoharjo | F22: 1
... A32: 2025 | B32: 35.74.05 | C32: Kedopok | D32: 35.74.05.1006 | E32: Jrebeng Wetan | F32: 4

Sheet 15
A1: Tahun 2025 - Daftar Lapangan Olahraga yang ada di Kota Probolinggo
A2: Catatan : Mohon data yang terisi dicek kembali dan direvisi bila ada yang tidak tepat
A4: tahun | B4: kode_kecamatan | C4: kecamatan | D4: kode_kelurahan | E4: kelurahan | F4: nama_lapangan | G4: jenis_olahraga | H4: alamat | I4: latitude | J4: longitude | K4: kondisi | L4: status_kepemilikan | M4: Kapasitas | O4: COUNTA of jenis_olahraga | P4: kecamatan
A5: 2025 | B5: 35.74.01 | C5: Kademangan | D5: 35.74.01.1007 | E5: Pohsangit Kidul | F5: Lapangan Bola Volly | G5: Bola Volly | H5: Dusun Melati RT.001 RW.002 | K5: Baik | L5: Masyarakat | M5: 1 lapangan | O5: jenis_olahraga | P5: Kademangan | Q5: Kanigaran | R5: Kedopok | S5: Mayangan | T5: Wonoasih | U5: Total Keseluruhan
A6: 2025 | B6: 35.74.01 | C6: Kademangan | D6: 35.74.01.1007 | E6: Pohsangit Kidul | F6: Lapangan Bola Volly | G6: Bola Volly | H6: Dusun Melati RT.003 RW.002 | K6: Baik | L6: Masyarakat | M6: 1 lapangan | O6: basket | Q6: 3 | U6: 3
A7: 2025 | B7: 35.74.02 | C7: Wonoasih | D7: 35.74.02.1006 | E7: Sumber Taman | F7: Lapangan Bola Volly | G7: Bola Volly | H7: RT. 04 / RW.07 | K7: Kurang Baik | L7: Masyarakat | M7: 1 lapangan | O7: Bola Volly | P7: 12 | Q7: 12 | R7: 8 | S7: 6 | T7: 4 | U7: 42
A8: 2025 | B8: 35.74.02 | C8: Wonoasih | D8: 35.74.02.1006 | E8: Sumber Taman | F8: Lapangan Bola Volly | G8: Bola Volly | H8: RT. 07 / RW.07 | K8: Kurang Baik | L8: Masyarakat | M8: 1 lapangan | O8: Bulu Tangkis | P8: 2 | Q8: 2 | R8: 2 | S8: 1 | U8: 7
A9: 2025 | B9: 35.74.02 | C9: Wonoasih | D9: 35.74.02.1006 | E9: Sumber Taman | F9: Lapangan Tenis Meja | G9: Tenis Meja | H9: RT. 04 / RW.07 | K9: Baik | L9: Masyarakat | M9: 1 lapangan | O9: Futsal | P9: 2 | Q9: 3 | R9: 1 | S9: 2 | U9: 8
A10: 2025 | B10: 35.74.02 | C10: Wonoasih | D10: 35.74.02.1006 | E10: Sumber Taman | F10: Lapangan Tenis Meja | G10: Tenis Meja | H10: RT.01 / RW.07 | K10: Baik | L10: Masyarakat | M10: 1 lapangan | O10: Gym | R10: 1 | S10: 1 | U10: 2
A11: 2025 | B11: 35.74.03 | C11: Mayangan | D11: 35.74.03.1010 | E11: Wiroborang | F11: Lapangan Bola Volly | G11: Bola Volly | H11: Jalan Panglima Sudirman | K11: Baik | L11: Aset | M11: 1 lapangan | O11: Sepak Bola | P11: 1 | Q11: 3 | R11: 2 | S11: 2 | T11: 2 | U11: 10
A12: 2025 | B12: 35.74.03 | C12: Mayangan | D12: 35.74.03.1010 | E12: Wiroborang | F12: Lapangan Bola Volly | G12: Bola Volly | H12: Jalan Samanhudi | K12: Baik | L12: Aset | M12: 1 lapangan | O12: Sepak takraw | Q12: 1 | R12: 1 | U12: 2
A13: 2025 | B13: 35.74.03 | C13: Mayangan | D13: 35.74.03.1010 | E13: Wiroborang | F13: Lapangan Bola Volly | G13: Bola Volly | H13: Jalan Gumuk | K13: Baik | L13: Aset | M13: 1 lapangan | O13: Tenis lapangan | Q13: 1 | S13: 1 | U13: 2
A14: 2025 | B14: 35.74.01 | C14: Kademangan | D14: 35.74.01.1009 | E14: Pilang | F14: Lapangan Bola Volly | G14: Bola Volly | H14: Kantor Kelurahan Pilang | K14: Baik | L14: Aset | M14: 1 lapangan | O14: Tenis Meja | P14: 1 | R14: 1 | T14: 2 | U14: 4
A15: 2025 | B15: 35.74.01 | C15: Kademangan | D15: 35.74.01.1009 | E15: Pilang | F15: Lapangan Bola Volly | G15: Bola Volly | H15: Rusunawa Bayuangga RW. 5 | K15: Baik | L15: Aset | M15: 1 lapangan | O15: Total Keseluruhan | P15: 18 | Q15: 25 | R15: 16 | S15: 13 | T15: 8 | U15: 80
A16: 2025 | B16: 35.74.01 | C16: Kademangan | D16: 35.74.01.1009 | E16: Pilang | F16: Lapangan Tenis Meja | G16: Tenis Meja | H16: MESS KTI RT.02 RW.04 | K16: Baik | L16: KTI | M16: 1 lapangan | O16: 2024 | P16: 18 | Q16: 25 | R16: 16 | S16: 13 | T16: 8 | U16: 80
A17: 2025 | B17: 35.74.01 | C17: Kademangan | D17: 35.74.01.1008 | E17: Kademangan | F17: Lapangan Sepak Bola | G17: Sepak Bola | H17: Jalan Tambora RT 4 RW III | K17: Baik | L17: Masyarakat | M17: 1 lapangan
A18: 2025 | B18: 35.74.01 | C18: Kademangan | D18: 35.74.01.1008 | E18: Kademangan | F18: Lapangan Bola Volly | G18: Bola Volly | H18: GG. Tuyo Arum RT 01 RW I | K18: Baik | L18: Masyarakat | M18: 1 lapangan | O18: COUNTA of kondisi | P18: kondisi
A19: 2025 | B19: 35.74.01 | C19: Kademangan | D19: 35.74.01.1008 | E19: Kademangan | F19: Lapangan Bola Volly | G19: Bola Volly | H19: Blok Jurang RT 04 RW 04 | K19: Baik | L19: Masyarakat | M19: 1 lapangan | O19: jenis_olahraga | P19: Baik | Q19: Kurang Baik | R19: Total Keseluruhan
A20: 2025 | B20: 35.74.05 | C20: Kedopok | D20: 35.74.05.1006 | E20: Jrebeng Wetan | F20: Lapangan Bola Volly | G20: Bola Volly | H20: RT 03 RW 04 | K20: Baik | L20: Masyarakat | M20: 1 lapangan | O20: basket | P20: 3 | R20: 3
A21: 2025 | B21: 35.74.05 | C21: Kedopok | D21: 35.74.05.1006 | E21: Jrebeng Wetan | F21: Lapangan Bola Volly | G21: Bola Volly | H21: RT 05 RW 03 | K21: Baik | L21: Masyarakat | M21: 1 lapangan | O21: Bola Volly | P21: 40 | Q21: 2 | R21: 42
A22: 2025 | B22: 35.74.05 | C22: Kedopok | D22: 35.74.05.1006 | E22: Jrebeng Wetan | F22: Lapangan Bola Volly | G22: Bola Volly | H22: RT 04 RW 04 | K22: Baik | L22: Masyarakat | M22: 1 lapangan | O22: Bulu Tangkis | P22: 7 | R22: 7
A23: 2025 | B23: 35.74.05 | C23: Kedopok | D23: 35.74.05.1006 | E23: Jrebeng Wetan | F23: Gym | G23: Gym | H23: RT 06 RW 03 | K23: Baik | L23: Masyarakat | M23: 1 lapangan | O23: Futsal | P23: 8 | R23: 8
A24: 2025 | B24: 35.74.03 | C24: Mayangan | D24: 35.74.03.1001 | E24: Mayangan | F24: Lapangan Bola Volly | G24: Bola Volly | H24: Jalan Ikan Lumba - Lumba RT.05 RW.02 | K24: Baik | L24: Kodam V Brawijaya | M24: 1 lapangan | O24: Gym | P24: 2 | R24: 2
A25: 2025 | B25: 35.74.04 | C25: Kanigaran | D25: 35.74.04.1006 | E25: Kebonsari Kulon | F25: Lapangan Sepak Bola | G25: Sepak Bola | H25: Jl. KH. Ahmad Dahlan RW.16 | K25: Baik | L25: Aset | M25: 1 lapangan | O25: Sepak Bola | P25: 10 | R25: 10
A26: 2025 | B26: 35.74.04 | C26: Kanigaran | D26: 35.74.04.1006 | E26: Kebonsari Kulon | F26: Lapangan Bola Volly | G26: Bola Volly | H26: Jl. KH. Ahmad Dahlan RW.16 | K26: Baik | L26: Aset | M26: 1 lapangan | O26: Sepak takraw | P26: 2 | R26: 2
A27: 2025 | B27: 35.74.04 | C27: Kanigaran | D27: 35.74.04.1006 | E27: Kebonsari Kulon | F27: Lapangan Bola Volly | G27: Bola Volly | H27: Jl. KH. Ahmad Dahlan RW.16 | K27: Baik | L27: Aset | M27: 1 lapangan | O27: Tenis lapangan | P27: 2 | R27: 2
A28: 2025 | B28: 35.74.05 | C28: Kedopok | D28: 35.74.05.1001 | E28: Jrebeng Kulon | F28: Lapangan Bola Volly | G28: Bola Volly | H28: Jl. Musi RT.01 RW..04 | K28: Baik | L28: Masyarakat | M28: 1 lapangan | O28: Tenis Meja | P28: 4 | R28: 4
A29: 2025 | B29: 35.74.04 | C29: Kanigaran | D29: 35.74.04.1003 | E29: Kanigaran | F29: Lapangan Bola Volly | G29: Bola Volly | H29: RT.02 RW.12 | K29: Baik | L29: PG Wonolangan | M29: 1 lapangan | O29: Total Keseluruhan | P29: 78 | Q29: 2 | R29: 80
A30: 2025 | B30: 35.74.04 | C30: Kanigaran | D30: 35.74.04.1003 | E30: Kanigaran | F30: Lapangan Bola Volly | G30: Bola Volly | H30: RT.10 RW.12 | K30: Baik | L30: Masyarakat | M30: 1 lapangan
A31: 2025 | B31: 35.74.04 | C31: Kanigaran | D31: 35.74.04.1003 | E31: Kanigaran | F31: Lapangan Bola Volly | G31: Bola Volly | H31: RT.03 RW.13 | K31: Baik | L31: Masyarakat | M31: 1 lapangan | O31: kecamatan | P31: kelurahan | Q31: COUNTA of nama_lapangan
A32: 2025 | B32: 35.74.05 | C32: Kedopok | D32: 35.74.05.1002 | E32: Kareng Lor | F32: Lapangan Sepak Bola | G32: Sepak Bola | H32: Jl. Kedondong RT.06 RW.01 | K32: Baik | L32: Aset | M32: 1 lapangan | O32: Kademangan | Q32: 18
A33: 2025 | B33: 35.74.05 | C33: Kedopok | D33: 35.74.05.1002 | E33: Kareng Lor | F33: Lapangan Bola Volly | G33: Bola Volly | H33: RT.04 RW.01 | K33: Baik | L33: Aset | M33: 1 lapangan | O33: Kanigaran | Q33: 25
A34: 2025 | B34: 35.74.05 | C34: Kedopok | D34: 35.74.05.1002 | E34: Kareng Lor | F34: Lapangan Bola Volly | G34: Bola Volly | H34: RT.06 RW.01 | K34: Baik | L34: Aset | M34: 1 lapangan | O34: Kedopok | Q34: 16
A35: 2025 | B35: 35.74.05 | C35: Kedopok | D35: 35.74.05.1002 | E35: Kareng Lor | F35: Lapangan Bola Volly | G35: Bola Volly | H35: RT.01 RW.03 | K35: Baik | L35: Masyarakat | M35: 1 lapangan | O35: Mayangan | Q35: 13
A36: 2025 | B36: 35.74.05 | C36: Kedopok | D36: 35.74.05.1002 | E36: Kareng Lor | F36: Lapangan Bola Volly | G36: Bola Volly | H36: RW. 05 | K36: Baik | L36: Masyarakat | M36: 1 lapangan | O36: Wonoasih | Q36: 8
A37: 2025 | B37: 35.74.05 | C37: Kedopok | D37: 35.74.05.1002 | E37: Kareng Lor | F37: Lapangan Futsal | G37: Futsal | H37: RT.04 RW.01 | K37: Baik | L37: Aset | M37: 1 lapangan | O37: Total Keseluruhan | Q37: 80
A38: 2025 | B38: 35.74.05 | C38: Kedopok | D38: 35.74.05.1002 | E38: Kareng Lor | F38: Lap. Sepak Takraw | G38: Sepak takraw | H38: RW. 05 | K38: Baik | L38: Masyarakat | M38: 1 lapangan
A39: 2025 | B39: 35.74.05 | C39: Kedopok | D39: 35.74.05.1002 | E39: Kareng Lor | F39: Lapangan Tenis Meja | G39: Tenis Meja | H39: RW. 05 | K39: Baik | L39: Masyarakat | M39: 1 lapangan
A40: 2025 | B40: 35.74.04 | C40: Kanigaran | D40: 35.74.04.1002 | E40: Sukoharjo | F40: Lapangan Sepak Bola | G40: Sepak Bola | H40: Jl. KH. Hasan Gg. Gumuk | K40: Baik | L40: Aset | M40: 1 lapangan
A41: 2025 | B41: 35.74.01 | C41: Kademangan | D41: 35.74.01.1001 | E41: Ketapang | F41: Lapangan Bola Volly | G41: Bola Volly | H41: SD. Ketapang 1 | K41: Baik | L41: Aset | M41: 1 lapangan
...

Sheet 16
A1: Tahun 2025 - Jumlah Klub Olahraga Menurut Kelurahan di Kota Probolinggo
A2: Mohon tambahkan jenis olahraga bila terdapat perubahan
A4: tahun | B4: jenis_olahraga | C4: jumlah_klub_olahraga | E4: jenis_olahraga | F4: SUM of jumlah_klub_olahraga
A5: 2025 | B5: Badminton | C5: 2 | E5: Badminton | F5: 2
A6: 2025 | B6: Bela Diri | C6: 0 | E6: Basket
A7: 2025 | B7: Bola Voli | C7: 10 | E7: Bela Diri
A8: 2025 | B8: Futsal | C8: 0 | E8: Bilyar
A9: 2025 | B9: Karate | C9: 1 | E9: Bola Voli | F9: 10
A10: 2025 | B10: Pencak Silat | C10: 3 | E10: Bridge
A11: 2025 | B11: Senam | C11: 3 | E11: Catur
A12: 2025 | B12: Sepak Bola | C12: 10 | E12: Drum Band
A13: 2025 | B13: Sepeda Santai | C13: 0 | E13: Futsal
A14: 2025 | B14: Tenis Meja | C14: 0 | E14: Karate | F14: 1
A15: 2025 | B15: Catur | C15: 0 | E15: Panahan
A16: 2025 | B16: Taekwondo | C16: 0 | E16: Panjat Tebing
A17: 2025 | B17: Renang | C17: 0 | E17: Pencak Silat | F17: 3
A18: 2025 | B18: Drum Band | C18: 0 | E18: Renang
A19: 2025 | B19: Basket | C19: 0 | E19: Senam | F19: 3
A20: 2025 | B20: Tenis Lapangan | C20: 0 | E20: Sepak Bola | F20: 10
A21: 2025 | B21: Bridge | C21: 0 | E21: Sepeda Santai
A22: 2025 | B22: Panahan | C22: 0 | E22: Taekwondo
A23: 2025 | B23: Bilyar | C23: 0 | E23: Tenis Lapangan
A24: 2025 | B24: Panjat Tebing | C24: 0 | E24: Tenis Meja
A25: 2025 | B25: Wushu | C25: 0 | E25: Wushu
E26: Total Keseluruhan | F26: 29
E27: 2024 | F27: 60

Sheet 17
A1: Tahun 2025 - Daftar Klub Olahraga yang ada di Kota Probolinggo
A2: Catatan : Mohon data yang terisi dicek kembali dan direvisi bila ada yang tidak tepat
A4: tahun | B4: jenis_olahraga | C4: nama_klub_olahraga | D4: jumlah_anggota
A5: 2025 | B5: Badminton | C5: PB Covid | F5: jenis_olahraga | G5: SUM of jumlah_anggota | H5: COUNTA of jenis_olahraga
A6: 2025 | B6: Badminton | C6: PB Samator | F6: Badminton | H6: 3
A7: 2025 | B7: Badminton | C7: TORANGGA | F7: Bola Voli | H7: 13
A8: 2025 | B8: Bola Voli | C8: GARWI | F8: Futsal | H8: 1
A9: 2025 | B9: Bola Voli | C9: PERWIRA | F9: Karate | H9: 2
A10: 2025 | B10: Bola Voli | C10: PERVOB | F10: Pencak Silat | H10: 3
A11: 2025 | B11: Bola Voli | C11: Kelapa Gading | F11: Senam | H11: 3
A12: 2025 | B12: Bola Voli | C12: Lucky Mastrip | F12: Sepak Bola | H12: 8
A13: 2025 | B13: Bola Voli | C13: Pemuda GPM | F13: Sepeda santai | H13: 1
A14: 2025 | B14: Bola Voli | C14: Lambrador | F14: Tenis Meja | H14: 3
A15: 2025 | B15: Bola Voli | C15: Putra Dewa | F15: Total Keseluruhan | H15: 37
A16: 2025 | B16: Bola Voli | C16: Merpati Putra
A17: 2025 | B17: Bola Voli | C17: Lawet
A18: 2025 | B18: Bola Voli | C18: Rubestar
A19: 2025 | B19: Bola Voli | C19: Kendedes
A20: 2025 | B20: Bola Voli | C20: seroja
A21: 2025 | B21: Futsal | C21: Pemuda GPM
A22: 2025 | B22: Karate | C22: Karate
A23: 2025 | B23: Karate | C23: PARKI
A24: 2025 | B24: Pencak Silat | C24: Ibnu Alwan
A25: 2025 | B25: Pencak silat | C25: Pagar Nusa
A26: 2025 | B26: Pencak Silat | C26: Wushu
A27: 2025 | B27: Senam | C27: Senam Melati
... A41: 2025 | B41: Tenis Meja | C41: PTM (Persatuan Tenis Meja)

Sheet 18
A1: Tahun 2025 - Jumlah Gedung Olahraga Menurut Kelurahan di Kota Probolinggo
A3: tahun | B3: kode_kecamatan | C3: kecamatan | D3: kode_kelurahan | E3: kelurahan | F3: jumlah_gedung_olahraga | H3: kecamatan | I3: SUM of jumlah_gedung_olahraga
A4: 2025 | B4: 35.74.01 | C4: Kademangan | D4: 35.74.01.1001 | E4: Ketapang | H4: Kademangan
A5: 2025 | B5: 35.74.01 | C5: Kademangan | D5: 35.74.01.1002 | E5: Triwung Lor | H5: Kanigaran | I5: 1
A6: 2025 | B6: 35.74.01 | C6: Kademangan | D6: 35.74.01.1003 | E6: Triwung Kidul | H6: Kedopok | I6: 4
A7: 2025 | B7: 35.74.01 | C7: Kademangan | D7: 35.74.01.1007 | E7: Pohsangit Kidul | H7: Mayangan | I7: 1
A8: 2025 | B8: 35.74.01 | C8: Kademangan | D8: 35.74.01.1008 | E8: Kademangan | H8: Wonoasih
A9: 2025 | B9: 35.74.01 | C9: Kademangan | D9: 35.74.01.1009 | E9: Pilang | H9: Total Keseluruhan | I9: 6
A10: 2025 | B10: 35.74.02 | C10: Wonoasih | D10: 35.74.02.1001 | E10: Jrebeng Kidul | H10: 2024 | I10: 5
A11: 2025 | B11: 35.74.02 | C11: Wonoasih | D11: 35.74.02.1002 | E11: Pakistaji
A12: 2025 | B12: 35.74.02 | C12: Wonoasih | D12: 35.74.02.1003 | E12: Kedunggaleng
A13: 2025 | B13: 35.74.02 | C13: Wonoasih | D13: 35.74.02.1005 | E13: Kedung Asem
A14: 2025 | B14: 35.74.02 | C14: Wonoasih | D14: 35.74.02.1006 | E14: Sumber Taman
A15: 2025 | B15: 35.74.02 | C15: Wonoasih | D15: 35.74.02.1007 | E15: Wonoasih
A16: 2025 | B16: 35.74.03 | C16: Mayangan | D16: 35.74.03.1001 | E16: Mayangan
A17: 2025 | B17: 35.74.03 | C17: Mayangan | D17: 35.74.03.1002 | E17: Mangunharjo | F17: 1
A18: 2025 | B18: 35.74.03 | C18: Mayangan | D18: 35.74.03.1004 | E18: Jati
A19: 2025 | B19: 35.74.03 | C19: Mayangan | D19: 35.74.03.1007 | E19: Sukabumi
A20: 2025 | B20: 35.74.03 | C20: Mayangan | D20: 35.74.03.1010 | E20: Wiroborang
A21: 2025 | B21: 35.74.04 | C21: Kanigaran | D21: 35.74.04.1001 | E21: Tisnonegaran | F21: 1
A22: 2025 | B22: 35.74.04 | C22: Kanigaran | D22: 35.74.04.1002 | E22: Sukoharjo
A23: 2025 | B23: 35.74.04 | C23: Kanigaran | D23: 35.74.04.1003 | E23: Kanigaran
A24: 2025 | B24: 35.74.04 | C24: Kanigaran | D24: 35.74.04.1004 | E24: Kebonsari Wetan
A25: 2025 | B25: 35.74.04 | C25: Kanigaran | D25: 35.74.04.1005 | E25: Curahgrinting
A26: 2025 | B26: 35.74.04 | C26: Kanigaran | D26: 35.74.04.1006 | E26: Kebonsari Kulon
A27: 2025 | B27: 35.74.05 | C27: Kedopok | D27: 35.74.05.1001 | E27: Jrebeng Kulon
A28: 2025 | B28: 35.74.05 | C28: Kedopok | D28: 35.74.05.1002 | E28: Kareng Lor
A29: 2025 | B29: 35.74.05 | C29: Kedopok | D29: 35.74.05.1003 | E29: Sumber Wetan
A30: 2025 | B30: 35.74.05 | C30: Kedopok | D30: 35.74.05.1004 | E30: Jrebeng Lor | F30: 1
A31: 2025 | B31: 35.74.05 | C31: Kedopok | D31: 35.74.05.1005 | E31: Kedopok | F31: 3
A32: 2025 | B32: 35.74.05 | C32: Kedopok | D32: 35.74.05.1006 | E32: Jrebeng Wetan

Sheet 19
A1: Tahun 2025 - Daftar Gedung Olahraga yang ada di Kota Probolinggo
A2: Catatan : Mohon data yang terisi dicek kembali dan direvisi bila ada yang tidak tepat
A4: tahun | B4: kode_kecamatan | C4: kecamatan | D4: kode_kelurahan | E4: kelurahan | F4: nama_gedung | G4: jenis_olahraga | H4: alamat | I4: latitude | J4: longitude | K4: kondisi | L4: status_kepemilikikan | M4: kapasitas | O4: kecamatan | P4: COUNTA of nama_gedung
A5: 2025 | B5: 35.74.05 | C5: Kedopok | D5: 35.74.05.1005 | E5: Kedopok | F5: GOR Mastrip | G5: Bola Voli, Futsal, Badminton | H5: Jalan Mastrip | I5: -7,784972491447899 | J5: 113,21217236621135 | K5: Baik | L5: Aset | M5: 2000 | O5: Kanigaran | P5: 1
A6: 2025 | B6: 35.74.04 | C6: Kanigaran | D6: 35.74.04.1001 | E6: Tisnonegaran | F6: Gor A. Yani | G6: Bola Voli, Futsal, Badminton | H6: Jalan dr. soetomo | I6: -7,751161660172399 | J6: 113,21716450892900 | K6: Baik | L6: Aset | M6: 1000 | O6: Kedopok | P6: 1
A7: 2025 | B7: 35.74.03 | C7: Mayangan | D7: 35.74.03.1002 | E7: Mangunharjo | F7: GOR Tri Dharma | G7: Bola Voli, Futsal, Badminton | H7: Jalan Wr. Supratman | I7: -7,746804558510815 | J7: 113,22048651294419 | K7: Baik | L7: Swasta | M7: 1000 | O7: Mayangan | P7: 1
O8: Total Keseluruhan | P8: 3
O10: 2024 | P10: 3

Sheet 20
A1: Tahun 2025 - Jumlah Organisasi Kepemudaan Menurut Kelurahan di Kota Probolinggo
A3: tahun | B3: kode_kecamatan | C3: kecamatan | D3: kode_kelurahan | E3: kelurahan | F3: jumlah_organisasi_kepemudaan | H3: kecamatan | I3: SUM of jumlah_organisasi_kepemudaan
A4: 2025 | B4: 35.74.01 | C4: Kademangan | D4: 35.74.01.1001 | E4: Ketapang | H4: Kademangan
A5: 2025 | B5: 35.74.01 | C5: Kademangan | D5: 35.74.01.1002 | E5: Triwung Lor | H5: Kanigaran
A6: 2025 | B6: 35.74.01 | C6: Kademangan | D6: 35.74.01.1003 | E6: Triwung Kidul | H6: Kedopok
A7: 2025 | B7: 35.74.01 | C7: Kademangan | D7: 35.74.01.1007 | E7: Pohsangit Kidul | H7: Mayangan
A8: 2025 | B8: 35.74.01 | C8: Kademangan | D8: 35.74.01.1008 | E8: Kademangan | H8: Wonoasih
A9: 2025 | B9: 35.74.01 | C9: Kademangan | D9: 35.74.01.1009 | E9: Pilang | H9: Total Keseluruhan
A10: 2025 | B10: 35.74.02 | C10: Wonoasih | D10: 35.74.02.1001 | E10: Jrebeng Kidul | H10: 2024 | I10: 29
A11: 2025 | B11: 35.74.02 | C11: Wonoasih | D11: 35.74.02.1002 | E11: Pakistaji
A12: 2025 | B12: 35.74.02 | C12: Wonoasih | D12: 35.74.02.1003 | E12: Kedunggaleng
A13: 2025 | B13: 35.74.02 | C13: Wonoasih | D13: 35.74.02.1005 | E13: Kedung Asem
A14: 2025 | B14: 35.74.02 | C14: Wonoasih | D14: 35.74.02.1006 | E14: Sumber Taman
A15: 2025 | B15: 35.74.02 | C15: Wonoasih | D15: 35.74.02.1007 | E15: Wonoasih
A16: 2025 | B16: 35.74.03 | C16: Mayangan | D16: 35.74.03.1001 | E16: Mayangan
A17: 2025 | B17: 35.74.03 | C17: Mayangan | D17: 35.74.03.1002 | E17: Mangunharjo
A18: 2025 | B18: 35.74.03 | C18: Mayangan | D18: 35.74.03.1004 | E18: Jati
A19: 2025 | B19: 35.74.03 | C19: Mayangan | D19: 35.74.03.1007 | E19: Sukabumi
A20: 2025 | B20: 35.74.03 | C20: Mayangan | D20: 35.74.03.1010 | E20: Wiroborang
A21: 2025 | B21: 35.74.04 | C21: Kanigaran | D21: 35.74.04.1001 | E21: Tisnonegaran
A22: 2025 | B22: 35.74.04 | C22: Kanigaran | D22: 35.74.04.1002 | E22: Sukoharjo
... A32: 2025 | B32: 35.74.05 | C32: Kedopok | D32: 35.74.05.1006 | E32: Jrebeng Wetan

Sheet 21
A1: Tahun 2025 - Daftar Organisasi Kepemudaan yang ada di Kota Probolinggo
A3: tahun | B3: kode_kecamatan | C3: kecamatan | D3: kode_kelurahan | E3: kelurahan | F3: nama_organisasi | G3: alamat | H3: latitude | I3: longitude | J3: status | K3: jumlah_anggota
A4: 2025 | B4: 35.74.01 | C4: Kademangan | D4: 35.74.01.1001 | E4: Ketapang | M4: kecamatan | N4: COUNTA of nama_organisasi | O4: SUM of jumlah_anggota
A5: 2025 | B5: 35.74.01 | C5: Kademangan | D5: 35.74.01.1002 | E5: Triwung Lor | M5: Kademangan
A6: 2025 | B6: 35.74.01 | C6: Kademangan | D6: 35.74.01.1003 | E6: Triwung Kidul | M6: Kanigaran
A7: 2025 | B7: 35.74.01 | C7: Kademangan | D7: 35.74.01.1007 | E7: Pohsangit Kidul | M7: Kedopok
A8: 2025 | B8: 35.74.01 | C8: Kademangan | D8: 35.74.01.1008 | E8: Kademangan | M8: Mayangan
A9: 2025 | B9: 35.74.01 | C9: Kademangan | D9: 35.74.01.1009 | E9: Pilang | M9: Wonoasih
A10: 2025 | B10: 35.74.02 | C10: Wonoasih | D10: 35.74.02.1001 | E10: Jrebeng Kidul | M10: Total Keseluruhan
A11: 2025 | B11: 35.74.02 | C11: Wonoasih | D11: 35.74.02.1002 | E11: Pakistaji
A12: 2025 | B12: 35.74.02 | C12: Wonoasih | D12: 35.74.02.1003 | E12: Kedunggaleng
A13: 2025 | B13: 35.74.02 | C13: Wonoasih | D13: 35.74.02.1005 | E13: Kedung Asem
A14: 2025 | B14: 35.74.02 | C14: Wonoasih | D14: 35.74.02.1006 | E14: Sumber Taman
A15: 2025 | B15: 35.74.02 | C15: Wonoasih | D15: 35.74.02.1007 | E15: Wonoasih
A16: 2025 | B16: 35.74.03 | C16: Mayangan | D16: 35.74.03.1001 | E16: Mayangan
A17: 2025 | B17: 35.74.03 | C17: Mayangan | D17: 35.74.03.1001 | E17: Mayangan
A18: 2025 | B18: 35.74.03 | C18: Mayangan | D18: 35.74.03.1002 | E18: Mangunharjo
A19: 2025 | B19: 35.74.03 | C19: Mayangan | D19: 35.74.03.1002 | E19: Mangunharjo
A20: 2025 | B20: 35.74.03 | C20: Mayangan | D20: 35.74.03.1002 | E20: Mangunharjo
A21: 2025 | B21: 35.74.03 | C21: Mayangan | D21: 35.74.03.1004 | E21: Jati
A22: 2025 | B22: 35.74.03 | C22: Mayangan | D22: 35.74.03.1007 | E22: Sukabumi
... A49: 2025 | B49: 35.74.05 | C49: Kedopok | D49: 35.74.05.1006 | E49: Jrebeng Wetan

Sheet 22
A1: Tahun 2025 - Jumlah Organisasi Olahraga Menurut Kelurahan di Kota Probolinggo
A3: tahun | B3: kode_kecamatan | C3: kecamatan | D3: kode_kelurahan | E3: kelurahan | F3: jumlah_organisasi_olahraga | H3: kecamatan | I3: SUM of jumlah_organisasi_olahraga
A4: 2025 | B4: 35.74.01 | C4: Kademangan | D4: 35.74.01.1001 | E4: Ketapang | F4: 2 | H4: Kademangan | I4: 4
A5: 2025 | B5: 35.74.01 | C5: Kademangan | D5: 35.74.01.1002 | E5: Triwung Lor | F5: 1 | H5: Kanigaran | I5: 15
A6: 2025 | B6: 35.74.01 | C6: Kademangan | D6: 35.74.01.1003 | E6: Triwung Kidul | H6: Kedopok | I6: 12
A7: 2025 | B7: 35.74.01 | C7: Kademangan | D7: 35.74.01.1007 | E7: Pohsangit Kidul | H7: Mayangan | I7: 10
A8: 2025 | B8: 35.74.01 | C8: Kademangan | D8: 35.74.01.1008 | E8: Kademangan | H8: Wonoasih | I8: 3
A9: 2025 | B9: 35.74.01 | C9: Kademangan | D9: 35.74.01.1009 | E9: Pilang | F9: 1 | H9: Total Keseluruhan | I9: 44
A10: 2025 | B10: 35.74.02 | C10: Wonoasih | D10: 35.74.02.1001 | E10: Jrebeng Kidul | F10: 1 | H10: 2024 | I10: 44
A11: 2025 | B11: 35.74.02 | C11: Wonoasih | D11: 35.74.02.1002 | E11: Pakistaji | F11: 1
A12: 2025 | B12: 35.74.02 | C12: Wonoasih | D12: 35.74.02.1003 | E12: Kedunggaleng | F12: 1
A13: 2025 | B13: 35.74.02 | C13: Wonoasih | D13: 35.74.02.1005 | E13: Kedung Asem
A14: 2025 | B14: 35.74.02 | C14: Wonoasih | D14: 35.74.02.1006 | E14: Sumber Taman
A15: 2025 | B15: 35.74.02 | C15: Wonoasih | D15: 35.74.02.1007 | E15: Wonoasih
A16: 2025 | B16: 35.74.03 | C16: Mayangan | D16: 35.74.03.1001 | E16: Mayangan | F16: 1
A17: 2025 | B17: 35.74.03 | C17: Mayangan | D17: 35.74.03.1002 | E17: Mangunharjo | F17: 4
A18: 2025 | B18: 35.74.03 | C18: Mayangan | D18: 35.74.03.1004 | E18: Jati
A19: 2025 | B19: 35.74.03 | C19: Mayangan | D19: 35.74.03.1007 | E19: Sukabumi | F19: 5
A20: 2025 | B20: 35.74.03 | C20: Mayangan | D20: 35.74.03.1010 | E20: Wiroborang
A21: 2025 | B21: 35.74.04 | C21: Kanigaran | D21: 35.74.04.1001 | E21: Tisnonegaran | F21: 4
A22: 2025 | B22: 35.74.04 | C22: Kanigaran | D22: 35.74.04.1002 | E22: Sukoharjo
A23: 2025 | B23: 35.74.04 | C23: Kanigaran | D23: 35.74.04.1003 | E23: Kanigaran | F23: 1
A24: 2025 | B24: 35.74.04 | C24: Kanigaran | D24: 35.74.04.1004 | E24: Kebonsari Wetan
A25: 2025 | B25: 35.74.04 | C25: Kanigaran | D25: 35.74.04.1005 | E25: Curahgrinting | F25: 3
A26: 2025 | B26: 35.74.04 | C26: Kanigaran | D26: 35.74.04.1006 | E26: Kebonsari Kulon | F26: 7
A27: 2025 | B27: 35.74.05 | C27: Kedopok | D27: 35.74.05.1001 | E27: Jrebeng Kulon | F27: 1
A28: 2025 | B28: 35.74.05 | C28: Kedopok | D28: 35.74.05.1002 | E28: Kareng Lor
A29: 2025 | B29: 35.74.05 | C29: Kedopok | D29: 35.74.05.1003 | E29: Sumber Wetan | F29: 1
A30: 2025 | B30: 35.74.05 | C30: Kedopok | D30: 35.74.05.1004 | E30: Jrebeng Lor | F30: 1
A31: 2025 | B31: 35.74.05 | C31: Kedopok | D31: 35.74.05.1005 | E31: Kedopok | F31: 8
A32: 2025 | B32: 35.74.05 | C32: Kedopok | D32: 35.74.05.1006 | E32: Jrebeng Wetan | F32: 1

Sheet 23
A1: Tahun 2024 - Daftar Organisasi Olahraga yang ada di Kota Probolinggo
A3: tahun | B3: kode_kecamatan | C3: kecamatan | D3: kode_kelurahan | E3: kelurahan | F3: nama_organisasi | G3: alamat | H3: latitude | I3: longitude | J3: status | K3: jumlah_anggota | M3: kecamatan | N3: COUNTA of nama_organisasi
A4: 2025 | B4: 35.74.01 | C4: Kademangan | D4: 35.74.01.1001 | E4: Ketapang | M4: Kademangan
A5: 2025 | B5: 35.74.01 | C5: Kademangan | D5: 35.74.01.1001 | E5: Ketapang | M5: Kanigaran
A6: 2025 | B6: 35.74.01 | C6: Kademangan | D6: 35.74.01.1002 | E6: Triwung Lor | M6: Kedopok
A7: 2025 | B7: 35.74.01 | C7: Kademangan | D7: 35.74.01.1003 | E7: Triwung Kidul | M7: Mayangan
A8: 2025 | B8: 35.74.01 | C8: Kademangan | D8: 35.74.01.1007 | E8: Pohsangit Kidul | M8: Wonoasih
A9: 2025 | B9: 35.74.01 | C9: Kademangan | D9: 35.74.01.1008 | E9: Kademangan | M9: Total Keseluruhan
A10: 2025 | B10: 35.74.01 | C10: Kademangan | D10: 35.74.01.1009 | E10: Pilang | M10: 2024 | N10: 44
A11: 2025 | B11: 35.74.02 | C11: Wonoasih | D11: 35.74.02.1001 | E11: Jrebeng Kidul
A12: 2025 | B12: 35.74.02 | C12: Wonoasih | D12: 35.74.02.1002 | E12: Pakistaji
A13: 2025 | B13: 35.74.02 | C13: Wonoasih | D13: 35.74.02.1003 | E13: Kedunggaleng
A14: 2025 | B14: 35.74.02 | C14: Wonoasih | D14: 35.74.02.1005 | E14: Kedung Asem
A15: 2025 | B15: 35.74.02 | C15: Wonoasih | D15: 35.74.02.1006 | E15: Sumber Taman
A16: 2025 | B16: 35.74.02 | C16: Wonoasih | D16: 35.74.02.1007 | E16: Wonoasih
A17: 2025 | B17: 35.74.03 | C17: Mayangan | D17: 35.74.03.1001 | E17: Mayangan
A18: 2025 | B18: 35.74.03 | C18: Mayangan | D18: 35.74.03.1002 | E18: Mangunharjo
A19: 2025 | B19: 35.74.03 | C19: Mayangan | D19: 35.74.03.1002 | E19: Mangunharjo
A20: 2025 | B20: 35.74.03 | C20: Mayangan | D20: 35.74.03.1002 | E20: Mangunharjo
A21: 2025 | B21: 35.74.03 | C21: Mayangan | D21: 35.74.03.1002 | E21: Mangunharjo
A22: 2025 | B22: 35.74.03 | C22: Mayangan | D22: 35.74.03.1004 | E22: Jati
... A58: 2025 | B58: 35.74.05 | C58: Kedopok | D58: 35.74.05.1006 | E58: Jrebeng Wetan

Sheet 24
A1: Tahun 2024 - Daftar Kegiatan Kepemudaan yang dilaksanakan di Kota Probolinggo
A3: tahun | B3: nama_kegiatan | C3: tempat_penyelenggaraan | D3: jumlah_peserta | F3: tahun | G3: COUNTA of nama_kegiatan
A4: 2025 | F4: 2025
A5: 2025 | F5: Total Keseluruhan
A6: 2025 | F6: 2024 | G6: 2
A7: 2025
A8: 2025
A9: 2025
A10: 2025

Sheet 25
A2: Tahun 2025 - Daftar Kegiatan Olahraga yang dilaksanakan di Kota Probolinggo
A5: tahun | B5: nama_kegiatan | C5: tempat_penyelenggaraan | D5: jumlah_peserta | F5: tahun | G5: COUNTA of nama_kegiatan
A6: 2025 | B6: Liga Sepak Bola Pelajar | C6: Stadion Bayuangga | D6: 15 | F6: 2025 | G6: 2
A7: 2025 | B7: Olahraga Tradisional Tingkat SMP | C7: Gor A. Yani | D7: 20 | F7: Total Keseluruhan | G7: 2
A8: 2025
A9: 2025 | F9: 2024 | G9: 8
A10: 2025
A11: 2025
A12: 2025
A13: 2025

Sheet 26
A1: Tahun 2025 - Jumlah Usaha Makanan dan Minimum Menurut Jenis Usaha dan Kelurahan di Kota Probolinggo
A3: tahun | B3: kode_kecamatan | C3: kecamatan | D3: kode_kelurahan | E3: kelurahan | F3: jenis_usaha | G3: jumlah | I3: SUM of jumlah | J3: jenis_usaha
A4: 2025 | B4: 35.74.01 | C4: Kademangan | D4: 35.74.01.1001 | E4: Ketapang | F4: Restoran | G4: 0 | I4: kecamatan | J4: Bar/Rumah Minum | K4: Jasa Boga/Katering | L4: Kafe | M4: Pusat Penjualan Makanan | N4: Restoran | O4: Rumah Makan | P4: Total Keseluruhan
A5: 2025 | B5: 35.74.01 | C5: Kademangan | D5: 35.74.01.1001 | E5: Ketapang | F5: Rumah Makan | G5: 3 | I5: Kademangan | J5: 0 | K5: 26 | L5: 13 | M5: 0 | N5: 2 | O5: 15 | P5: 56
A6: 2025 | B6: 35.74.01 | C6: Kademangan | D6: 35.74.01.1001 | E6: Ketapang | F6: Bar/Rumah Minum | G6: 0 | I6: Kanigaran | J6: 0 | K6: 61 | L6: 34 | M6: 6 | N6: 14 | O6: 59 | P6: 174
A7: 2025 | B7: 35.74.01 | C7: Kademangan | D7: 35.74.01.1001 | E7: Ketapang | F7: Kafe | G7: 7 | I7: Kedopok | J7: 0 | K7: 59 | L7: 10 | M7: 1 | N7: 0 | O7: 16 | P7: 86
A8: 2025 | B8: 35.74.01 | C8: Kademangan | D8: 35.74.01.1001 | E8: Ketapang | F8: Jasa Boga/Katering | G8: 3 | I8: Mayangan | J8: 0 | K8: 48 | L8: 32 | M8: 2 | N8: 19 | O8: 90 | P8: 191
A9: 2025 | B9: 35.74.01 | C9: Kademangan | D9: 35.74.01.1001 | E9: Ketapang | F9: Pusat Penjualan Makanan | G9: 0 | I9: Wonoasih | J9: 0 | K9: 28 | L9: 2 | M9: 0 | N9: 0 | O9: 9 | P9: 39
A10: 2025 | B10: 35.74.01 | C10: Kademangan | D10: 35.74.01.1002 | E10: Triwung Lor | F10: Restoran | G10: 2 | I10: Total Keseluruhan | J10: 0 | K10: 222 | L10: 91 | M10: 9 | N10: 35 | O10: 189 | P10: 546
A11: 2025 | B11: 35.74.01 | C11: Kademangan | D11: 35.74.01.1002 | E11: Triwung Lor | F11: Rumah Makan | G11: 0 | I11: 2024 | J11: 0 | K11: 224 | L11: 86 | M11: 10 | N11: 32 | O11: 176 | P11: 528
A12: 2025 | B12: 35.74.01 | C12: Kademangan | D12: 35.74.01.1002 | E12: Triwung Lor | F12: Bar/Rumah Minum | G12: 0 | I12: sheet 27 | N12: ='27'!N8 -> 35
A13: 2025 | B13: 35.74.01 | C13: Kademangan | D13: 35.74.01.1002 | E13: Triwung Lor | F13: Kafe | G13: 3 | I13: sheet 28 | O13: ='28'!N10 -> 189
A14: 2025 | B14: 35.74.01 | C14: Kademangan | D14: 35.74.01.1002 | E14: Triwung Lor | F14: Jasa Boga/Katering | G14: 4 | I14: sheet 29 | L14: ='29'!L10 -> 91
A15: 2025 | B15: 35.74.01 | C15: Kademangan | D15: 35.74.01.1002 | E15: Triwung Lor | F15: Pusat Penjualan Makanan | G15: 0 | I15: sheet 30 | K15: ='30'!L10 -> 222
A16: 2025 | B16: 35.74.01 | C16: Kademangan | D16: 35.74.01.1003 | E16: Triwung Kidul | F16: Restoran | G16: 0 | I16: sheet 31 | M16: ='31'!C20 -> 9
A17: 2025 | B17: 35.74.01 | C17: Kademangan | D17: 35.74.01.1003 | E17: Triwung Kidul | F17: Rumah Makan | G17: 6
A18: 2025 | B18: 35.74.01 | C18: Kademangan | D18: 35.74.01.1003 | E18: Triwung Kidul | F18: Bar/Rumah Minum | G18: 0
A19: 2025 | B19: 35.74.01 | C19: Kademangan | D19: 35.74.01.1003 | E19: Triwung Kidul | F19: Kafe | G19: 0
A20: 2025 | B20: 35.74.01 | C20: Kademangan | D20: 35.74.01.1003 | E20: Triwung Kidul | F20: Jasa Boga/Katering | G20: 3
A21: 2025 | B21: 35.74.01 | C21: Kademangan | D21: 35.74.01.1003 | E21: Triwung Kidul | F21: Pusat Penjualan Makanan | G21: 0
A22: 2025 | B22: 35.74.01 | C22: Kademangan | D22: 35.74.01.1007 | E22: Pohsangit Kidul | F22: Restoran | G22: 0
A23: 2025 | B23: 35.74.01 | C23: Kademangan | D23: 35.74.01.1007 | E23: Pohsangit Kidul | F23: Rumah Makan | G23: 0
A24: 2025 | B24: 35.74.01 | C24: Kademangan | D24: 35.74.01.1007 | E24: Pohsangit Kidul | F24: Bar/Rumah Minum | G24: 0
A25: 2025 | B25: 35.74.01 | C25: Kademangan | D25: 35.74.01.1007 | E25: Pohsangit Kidul | F25: Kafe | G25: 0
A26: 2025 | B26: 35.74.01 | C26: Kademangan | D26: 35.74.01.1007 | E26: Pohsangit Kidul | F26: Jasa Boga/Katering | G26: 3
A27: 2025 | B27: 35.74.01 | C27: Kademangan | D27: 35.74.01.1007 | E27: Pohsangit Kidul | F27: Pusat Penjualan Makanan | G27: 0
A28: 2025 | B28: 35.74.01 | C28: Kademangan | D28: 35.74.01.1008 | E28: Kademangan | F28: Restoran | G28: 0
... A177: 2025 | B177: 35.74.05 | C177: Kedopok | D177: 35.74.05.1006 | E177: Jrebeng Wetan | F177: Pusat Penjualan Makanan | G177: 0

Sheet 27
A1: Tahun 2025 - Daftar Usaha Restoran di Kota Probolinggo
A2: Catatan : Mohon data yang terisi dicek kembali dan direvisi bila ada yang tidak tepat
A4: tahun | B4: kode_kecamatan | C4: kecamatan | D4: kode_kelurahan | E4: kelurahan | F4: nama_restoran | G4: alamat | H4: latitude | I4: longitude | J4: nomor_telepon | K4: pemilik_pengelola | M4: kecamatan | N4: COUNTA of nama_restoran
A5: 2025 | B5: 35.74.01 | C5: Kademangan | D5: 35.74.01.1002 | E5: Triwung Lor | F5: Chill Coffee & Eatery | G5: Jl. Raya Bromo Kel. Triwung Lor Kec. Kademangan | J5: 0822-2844-0466 | M5: Kademangan | N5: 2
A6: 2025 | B6: 35.74.01 | C6: Kademangan | D6: 35.74.01.1002 | E6: Triwung Lor | F6: Garden City | G6: Jl. Bromo Km 3 No.62 Kel. Triwung Lor Kec. Kademangan | J6: 0821-4568-7989 | K6: Wahyu | M6: Kanigaran | N6: 14
A7: 2025 | B7: 35.74.04 | C7: Kanigaran | D7: 35.74.04.1003 | E7: Kanigaran | F7: Noe Coffee | G7: Perumahan Asabri Blok F No.247 Kel. Kanigaran Kec. Kanigaran | J7: 0852-5840-1676 | M7: Mayangan | N7: 19
A8: 2025 | B8: 35.74.04 | C8: Kanigaran | D8: 35.74.04.1006 | E8: Kebonsari Kulon | F8: Quatro | G8: Jl. Panglima Sudirman No.327 Kel. Kebonsari Kulon Kec. Kanigaran | J8: 0813-3150-8224 | K8: Hardian Prayoga | M8: Total Keseluruhan | N8: 35
