Workbook

Sheet Daftar Data
A1: Nomor Tabel | B1: Daftar Data | N1: 2024 | O1: 2025
A2: 10 | B2: Potensi Wisata di Kota Probolinggo Tahun 2025 | C2: RKPD | E2: Tahunan | F2: 1 | G2: mohon diperbaiki datanya, jika memang tidak ada atau datanya ganda, mohon dihapus salah satu | N2: v | O2: -
A3: 11 | B3: Jumlah Akomodasi Menurut Kecamatan di Kota Probolinggo Tahun 2025 | E3: Tahunan | F3: 1 | N3: v | O3: -
A4: 12 | B4: Daftar Nama dan Alamat Akomodasi dan Hotel di Kota Probolinggo Tahun 2025 | C4: BPS | E4: Tahunan | F4: 1 | N4: v | O4: -
A5: 13 | B5: Jumlah Kamar Hotel/Akomodasi Lainnya di Kota Probolinggo Tahun 2025 | C5: BPS | E5: Tahunan | F5: 1 | N5: v | O5: -
A6: 14 | B6: Jumlah Lapangan Olahraga Menurut Kelurahan di Kota Probolinggo Tahun 2025 | C6: RKPD | E6: Tahunan | F6: 1 | N6: v | O6: -
A7: 15 | B7: Daftar Lapangan Olahraga yang ada di Kota Probolinggo Tahun 2025 | E7: Tahunan | F7: 1 | N7: v | O7: -
A8: 16 | B8: Jumlah Klub Olahraga Menurut Jenis Olahraga di Kota Probolinggo Tahun 2025 | C8: RKPD | E8: Tahunan | F8: 2 | N8: v | O8: -
A9: 17 | B9: Daftar Klub Olahraga yang ada di Kota Probolinggo Tahun 2025 | E9: Tahunan | N9: v | O9: -
A10: 18 | B10: Jumlah Gedung Olahraga Menurut Kelurahan di Kota Probolinggo Tahun 2025 | C10: RKPD | E10: Tahunan | F10: 1 | N10: v | O10: -
A11: 19 | B11: Daftar Gedung Olahraga yang ada di Kota Probolinggo Tahun 2025 | E11: Tahunan | F11: 1 | N11: v | O11: -
A12: 20 | B12: Jumlah Organisasi Kepemudaan Menurut Kelurahan di Kota Probolinggo Tahun 2025 | C12: RKPD | E12: Tahunan | N12: v | O12: -
A13: 21 | B13: Daftar Organisasi Kepemudaan yang ada di Kota Probolinggo Tahun 2025 | E13: Tahunan | N13: v | O13: -
A14: 22 | B14: Jumlah Organisasi Olahraga Menurut Kelurahan di Kota Probolinggo Tahun 2025 | C14: RKPD | E14: Tahunan | F14: 2 | N14: v | O14: -
A15: 23 | B15: Daftar Organisasi Olahraga yang ada di Kota Probolinggo Tahun 2025 | E15: Tahunan | N15: v | O15: -
A16: 24 | B16: Daftar Kegiatan Kepemudaan yang dilaksanakan di Kota Probolinggo Tahun 2025 | C16: RKPD | E16: Tahunan | N16: v | O16: -
A17: 25 | B17: Daftar Kegiatan Olahraga yang dilaksanakan di Kota Probolinggo Tahun 2025 | C17: RKPD | E17: Tahunan | F17: 1 | N17: v | O17: -
A18: 26 | B18: Jumlah Usaha Makanan dan Minuman Menurut Jenis Usaha dan Kelurahan di Kota Probolinggo Tahun 2025 | C18: BPS | E18: Tahunan | F18: 1 | N18: v | O18: -
A19: 27 | B19: Daftar Usaha Restoran di Kota Probolinggo Tahun 2025 | E19: Tahunan | F19: 1 | N19: v | O19: -
A20: 28 | B20: Daftar Usaha Rumah Makan di Kota Probolinggo Tahun 2025 | E20: Tahunan | F20: 1 | N20: v | O20: -
A21: 29 | B21: Daftar Usaha Kafe di Kota Probolinggo Tahun 2025 | E21: Tahunan | F21: 1 | N21: v | O21: -
A22: 30 | B22: Daftar Usaha Catering di Kota Probolinggo Tahun 2025 | E22: Tahunan | F22: 1 | N22: v | O22: -
A23: 31 | B23: Daftar Usaha Pusat Makanan di Kota Probolinggo Tahun 2025 | E23: Tahunan | F23: 1 | N23: v | O23: -
A24: 32 | B24: Jumlah Usaha Jasa Perjalanan Wisata di Kota Probolinggo Tahun 2025 | E24: Tahunan | F24: 1 | G24: jumlah Biro Perjalanan Wisata tidak sama dengan sheet 33 | N24: v | O24: -
A25: 33 | B25: Daftar Usaha Biro Perjalanan Wisata di Kota Probolinggo Tahun 2025 | E25: Tahunan | F25: 1 | G25: jumlah Biro Perjalanan Wisata tidak sama dengan sheet 32 | N25: v | O25: -
A26: 34 | B26: Daftar Usaha Agen Perjalanan Wisata di Kota Probolinggo Tahun 2025 | E26: Tahunan | F26: 1 | N26: v | O26: -
A27: 35 | B27: Jumlah Usaha Jasa Transportasi Wisata di Kota Probolinggo Tahun 2025 | E27: Tahunan | F27: 1 | N27: v | O27: -
A28: 36 | B28: Daftar Jasa Transportasi Wisata di Kota Probolinggo Tahun 2025 | E28: Tahunan | F28: 1 | N28: v | O28: -
A29: 37 | B29: Jumlah Usaha Rumah Kos Menurut Kelurahan di Kota Probolinggo Tahun 2025 | E29: Tahunan | F29: 1 | N29: v | O29: -
A30: 38 | B30: Daftar Usaha Rumah Kos di Kota Probolinggo Tahun 2025 | E30: Tahunan | F30: 1 | N30: v | O30: -
A31: 39 | B31: Jumlah Usaha Wisata Tirta Menurut Kelurahan di Kota Probolinggo Tahun 2025 | E31: Tahunan | F31: 1 | N31: v | O31: -
A32: 40 | B32: Daftar Usaha Wisata Memancing di Kota Probolinggo Tahun 2025 | E32: Tahunan | F32: 1 | N32: v | O32: -
A33: 41 | B33: Daftar Usaha Wisata Olahraga Tirta di Kota Probolinggo Tahun 2025 | E33: Tahunan | F33: 1 | N33: v | O33: -
A34: 42 | B34: Jumlah Usaha Spa Menurut Kelurahan di Kota Probolinggo Tahun 2025 | E34: Tahunan | F34: 1 | N34: v | O34: -
A35: 43 | B35: Daftar Usaha Spa di Kota Probolinggo Tahun 2025 | E35: Tahunan | F35: 1 | N35: v | O35: -
A36: 44 | B36: Jumlah Jasa Impresariat (Promotor) Menurut Kelurahan di Kota Probolinggo Tahun 2025 | E36: Tahunan | F36: 1 | N36: v | O36: -
A37: 45 | B37: Daftar Usaha Jasa Impresariat (Promotor) di Kota Probolinggo Tahun 2025 | E37: Tahunan | F37: 1 | N37: v | O37: -
... A39: 47 | B39: Jumlah Usaha Kegiatan Hiburan dan Rekreasi Menurut Jenis Usaha dan Kelurahan di Kota Probolinggo | E39: Tahunan | F39: 1 | N39: v | O39: -
A40: 48 | B40: Jumlah Usaha Taman Rekreasi Menurut Kelurahan di Kota Probolinggo Tahun 2025 | E40: Tahunan | F40: 1 | G40: Jumlah Arena Permainan berbeda dengan sheet 51 dan 52 | N40: v | O40: -
A41: 49 | B41: Daftar Taman Bertema di Kota Probolinggo Tahun 2025 | E41: Tahunan | F41: 1 | N41: v | O41: -
A42: 50 | B42: Daftar Taman Rekreasi di Kota Probolinggo Tahun 2025 | E42: Tahunan | F42: 1 | N42: v | O42: -
A43: 51 | B43: Jumlah Arena Permainan Menurut Kelurahan di Kota Probolinggo Tahun 2025 | E43: Tahunan | F43: 1 | N43: v | O43: -
A44: 52 | B44: Daftar Arena Permainan di Kota Probolinggo Tahun 2025 | E44: Tahunan | F44: 1 | N44: v | O44: -
A45: 53 | B45: Jumlah Panti / Rumah Pijat Menurut Kelurahan di Kota Probolinggo Tahun 2025 | E45: Tahunan | F45: 1 | N45: v | O45: -
A46: 54 | B46: Daftar Panti/Rumah Pijat di Kota Probolinggo Tahun 2025 | E46: Tahunan | F46: 1 | N46: v | O46: -
A47: 55 | B47: Jumlah Kelompok Sadar Wisata (Pokdarwis) Menurut Kelurahan di Kota Probolinggo Tahun 2025 | E47: Tahunan | F47: 1 | G47: jumlah podarwis tidak sama dengan sheet 56 | N47: v | O47: -
A48: 56 | B48: Daftar Kelompok Sadar Wisata (Pokdarwis) di Kota Probolinggo Tahun 2025 | E48: Tahunan | F48: 1 | G48: jumlah podarwis tidak sama dengan sheet 55 | N48: v | O48: -
A49: 57 | B49: Jumlah Atlet Berprestasi di Kota Probolinggo Tahun 2025 | C49: RKPD | E49: Tahunan | F49: 2 | N49: - | O49: -
A50: 58 | B50: Jumlah prestasi olahraga di Kota Probolinggo Tahun 2025 | C50: RKPD | E50: Tahunan | F50: 2 | N50: - | O50: -
A51: 59 | B51: Gelanggang / Balai Remaja (selain milik swasta) Tahun 2019 - 2025 | C51: RKPD | E51: Tahunan | N51: - | O51: -
A52: 60 | B52: PAD Sektor Pariwisata Tahun 2019 - 2025 | C52: RKPD | E52: Tahunan | F52: 1 | N52: v | O52: -
A53: 61 | B53: Persentase Destinasi Wisata yang dikembangkan Tahun 2019 - 2025 | C53: RKPD | E53: Tahunan | F53: 1 | N53: v | O53: -
A54: 62 | B54: Jumlah Pelaku ekonomi kreatif Tahun 2019 - 2025 | C54: RKPD | E54: Tahunan | F54: 1 | N54: v | O54: -
A55: 63 | B55: Rata-Rata Lama Tinggal Wisatawan Tahun 2019 - 2025 | C55: IKK | E55: Tahunan | F55: 1 | N55: v | O55: -
A56: 64 | B56: Kontribusi Pariwisata terhadap PAD Tahun 2019 - 2025 | C56: RKPD | E56: Tahunan | F56: 1 | N56: v | O56: -
A57: 65 | B57: Persentase Peningkatan Angka Kunjungan Wisatawan | C57: IKK | F57: 1 | N57: - | O57: -
A58: 66 | B58: Persentase Peningkatan Usaha Ekonomi Kreatif | C58: IKK | F58: 1 | N58: - | O58: -
A59: 67 | B59: Rasio PDRB Penyediaan Akomodasi Makan dan Minum | C59: IKK | F59: 1 | N59: - | O59: -
A60: 68 | B60: Rasio PAD Sektor Pariwisata terhadap Total PAD | C60: IKD | F60: 2 | G60: pengisian masih belum lengkap | N60: - | O60: -
A61: 69 | B61: Persentase organisasi pemuda yang aktif | C61: RKPD | N61: - | O61: -
A62: 70 | B62: Persentase wirausaha muda | C62: RKPD | F62: 1 | N62: - | O62: -
A63: 71 | B63: Cakupan pembinaan olahraga | C63: RKPD | F63: 1 | N63: - | O63: -
A64: 72 | B64: Cakupan pembinaan atlet muda | C64: RKPD | F64: 1 | N64: - | O64: -
A66: keterangan :
B67: sudah terisi
B68: ada catatan
A70: jumlah
A71: sudah terisi | B71: =COUNTIF($F$2:$F$64,1) -> 51
A72: ada catatan | B72: =COUNTIF($F$2:$F$64,2) -> 5
A73: belum terisi | B73: =COUNTIF($F$2:$F$64,"") -> 7

Sheet 10
A1: Tahun 2025 - Potensi Wisata di Kota Probolinggo
A2: Catatan : Mohon ditambah/dikurangi bila ada perubahan
A4: tahun | B4: jenis_wisata | C4: nama_potensi_wisata | D4: alamat | F4: jenis_wisata | G4: COUNTA of jenis_wisata
A5: 2025 | B5: Wisata Alam | C5: Pantai Permata | D5: Jl. Anggrek RT.04 RW.01, Kel. Pilang Kec. Kademangan | F5: Wisata Alam | G5: 16
A6: 2025 | B6: Wisata Alam | C6: Sumber Mata Air Sentong | D6: Jl.Sunan Bonang RT.03 RW.02, Kel. Jrebeng Wetan Kec. Kedopok | F6: Wisata Buatan | G6: 30
A7: 2025 | B7: Wisata Alam | C7: Sumber Mata Air Ardi | D7: Jl. Prof Dr. Hamka, Kel. Kedopok Kec. Kedopok | F7: Wisata Budaya | G7: 2
A8: 2025 | B8: Wisata Alam | C8: Sumber Mata Air Mutiara | D8: Kel. Sumber Wetan Kec. Kedopok | F8: Wisata Budaya/Religi | G8: 11
A9: 2025 | B9: Wisata Budaya/Religi | C9: Museum Probolinggo | D9: Jl. Suroyo No.17, Kel. Tisnonegaran Kec. Kanigaran | F9: Wisata Edukasi | G9: 26
A10: 2025 | B10: Wisata Budaya/Religi | C10: Museum Dr. Saleh | D10: Jl. Dr. Saleh No.1, Kel. Tisnonegaran Kec. Kanigaran | F10: Wisata Religi | G10: 4
A11: 2025 | B11: Wisata Budaya/Religi | C11: Masjid Tiban Babussalam | D11: Jl. Soekarno Hatta, Kel. Pilang Kec. Kademangan | F11: Wisata Sejarah | G11: 1
A12: 2025 | B12: Wisata Budaya/Religi | C12: Gereja Merah | D12: Jl. Suroyo No.32, Kel. Tisnonegaran Kec. Kanigaran | F12: Total Keseluruhan | G12: 90
A13: 2025 | B13: Wisata Budaya/Religi | C13: Benteng Mayangan | D13: Jl. Ikan Paus, Kel. Mayangan Kec. Mayangan
A14: 2025 | B14: Wisata Budaya/Religi | C14: Klenteng Tri Darma Sumber Naga | D14: Jl. WR. Soepratman No.127, Kel. Mangunharjo Kec. Mayangan
A15: 2025 | B15: Wisata Budaya/Religi | C15: Masjid Agung Roudlotul Jannah | D15: Jl. KH. Agus Salim No.6, Kel. Sukabumi Kec. Mayangan | F15: 2024 | G15: 33
A16: 2025 | B16: Wisata Budaya/Religi | C16: Larung Sesaji Bumi dan Petik Laut | D16: Pelabuhan Probolinggo
A17: 2025 | B17: Wisata Budaya/Religi | C17: Kerapan Sapi Brujul | D17: Kota Probolinggo
A18: 2025 | B18: Wisata Budaya/Religi | C18: Kerapan Kambing | D18: Kota Probolinggo
A19: 2025 | B19: Wisata Budaya/Religi | C19: Kesenian Jaran Bodhag | D19: Kota Probolinggo
A20: 2025 | B20: Wisata Buatan | C20: Taman Wisata Studi Lingkungan (TWSL) | D20: Jl. Basuki Rahmad No.62, Kel. Mangunharjo Kec. Mayangan
A21: 2025 | B21: Wisata Buatan | C21: Pelabuhan Perikanan Pantai Mayangan | D21: Jl. Pelabuhan Perikanan Pantai No.1, Kel. Mangunharjo Kec. Mayangan
A22: 2025 | B22: Wisata Buatan | C22: Kolam Renang Bayuangga | D22: Jl. Hayam Wuruk, Kel. Mangunharjo Kec. Mayangan
A23: 2025 | B23: Wisata Buatan | C23: Kolam Renang Olimpic | D23: Jl. Mastrip, Kel. Kedopok Kec. Kedopok
A24: 2025 | B24: Wisata Buatan | C24: Kolam Pancing Nila | D24: Jl. Anggrek RT.07 RW.07, Kel. Sukabumi Kec. Mayangan
A25: 2025 | B25: Wisata Buatan | C25: Pasar Tugu | D25: 4 sisi ruas jalan Alun-Alun (Jl. Ahmad Yani, Jl. KH. Agus Salim, Jl. Trunojoyo, Jl. KH. Mansyur)
A26: 2025 | B26: Wisata Buatan | C26: Taman Semeru | D26: Jl. Semeru, Kel. Triwung Kidul Kec. Kademangan
A27: 2025 | B27: Wisata Buatan | C27: Taman Manula | D27: Jl. Soekarno Hatta No.137, Kel. Curahgrinting Kec. Kanigaran
... A94: 2025 | B94: Wisata Buatan | C94: Kampung Bogowonto | D94: Perumahan Mutiara Bogowonto Kel. Kareng Lor Kec. Kedopok

Sheet 11
A1: Tahun 2025 - Jumlah Akomodasi Menurut Kecamatan di Kota Probolinggo
A3: tahun | B3: kode_kecamatan | C3: kecamatan | D3: jenis_akomodasi | E3: jumlah | G3: SUM of jumlah | H3: jenis_akomodasi
A4: 2025 | B4: 35.74.01 | C4: Kademangan | D4: Hotel | E4: 3 | G4: kecamatan | H4: Hotel | I4: Hunian Wisata Senior/Lanjut Usia | J4: Motel | K4: Pondok Wisata | L4: Rumah Wisata | M4: Villa | N4: Total Keseluruhan
A5: 2025 | B5: 35.74.01 | C5: Kademangan | D5: Pondok Wisata | E5: 9 | G5: Kademangan | H5: 3 | I5: 0 | J5: 0 | K5: 9 | L5: 0 | M5: 0 | N5: 12
A6: 2025 | B6: 35.74.01 | C6: Kademangan | D6: Rumah Wisata | E6: 0 | G6: Kanigaran | H6: 4 | I6: 0 | J6: 0 | K6: 2 | L6: 0 | M6: 0 | N6: 6
A7: 2025 | B7: 35.74.01 | C7: Kademangan | D7: Villa | E7: 0 | G7: Kedopok | H7: 0 | I7: 0 | J7: 1 | K7: 1 | L7: 0 | M7: 0 | N7: 2
A8: 2025 | B8: 35.74.01 | C8: Kademangan | D8: Hunian Wisata Senior/Lanjut Usia | E8: 0 | G8: Mayangan | H8: 3 | I8: 0 | J8: 0 | K8: 17 | L8: 0 | M8: 0 | N8: 20
A9: 2025 | B9: 35.74.01 | C9: Kademangan | D9: Motel | E9: 0 | G9: Wonoasih | H9: 0 | I9: 0 | J9: 0 | K9: 0 | L9: 0 | M9: 0 | N9: 0
A10: 2025 | B10: 35.74.02 | C10: Wonoasih | D10: Hotel | E10: 0 | G10: Total Keseluruhan | H10: 10 | I10: 0 | J10: 1 | K10: 29 | L10: 0 | M10: 0 | N10: 40
A11: 2025 | B11: 35.74.02 | C11: Wonoasih | D11: Pondok Wisata | E11: 0 | G11: 2024 | H11: 10 | I11: 0 | J11: 1 | K11: 25 | L11: 0 | M11: 0 | N11: 36
A12: 2025 | B12: 35.74.02 | C12: Wonoasih | D12: Rumah Wisata | E12: 0
A13: 2025 | B13: 35.74.02 | C13: Wonoasih | D13: Villa | E13: 0
A14: 2025 | B14: 35.74.02 | C14: Wonoasih | D14: Hunian Wisata Senior/Lanjut Usia | E14: 0
A15: 2025 | B15: 35.74.02 | C15: Wonoasih | D15: Motel | E15: 0
A16: 2025 | B16: 35.74.03 | C16: Mayangan | D16: Hotel | E16: 3
A17: 2025 | B17: 35.74.03 | C17: Mayangan | D17: Pondok Wisata | E17: 17
A18: 2025 | B18: 35.74.03 | C18: Mayangan | D18: Rumah Wisata | E18: 0
A19: 2025 | B19: 35.74.03 | C19: Mayangan | D19: Villa | E19: 0
A20: 2025 | B20: 35.74.03 | C20: Mayangan | D20: Hunian Wisata Senior/Lanjut Usia | E20: 0
A21: 2025 | B21: 35.74.03 | C21: Mayangan | D21: Motel | E21: 0
A22: 2025 | B22: 35.74.04 | C22: Kanigaran | D22: Hotel | E22: 4
A23: 2025 | B23: 35.74.04 | C23: Kanigaran | D23: Pondok Wisata | E23: 2
... A33: 2025 | B33: 35.74.05 | C33: Kedopok | D33: Motel | E33: 1

Sheet 12
A1: Tahun 2025 - Daftar Nama dan Alamat Akomodasi dan Hotel di Kota Probolinggo
A2: NB : Mohon diperiksa kembali data yang sudah terisi
A4: tahun | B4: kode_kecamatan | C4: kecamatan | D4: kode_kelurahan | E4: kelurahan | F4: jenis_akomodasi | G4: nama_akomodasi | H4: kelas | I4: alamat | J4: nomor_telepon | K4: tarif | M4: COUNTA of kelas | N4: kelas
A5: 2025 | B5: 35.74.01 | C5: Kademangan | D5: 35.74.01.1001 | E5: Ketapang | F5: Pondok Wisata | G5: Bromo 22 Homestay Syariah | H5: Melati | I5: Jl. Raya Bromo No.22 Kel. Ketapang Kec. Kademangan | J5: 0895-2954-3521 | K5: 170.000 - 200.000 | M5: kecamatan | N5: Bintang 1 | O5: Bintang 3 | P5: Melati | Q5: Total Keseluruhan
A6: 2025 | B6: 35.74.01 | C6: Kademangan | D6: 35.74.01.1001 | E6: Ketapang | F6: Pondok Wisata | G6: Caldera Park Homestay | H6: Melati | I6: Jl. Kelud No.17 Kel. Ketapang Kec. Kademangan | J6: 0813-7324-2198 0852-3330-9748 | K6: 75000 | M6: Kademangan | P6: 12 | Q6: 12
A7: 2025 | B7: 35.74.01 | C7: Kademangan | D7: 35.74.01.1001 | E7: Ketapang | F7: Pondok Wisata | G7: Home Stay Hadi’s | H7: Melati | I7: Jl. Raya Bromo No.31 Km.04 Kel. Ketapang Kec. Kademangan | J7: 0335-427601 | K7: 110.000 - 200.000 | M7: Kanigaran | N7: 1 | O7: 1 | P7: 4 | Q7: 6
A8: 2025 | B8: 35.74.01 | C8: Kademangan | D8: 35.74.01.1002 | E8: Triwung Lor | F8: Hotel | G8: Hotel BROMO VIEW | H8: Melati | I8: Jl. Raya Bromo Km.05 Kel. Triwung Lor Kec. Kademangan | J8: 0335-436000 0335-434000 0812-3350-0599 | K8: 336.364 - 781.819 | M8: Kedopok | P8: 2 | Q8: 2
A9: 2025 | B9: 35.74.01 | C9: Kademangan | D9: 35.74.01.1002 | E9: Triwung Lor | F9: Hotel | G9: Hotel LAVA-LAVA | H9: Melati | I9: Jl. Raya Bromo Km.05 Kel. Triwung Lor Kec. Kademangan | J9: 0335-437888 0822-4500-1541 | K9: 200.000 - 300.000 | M9: Mayangan | P9: 20 | Q9: 20
A10: 2025 | B10: 35.74.01 | C10: Kademangan | D10: 35.74.01.1002 | E10: Triwung Lor | F10: Hotel | G10: Hotel MORONYOTO | H10: Melati | I10: Jl. Raya Bromo No.100A Kel. Triwung Lor Kec. Kademangan | J10: 0335-432582 | K10: 130.000 - 300.000 | M10: Total Keseluruhan | N10: 1 | O10: 1 | P10: 38 | Q10: 40
A11: 2025 | B11: 35.74.01 | C11: Kademangan | D11: 35.74.01.1002 | E11: Triwung Lor | F11: Pondok Wisata | G11: Happy House | H11: Melati | I11: Jl. Semeru Gg. Buntu Kel. Triwung Lor Kec. Kademangan | J11: 0823-3633-8689 | K11: 70.000 - 250.000 | M11: 2024 | N11: 1 | O11: 1 | P11: 34 | Q11: 36
A12: 2025 | B12: 35.74.01 | C12: Kademangan | D12: 35.74.01.1002 | E12: Triwung Lor | F12: Pondok Wisata | G12: Home Stay Hari’s | H12: Melati | I12: Jl. Raya Bromo Km.05 Kel. Triwung Lor Kec. Kademangan | J12: 0335-5894614 0812-3281-313 | K12: 230.000 - 360.000
A13: 2025 | B13: 35.74.01 | C13: Kademangan | D13: 35.74.01.1002 | E13: Triwung Lor | F13: Pondok Wisata | G13: Raysha Guest House | H13: Melati | I13: Jl. Merapi Gg. Masjid At Taqwa Kel. Triwung Lor Kec. Kademangan | J13: 0851-4249-1148 | K13: 110.000 - 160.000
A14: 2025 | B14: 35.74.01 | C14: Kademangan | D14: 35.74.01.1003 | E14: Triwung Kidul | F14: Pondok Wisata | G14: Home Stay BROMO SUNRISE | H14: Melati | I14: Jl. Raya Bromo Km.4 Kel. Triwung Kidul Kec. Kademangan | J14: 0813-3680-4697 | K14: 140.000 - 170.000 | M14: COUNTA of jenis_akomodasi | N14: jenis_akomodasi
A15: 2025 | B15: 35.74.01 | C15: Kademangan | D15: 35.74.01.1009 | E15: Pilang | F15: Pondok Wisata | G15: Home Stay ANGGREK | H15: Melati | I15: Jl. Anggrek No.02 Kel. Pilang Kec. Kademangan | J15: 0335-428852 | K15: 75.000 - 135.000 | M15: kecamatan | N15: Hotel | O15: Motel | P15: Pondok Wisata | Q15: Total Keseluruhan
A16: 2025 | B16: 35.74.01 | C16: Kademangan | D16: 35.74.01.1009 | E16: Pilang | F16: Pondok Wisata | G16: Home Stay WIDURI | H16: Melati | I16: Jl. Sukarno Hatta No.65 Kel. Pilang Kec. Kademangan | J16: 0335-421310 | K16: 85.000 - 130.000 | M16: Kademangan | N16: 3 | P16: 9 | Q16: 12
A17: 2025 | B17: 35.74.03 | C17: Mayangan | D17: 35.74.03.1001 | E17: Mayangan | F17: Pondok Wisata | G17: Home Stay HASRAT MULIA | H17: Melati | I17: Jl. Lingkar Utara Kel. Mayangan Kec. Mayangan | J17: 0821-6556-6788 | K17: 80.000 - 200.000 | M17: Kanigaran | N17: 3 | P17: 3 | Q17: 6
A18: 2025 | B18: 35.74.03 | C18: Mayangan | D18: 35.74.03.1002 | E18: Mangunharjo | F18: Pondok Wisata | G18: Bungalow BJBR | H18: Melati | I18: Jl. Pelabuhan Perikanan Pantai Kel. Mangunharjo Kec. Mayangan | J18: 0335-5892001 0822-9254-4313 0812-4947-1969 | K18: 650.000 - 2.500.000 | M18: Kedopok | O18: 1 | P18: 1 | Q18: 2
A19: 2025 | B19: 35.74.03 | C19: Mayangan | D19: 35.74.03.1002 | E19: Mangunharjo | F19: Pondok Wisata | G19: FEMALE Guest House | H19: Melati | I19: Jl. Ahmad Yani No.41 Kel. Mangunharjo Kec. Mayangan | J19: 0335-423096 | K19: 80.000 - 150.000 | M19: Mayangan | N19: 3 | P19: 17 | Q19: 20
A20: 2025 | B20: 35.74.03 | C20: Mayangan | D20: 35.74.03.1002 | E20: Mangunharjo | F20: Pondok Wisata | G20: iLomba Guest House | H20: Melati | I20: Jl. KH. Mansyur No.78 Kel. Mangunharjo Kec. Mayangan | J20: 0852-2845-7757 | K20: 220000 | M20: Total Keseluruhan | N20: 9 | O20: 1 | P20: 30 | Q20: 40
A21: 2025 | B21: 35.74.03 | C21: Mayangan | D21: 35.74.03.1004 | E21: Jati | F21: Hotel | G21: Hotel PARAMITA | H21: Melati | I21: Jl. Siaman No.07 Kel. Jati Kec. Mayangan | J21: 0335-421535 | K21: 110.000 - 330.000 | M21: 2024 | N21: 10 | O21: 1 | P21: 25 | Q21: 36
A22: 2025 | B22: 35.74.03 | C22: Mayangan | D22: 35.74.03.1004 | E22: Jati | F22: Pondok Wisata | G22: Home Stay Bidara Syariah | H22: Melati | I22: Jl. Anjasmara No.26 Kel. Jati Kec. Mayangan | J22: 0813-3685-7117 | K22: 100.000 - 150.000
A23: 2025 | B23: 35.74.03 | C23: Mayangan | D23: 35.74.03.1007 | E23: Sukabumi | F23: Hotel | G23: Hotel PASEBAN SENA | H23: Melati | I23: Jl. Suroyo No.50-52 Kel. Sukabumi Kec. Mayangan | J23: 0335-420444 | K23: 680.000 - 860.000
A24: 2025 | B24: 35.74.03 | C24: Mayangan | D24: 35.74.03.1007 | E24: Sukabumi | F24: Hotel | G24: Hotel RATNA | H24: Melati | I24: Jl. Panglima Sudirman No.16 &18 Kel. Sukabumi Kec. Mayangan | J24: 0335-421597 | K24: 100.000 - 950.000
A25: 2025 | B25: 35.74.03 | C25: Mayangan | D25: 35.74.03.1007 | E25: Sukabumi | F25: Pondok Wisata | G25: Brak Homestay | H25: Melati | I25: Jl. Soekarno Hatta No.36 Kel. Sukabumi Kec. Mayangan | J25: 0812-3454-595 | K25: 220.000 - 240.000
A26: 2025 | B26: 35.74.03 | C26: Mayangan | D26: 35.74.03.1007 | E26: Sukabumi | F26: Pondok Wisata | G26: Home Stay CLOVER | H26: Melati | I26: Jl. Mawar Merah No.8 Kel. Sukabumi Kec. Mayangan | J26: 0335-4493483 0813-3049-6663 | K26: 250.000 - 300.000
A27: 2025 | B27: 35.74.03 | C27: Mayangan | D27: 35.74.03.1007 | E27: Sukabumi | F27: Pondok Wisata | G27: Home Stay DARMA | H27: Melati | I27: Jl. Buton No.03 Kel. Sukabumi Kec. Mayangan | J27: 0335-435594 0823-3022-8783 | K27: 85.000 - 135.000
A28: 2025 | B28: 35.74.03 | C28: Mayangan | D28: 35.74.03.1007 | E28: Sukabumi | F28: Pondok Wisata | G28: Home Stay DIPONEGORO | H28: Melati | I28: Jl. Diponegoro No.5 Kel. Sukabumi Kec. Mayangan | J28: 0811-3661-355 | K28: 165.000 - 350.000
A29: 2025 | B29: 35.74.03 | C29: Mayangan | D29: 35.74.03.1007 | E29: Sukabumi | F29: Pondok Wisata | G29: Home Stay PINK HOUSE | H29: Melati | I29: Jl. Mawar Permai No.26 Kel. Sukabumi Kec. Mayangan | J29: 0335-4430999 0815-5980-8888 | K29: 200000
A30: 2025 | B30: 35.74.03 | C30: Mayangan | D30: 35.74.03.1007 | E30: Sukabumi | F30: Pondok Wisata | G30: Home Stay SUYOSO | H30: Melati | I30: Jl. Suyoso No.45 Kel. Sukabumi Kec. Mayangan | J30: 0812-2277-7883 | K30: 150.000 - 235.000
A31: 2025 | B31: 35.74.03 | C31: Mayangan | D31: 35.74.03.1007 | E31: Sukabumi | F31: Pondok Wisata | G31: Home Stay WAHIDIN | H31: Melati | I31: Jl. Dr. Wahidin No.8 Kel. Sukabumi Kec. Mayangan | J31: 0335-425333 0823-3062-2036 | K31: 225.000 - 325.000
A32: 2025 | B32: 35.74.03 | C32: Mayangan | D32: 35.74.03.1007 | E32: Sukabumi | F32: Pondok Wisata | G32: Kartini Guest House | H32: Melati | I32: Jl. RA. Kartini No.69 Kel. Sukabumi Kec. Mayangan | J32: 0813-9105-1203 | K32: 100.000 - 150.000
A33: 2025 | B33: 35.74.03 | C33: Mayangan | D33: 35.74.03.1007 | E33: Sukabumi | F33: Pondok Wisata | G33: Moshi Moshi Hostel | H33: Melati | I33: Jl. RA. Kartini No.67 Kel. Sukabumi Kec. Mayangan | J33: 0818-7630-58 | K33: 85.000 - 210.000
A34: 2025 | B34: 35.74.03 | C34: Mayangan | D34: 35.74.03.1007 | E34: Sukabumi | F34: Pondok Wisata | G34: Nasution Homestay | H34: Melati | I34: Jl. AIS. Nasution No.12 Kel. Sukabumi Kec. Mayangan | J34: 0812-3461-700 | K34: 300.000 - 470.000
A35: 2025 | B35: 35.74.03 | C35: Mayangan | D35: 35.74.03.1007 | E35: Sukabumi | F35: Pondok Wisata | G35: Rumah Singgah Ombass | H35: Melati | I35: Jl. dr. Moch. Saleh No.14 Kel. Sukabumi Kec. Mayangan | J35: 0852-3335-1112 | K35: 200000
A36: 2025 | B36: 35.74.03 | C36: Mayangan | D36: 35.74.03.1010 | E36: Wiroborang | F36: Pondok Wisata | G36: The Canal Paalupi Homestay | H36: Melati | I36: Jl. Panglima Sudirman Kel. Wiroborang Kec. Mayangan | J36: 0822-3224-0476 0858-5361-3025 | K36: 225.000 - 250.000
A37: 2025 | B37: 35.74.04 | C37: Kanigaran | D37: 35.74.04.1001 | E37: Tisnonegaran | F37: Hotel | G37: Hotel BROMO PARK | H37: Bintang 3 | I37: Jl. Dr. Sutomo No.70 Kel. Tisnonegaran Kec. Kanigaran | J37: 0335-4493777 0813-3083-7775 | K37: 618.000 - 2.488.000
A38: 2025 | B38: 35.74.04 | C38: Kanigaran | D38: 35.74.04.1001 | E38: Tisnonegaran | F38: Hotel | G38: Hotel TAMPIARTO | H38: Bintang 1 | I38: Jl. Suroyo No.15 Kel. Tisnonegaran Kec. Kanigaran | J38: 0335-421288 | K38: 200.000 - 350.000
A39: 2025 | B39: 35.74.04 | C39: Kanigaran | D39: 35.74.04.1001 | E39: Tisnonegaran | F39: Pondok Wisata | G39: Home Stay EBONY | H39: Melati | I39: Jl. Gubernur Suryo Kel. Tisnonegaran Kec. Kanigaran | J39: 0335-7606264 | K39: 170.000 - 400.000
A40: 2025 | B40: 35.74.04 | C40: Kanigaran | D40: 35.74.04.1001 | E40: Tisnonegaran | F40: Pondok Wisata | G40: Hotel TENTREM | H40: Melati | I40: Jl. Panglima Sudirman No.15 Kel. Tisnonegaran Kec. Kanigaran | J40: 0335-421049 | K40: 70.000 - 180.000
A41: 2025 | B41: 35.74.04 | C41: Kanigaran | D41: 35.74.04.1001 | E41: Tisnonegaran | F41: Pondok Wisata | G41: SURYA Guest House | H41: Melati | I41: Jl. Gubernur Suryo No.02 Kel. Tisnonegaran Kec. Kanigaran | J41: 0812-3493-2982 0813-5839-8398 | K41: 175.000 - 350.000
A42: 2025 | B42: 35.74.04 | C42: Kanigaran | D42: 35.74.04.1006 | E42: Kebonsari Kulon | F42: Hotel | G42: Hotel BROMO PERMAI II | H42: Melati | I42: Jl. Panglima Sudirman No.327 Kel. Kebonsari Kulon Kec. Kanigaran | J42: 0335-422256 | K42: 90.000 - 250.000
A43: 2025 | B43: 35.74.05 | C43: Kedopok | D43: 35.74.05.1001 | E43: Jrebeng Kulon | F43: Pondok Wisata | G43: Home Stay SINAR HARAPAN | H43: Melati | I43: Jl. Bengawan Solo No.100 Kel. Jrebeng Kulon Kec. Kedopok | J43: 0335-425333 0823-3110-0222 | K43: 100.000 - 200.000
A44: 2025 | B44: 35.74.05 | C44: Kedopok | D44: 35.74.05.1002 | E44: Kareng Lor | F44: Motel | G44: Penginapan Sri Rejeki | H44: Melati | I44: Jl. Prof. Hamka Kel. Kareng Lor Kec. Kedopok | J44: 0823-7515-7557 | K44: 100.000 - 200.000

Sheet 13
A1: Tahun 2025 - Jumlah Kamar Hotel/Akomodasi Lainnya di Kota Probolinggo
A2: NB : Mohon diperiksa kembali data yang sudah terisi
A4: tahun | B4: kode_kecamatan | C4: kecamatan | D4: kode_kelurahan | E4: kelurahan | F4: jenis_akomodasi | G4: nama_akomodasi | H4: jumlah_kamar | J4: COUNTA of jenis_akomodasi | K4: jenis_akomodasi
A5: 2025 | B5: 35.74.01 | C5: Kademangan | D5: 35.74.01.1001 | E5: Ketapang | F5: Pondok Wisata | G5: Bromo 22 Homestay Syariah | H5: 20 | J5: kecamatan | K5: Hotel | L5: Motel | M5: Pondok Wisata | N5: Total Keseluruhan
A6: 2025 | B6: 35.74.01 | C6: Kademangan | D6: 35.74.01.1001 | E6: Ketapang | F6: Pondok Wisata | G6: Caldera Park Homestay | H6: 10 | J6: Kademangan | K6: 3 | M6: 9 | N6: 12
A7: 2025 | B7: 35.74.01 | C7: Kademangan | D7: 35.74.01.1001 | E7: Ketapang | F7: Pondok Wisata | G7: Home Stay Hadi’s | H7: 20 | J7: Kanigaran | K7: 3 | M7: 3 | N7: 6
A8: 2025 | B8: 35.74.01 | C8: Kademangan | D8: 35.74.01.1002 | E8: Triwung Lor | F8: Hotel | G8: Hotel BROMO VIEW | H8: 63 | J8: Kedopok | L8: 1 | M8: 1 | N8: 2
A9: 2025 | B9: 35.74.01 | C9: Kademangan | D9: 35.74.01.1002 | E9: Triwung Lor | F9: Hotel | G9: Hotel LAVA-LAVA | H9: 20 | J9: Mayangan | K9: 3 | M9: 17 | N9: 20
A10: 2025 | B10: 35.74.01 | C10: Kademangan | D10: 35.74.01.1002 | E10: Triwung Lor | F10: Hotel | G10: Hotel MORONYOTO | H10: 30 | J10: Total Keseluruhan | K10: 9 | L10: 1 | M10: 30 | N10: 40
A11: 2025 | B11: 35.74.01 | C11: Kademangan | D11: 35.74.01.1002 | E11: Triwung Lor | F11: Pondok Wisata | G11: Happy House | H11: 11
A12: 2025 | B12: 35.74.01 | C12: Kademangan | D12: 35.74.01.1002 | E12: Triwung Lor | F12: Pondok Wisata | G12: Home Stay Hari’s | H12: 22
A13: 2025 | B13: 35.74.01 | C13: Kademangan | D13: 35.74.01.1002 | E13: Triwung Lor | F13: Pondok Wisata | G13: Raysha Guest House | H13: 10 | J13: SUM of jumlah_kamar | K13: jenis_akomodasi
A14: 2025 | B14: 35.74.01 | C14: Kademangan | D14: 35.74.01.1003 | E14: Triwung Kidul | F14: Pondok Wisata | G14: Home Stay BROMO SUNRISE | H14: 16 | J14: kecamatan | K14: Hotel | L14: Motel | M14: Pondok Wisata | N14: Total Keseluruhan
A15: 2025 | B15: 35.74.01 | C15: Kademangan | D15: 35.74.01.1009 | E15: Pilang | F15: Pondok Wisata | G15: Home Stay ANGGREK | H15: 12 | J15: Kademangan | K15: 113 | M15: 132 | N15: 245
A16: 2025 | B16: 35.74.01 | C16: Kademangan | D16: 35.74.01.1009 | E16: Pilang | F16: Pondok Wisata | G16: Home Stay WIDURI | H16: 11 | J16: Kanigaran | K16: 154 | M16: 71 | N16: 225
A17: 2025 | B17: 35.74.03 | C17: Mayangan | D17: 35.74.03.1001 | E17: Mayangan | F17: Pondok Wisata | G17: Home Stay HASRAT MULIA | H17: 15 | J17: Kedopok | L17: 19 | M17: 16 | N17: 35
A18: 2025 | B18: 35.74.03 | C18: Mayangan | D18: 35.74.03.1002 | E18: Mangunharjo | F18: Pondok Wisata | G18: Bungalow BJBR | H18: 21 | J18: Mayangan | K18: 131 | M18: 311 | N18: 442
A19: 2025 | B19: 35.74.03 | C19: Mayangan | D19: 35.74.03.1002 | E19: Mangunharjo | F19: Pondok Wisata | G19: FEMALE Guest House | H19: 23 | J19: Total Keseluruhan | K19: 398 | L19: 19 | M19: 530 | N19: 947
A20: 2025 | B20: 35.74.03 | C20: Mayangan | D20: 35.74.03.1002 | E20: Mangunharjo | F20: Pondok Wisata | G20: iLomba Guest House | H20: 7
A21: 2025 | B21: 35.74.03 | C21: Mayangan | D21: 35.74.03.1004 | E21: Jati | F21: Hotel | G21: Hotel PARAMITA | H21: 39
A22: 2025 | B22: 35.74.03 | C22: Mayangan | D22: 35.74.03.1004 | E22: Jati | F22: Pondok Wisata | G22: Home Stay Bidara Syariah | H22: 8
A23: 2025 | B23: 35.74.03 | C23: Mayangan | D23: 35.74.03.1007 | E23: Sukabumi | F23: Hotel | G23: Hotel PASEBAN SENA | H23: 20
A24: 2025 | B24: 35.74.03 | C24: Mayangan | D24: 35.74.03.1007 | E24: Sukabumi | F24: Hotel | G24: Hotel RATNA | H24: 72
A25: 2025 | B25: 35.74.03 | C25: Mayangan | D25: 35.74.03.1007 | E25: Sukabumi | F25: Pondok Wisata | G25: Brak Homestay | H25: 6
A26: 2025 | B26: 35.74.03 | C26: Mayangan | D26: 35.74.03.1007 | E26: Sukabumi | F26: Pondok Wisata | G26: Home Stay CLOVER | H26: 20
A27: 2025 | B27: 35.74.03 | C27: Mayangan | D27: 35.74.03.1007 | E27: Sukabumi | F27: Pondok Wisata | G27: Home Stay DARMA | H27: 40
A28: 2025 | B28: 35.74.03 | C28: Mayangan | D28: 35.74.03.1007 | E28: Sukabumi | F28: Pondok Wisata | G28: Home Stay DIPONEGORO | H28: 42
A29: 2025 | B29: 35.74.03 | C29: Mayangan | D29: 35.74.03.1007 | E29: Sukabumi | F29: Pondok Wisata | G29: Home Stay PINK HOUSE | H29: 21
A30: 2025 | B30: 35.74.03 | C30: Mayangan | D30: 35.74.03.1007 | E30: Sukabumi | F30: Pondok Wisata | G30: Home Stay SUYOSO | H30: 58
A31: 2025 | B31: 35.74.03 | C31: Mayangan | D31: 35.74.03.1007 | E31: Sukabumi | F31: Pondok Wisata | G31: Home Stay WAHIDIN | H31: 21
... A44: 2025 | B44: 35.74.05 | C44: Kedopok | D44: 35.74.05.1002 | E44: Kareng Lor | F44: Motel | G44: Penginapan Sri Rejeki | H44: 19

Sheet 14
A1: Tahun 2025 - Jumlah Lapangan Olahraga Menurut Kelurahan di Kota Probolinggo
A3: tahun | B3: kode_kecamatan | C3: kecamatan | D3: kode_kelurahan | E3: kelurahan | F3: jumlah_lapangan_olahraga | H3: kecamatan | I3: SUM of jumlah_lapangan_olahraga
A4: 2025 | B4: 35.74.01 | C4: Kademangan | D4: 35.74.01.1001 | E4: Ketapang | F4: 5 | H4: Kademangan | I4: 18
A5: 2025 | B5: 35.74.01 | C5: Kademangan | D5: 35.74.01.1002 | E5: Triwung Lor | F5: 5 | H5: Kanigaran | I5: 25
A6: 2025 | B6: 35.74.01 | C6: Kademangan | D6: 35.74.01.1003 | E6: Triwung Kidul | F6: 0 | H6: Kedopok | I6: 16
A7: 2025 | B7: 35.74.01 | C7: Kademangan | D7: 35.74.01.1007 | E7: Pohsangit Kidul | F7: 2 | H7: Mayangan | I7: 13
A8: 2025 | B8: 35.74.01 | C8: Kademangan | D8: 35.74.01.1008 | E8: Kademangan | F8: 3 | H8: Wonoasih | I8: 8
A9: 2025 | B9: 35.74.01 | C9: Kademangan | D9: 35.74.01.1009 | E9: Pilang | F9: 3 | H9: Total Keseluruhan | I9: 80
A10: 2025 | B10: 35.74.02 | C10: Wonoasih | D10: 35.74.02.1001 | E10: Jrebeng Kidul | F10: 0 | H10: 2024 | I10: 80
A11: 2025 | B11: 35.74.02 | C11: Wonoasih | D11: 35.74.02.1002 | E11: Pakistaji | F11: 0
A12: 2025 | B12: 35.74.02 | C12: Wonoasih | D12: 35.74.02.1003 | E12: Kedunggaleng | F12: 0
A13: 2025 | B13: 35.74.02 | C13: Wonoasih | D13: 35.74.02.1005 | E13: Kedung Asem | F13: 2
A14: 2025 | B14: 35.74.02 | C14: Wonoasih | D14: 35.74.02.1006 | E14: Sumber Taman | F14: 4
A15: 2025 | B15: 35.74.02 | C15: Wonoasih | D15: 35.74.02.1007 | E15: Wonoasih | F15: 2
A16: 2025 | B16: 35.74.03 | C16: Mayangan | D16: 35.74.03.1001 | E16: Mayangan | F16: 1
A17: 2025 | B17: 35.74.03 | C17: Mayangan | D17: 35.74.03.1002 | E17: Mangunharjo | F17: 2
A18: 2025 | B18: 35.74.03 | C18: Mayangan | D18: 35.74.03.1004 | E18: Jati | F18: 3
A19: 2025 | B19: 35.74.03 | C19: Mayangan | D19: 35.74.03.1007 | E19: Sukabumi | F19: 4
A20: 2025 | B20: 35.74.03 | C20: Mayangan | D20: 35.74.03.1010 | E20: Wiroborang | F20: 3
A21: 2025 | B21: 35.74.04 | C21: Kanigaran | D21: 35.74.04.1001 | E21: Tisnonegaran | F21: 0
A22: 2025 | B22: 35.74.04 | C22: Kanigaran | D22: 35.74.04.1002 | E22: Sukoharjo | F22: 1
... A32: 2025 | B32: 35.74.05 | C32: Kedopok | D32: 35.74.05.1006 | E32: Jrebeng Wetan | F32: 4

Sheet 15
A1: Tahun 2025 - Daftar Lapangan Olahraga yang ada di Kota Probolinggo
A2: Catatan : Mohon data yang terisi dicek kembali dan direvisi bila ada yang tidak tepat
A4: tahun | B4: kode_kecamatan | C4: kecamatan | D4: kode_kelurahan | E4: kelurahan | F4: nama_lapangan | G4: jenis_olahraga | H4: alamat | I4: latitude | J4: longitude | K4: kondisi | L4: status_kepemilikan | M4: Kapasitas | O4: COUNTA of jenis_olahraga | P4: kecamatan
A5: 2025 | B5: 35.74.01 | C5: Kademangan | D5: 35.74.01.1007 | E5: Pohsangit Kidul | F5: Lapangan Bola Volly | G5: Bola Volly | H5: Dusun Melati RT.001 RW.002 | K5: Baik | L5: Masyarakat | M5: 1 lapangan | O5: jenis_olahraga | P5: Kademangan | Q5: Kanigaran | R5: Kedopok | S5: Mayangan | T5: Wonoasih | U5: Total Keseluruhan
A6: 2025 | B6: 35.74.01 | C6: Kademangan | D6: 35.74.01.1007 | E6: Pohsangit Kidul | F6: Lapangan Bola Volly | G6: Bola Volly | H6: Dusun Melati RT.003 RW.002 | K6: Baik | L6: Masyarakat | M6: 1 lapangan | O6: basket | Q6: 3 | U6: 3
A7: 2025 | B7: 35.74.02 | C7: Wonoasih | D7: 35.74.02.1006 | E7: Sumber Taman | F7: Lapangan Bola Volly | G7: Bola Volly | H7: RT. 04 / RW.07 | K7: Kurang Baik | L7: Masyarakat | M7: 1 lapangan | O7: Bola Volly | P7: 12 | Q7: 12 | R7: 8 | S7: 6 | T7: 4 | U7: 42
A8: 2025 | B8: 35.74.02 | C8: Wonoasih | D8: 35.74.02.1006 | E8: Sumber Taman | F8: Lapangan Bola Volly | G8: Bola Volly | H8: RT. 07 / RW.07 | K8: Kurang Baik | L8: Masyarakat | M8: 1 lapangan | O8: Bulu Tangkis | P8: 2 | Q8: 2 | R8: 2 | S8: 1 | U8: 7
A9: 2025 | B9: 35.74.02 | C9: Wonoasih | D9: 35.74.02.1006 | E9: Sumber Taman | F9: Lapangan Tenis Meja | G9: Tenis Meja | H9: RT. 04 / RW.07 | K9: Baik | L9: Masyarakat | M9: 1 lapangan | O9: Futsal | P9: 2 | Q9: 3 | R9: 1 | S9: 2 | U9: 8
A10: 2025 | B10: 35.74.02 | C10: Wonoasih | D10: 35.74.02.1006 | E10: Sumber Taman | F10: Lapangan Tenis Meja | G10: Tenis Meja | H10: RT.01 / RW.07 | K10: Baik | L10: Masyarakat | M10: 1 lapangan | O10: Gym | R10: 1 | S10: 1 | U10: 2
A11: 2025 | B11: 35.74.03 | C11: Mayangan | D11: 35.74.03.1010 | E11: Wiroborang | F11: Lapangan Bola Volly | G11: Bola Volly | H11: Jalan Panglima Sudirman | K11: Baik | L11: Aset | M11: 1 lapangan | O11: Sepak Bola | P11: 1 | Q11: 3 | R11: 2 | S11: 2 | T11: 2 | U11: 10
A12: 2025 | B12: 35.74.03 | C12: Mayangan | D12: 35.74.03.1010 | E12: Wiroborang | F12: Lapangan Bola Volly | G12: Bola Volly | H12: Jalan Samanhudi | K12: Baik | L12: Aset | M12: 1 lapangan | O12: Sepak takraw | Q12: 1 | R12: 1 | U12: 2
A13: 2025 | B13: 35.74.03 | C13: Mayangan | D13: 35.74.03.1010 | E13: Wiroborang | F13: Lapangan Bola Volly | G13: Bola Volly | H13: Jalan Gumuk | K13: Baik | L13: Aset | M13: 1 lapangan | O13: Tenis lapangan | Q13: 1 | S13: 1 | U13: 2
A14: 2025 | B14: 35.74.01 | C14: Kademangan | D14: 35.74.01.1009 | E14: Pilang | F14: Lapangan Bola Volly | G14: Bola Volly | H14: Kantor Kelurahan Pilang | K14: Baik | L14: Aset | M14: 1 lapangan | O14: Tenis Meja | P14: 1 | R14: 1 | T14: 2 | U14: 4
A15: 2025 | B15: 35.74.01 | C15: Kademangan | D15: 35.74.01.1009 | E15: Pilang | F15: Lapangan Bola Volly | G15: Bola Volly | H15: Rusunawa Bayuangga RW. 5 | K15: Baik | L15: Aset | M15: 1 lapangan | O15: Total Keseluruhan | P15: 18 | Q15: 25 | R15: 16 | S15: 13 | T15: 8 | U15: 80
A16: 2025 | B16: 35.74.01 | C16: Kademangan | D16: 35.74.01.1009 | E16: Pilang | F16: Lapangan Tenis Meja | G16: Tenis Meja | H16: MESS KTI RT.02 RW.04 | K16: Baik | L16: KTI | M16: 1 lapangan | O16: 2024 | P16: 18 | Q16: 25 | R16: 16 | S16: 13 | T16: 8 | U16: 80
A17: 2025 | B17: 35.74.01 | C17: Kademangan | D17: 35.74.01.1008 | E17: Kademangan | F17: Lapangan Sepak Bola | G17: Sepak Bola | H17: Jalan Tambora RT 4 RW III | K17: Baik | L17: Masyarakat | M17: 1 lapangan
A18: 2025 | B18: 35.74.01 | C18: Kademangan | D18: 35.74.01.1008 | E18: Kademangan | F18: Lapangan Bola Volly | G18: Bola Volly | H18: GG. Tuyo Arum RT 01 RW I | K18: Baik | L18: Masyarakat | M18: 1 lapangan | O18: COUNTA of kondisi | P18: kondisi
A19: 2025 | B19: 35.74.01 | C19: Kademangan | D19: 35.74.01.1008 | E19: Kademangan | F19: Lapangan Bola Volly | G19: Bola Volly | H19: Blok Jurang RT 04 RW 04 | K19: Baik | L19: Masyarakat | M19: 1 lapangan | O19: jenis_olahraga | P19: Baik | Q19: Kurang Baik | R19: Total Keseluruhan
A20: 2025 | B20: 35.74.05 | C20: Kedopok | D20: 35.74.05.1006 | E20: Jrebeng Wetan | F20: Lapangan Bola Volly | G20: Bola Volly | H20: RT 03 RW 04 | K20: Baik | L20: Masyarakat | M20: 1 lapangan | O20: basket | P20: 3 | R20: 3
A21: 2025 | B21: 35.74.05 | C21: Kedopok | D21: 35.74.05.1006 | E21: Jrebeng Wetan | F21: Lapangan Bola Volly | G21: Bola Volly | H21: RT 05 RW 03 | K21: Baik | L21: Masyarakat | M21: 1 lapangan | O21: Bola Volly | P21: 40 | Q21: 2 | R21: 42
A22: 2025 | B22: 35.74.05 | C22: Kedopok | D22: 35.74.05.1006 | E22: Jrebeng Wetan | F22: Lapangan Bola Volly | G22: Bola Volly | H22: RT 04 RW 04 | K22: Baik | L22: Masyarakat | M22: 1 lapangan | O22: Bulu Tangkis | P22: 7 | R22: 7
A23: 2025 | B23: 35.74.05 | C23: Kedopok | D23: 35.74.05.1006 | E23: Jrebeng Wetan | F23: Gym | G23: Gym | H23: RT 06 RW 03 | K23: Baik | L23: Masyarakat | M23: 1 lapangan | O23: Futsal | P23: 8 | R23: 8
A24: 2025 | B24: 35.74.03 | C24: Mayangan | D24: 35.74.03.1001 | E24: Mayangan | F24: Lapangan Bola Volly | G24: Bola Volly | H24: Jalan Ikan Lumba - Lumba RT.05 RW.02 | K24: Baik | L24: Kodam V Brawijaya | M24: 1 lapangan | O24: Gym | P24: 2 | R24: 2
A25: 2025 | B25: 35.74.04 | C25: Kanigaran | D25: 35.74.04.1006 | E25: Kebonsari Kulon | F25: Lapangan Sepak Bola | G25: Sepak Bola | H25: Jl. KH. Ahmad Dahlan RW.16 | K25: Baik | L25: Aset | M25: 1 lapangan | O25: Sepak Bola | P25: 10 | R25: 10
A26: 2025 | B26: 35.74.04 | C26: Kanigaran | D26: 35.74.04.1006 | E26: Kebonsari Kulon | F26: Lapangan Bola Volly | G26: Bola Volly | H26: Jl. KH. Ahmad Dahlan RW.16 | K26: Baik | L26: Aset | M26: 1 lapangan | O26: Sepak takraw | P26: 2 | R26: 2
A27: 2025 | B27: 35.74.04 | C27: Kanigaran | D27: 35.74.04.1006 | E27: Kebonsari Kulon | F27: Lapangan Bola Volly | G27: Bola Volly | H27: Jl. KH. Ahmad Dahlan RW.16 | K27: Baik | L27: Aset | M27: 1 lapangan | O27: Tenis lapangan | P27: 2 | R27: 2
A28: 2025 | B28: 35.74.05 | C28: Kedopok | D28: 35.74.05.1001 | E28: Jrebeng Kulon | F28: Lapangan Bola Volly | G28: Bola Volly | H28: Jl. Musi RT.01 RW..04 | K28: Baik | L28: Masyarakat | M28: 1 lapangan | O28: Tenis Meja | P28: 4 | R28: 4
A29: 2025 | B29: 35.74.04 | C29: Kanigaran | D29: 35.74.04.1003 | E29: Kanigaran | F29: Lapangan Bola Volly | G29: Bola Volly | H29: RT.02 RW.12 | K29: Baik | L29: PG Wonolangan | M29: 1 lapangan | O29: Total Keseluruhan | P29: 78 | Q29: 2 | R29: 80
A30: 2025 | B30: 35.74.04 | C30: Kanigaran | D30: 35.74.04.1003 | E30: Kanigaran | F30: Lapangan Bola Volly | G30: Bola Volly | H30: RT.10 RW.12 | K30: Baik | L30: Masyarakat | M30: 1 lapangan
A31: 2025 | B31: 35.74.04 | C31: Kanigaran | D31: 35.74.04.1003 | E31: Kanigaran | F31: Lapangan Bola Volly | G31: Bola Volly | H31: RT.03 RW.13 | K31: Baik | L31: Masyarakat | M31: 1 lapangan | O31: kecamatan | P31: kelurahan | Q31: COUNTA of nama_lapangan
A32: 2025 | B32: 35.74.05 | C32: Kedopok | D32: 35.74.05.1002 | E32: Kareng Lor | F32: Lapangan Sepak Bola | G32: Sepak Bola | H32: Jl. Kedondong RT.06 RW.01 | K32: Baik | L32: Aset | M32: 1 lapangan | O32: Kademangan | Q32: 18
A33: 2025 | B33: 35.74.05 | C33: Kedopok | D33: 35.74.05.1002 | E33: Kareng Lor | F33: Lapangan Bola Volly | G33: Bola Volly | H33: RT.04 RW.01 | K33: Baik | L33: Aset | M33: 1 lapangan | O33: Kanigaran | Q33: 25
A34: 2025 | B34: 35.74.05 | C34: Kedopok | D34: 35.74.05.1002 | E34: Kareng Lor | F34: Lapangan Bola Volly | G34: Bola Volly | H34: RT.06 RW.01 | K34: Baik | L34: Aset | M34: 1 lapangan | O34: Kedopok | Q34: 16
A35: 2025 | B35: 35.74.05 | C35: Kedopok | D35: 35.74.05.1002 | E35: Kareng Lor | F35: Lapangan Bola Volly | G35: Bola Volly | H35: RT.01 RW.03 | K35: Baik | L35: Masyarakat | M35: 1 lapangan | O35: Mayangan | Q35: 13
A36: 2025 | B36: 35.74.05 | C36: Kedopok | D36: 35.74.05.1002 | E36: Kareng Lor | F36: Lapangan Bola Volly | G36: Bola Volly | H36: RW. 05 | K36: Baik | L36: Masyarakat | M36: 1 lapangan | O36: Wonoasih | Q36: 8
A37: 2025 | B37: 35.74.05 | C37: Kedopok | D37: 35.74.05.1002 | E37: Kareng Lor | F37: Lapangan Futsal | G37: Futsal | H37: RT.04 RW.01 | K37: Baik | L37: Aset | M37: 1 lapangan | O37: Total Keseluruhan | Q37: 80
A38: 2025 | B38: 35.74.05 | C38: Kedopok | D38: 35.74.05.1002 | E38: Kareng Lor | F38: Lap. Sepak Takraw | G38: Sepak takraw | H38: RW. 05 | K38: Baik | L38: Masyarakat | M38: 1 lapangan
A39: 2025 | B39: 35.74.05 | C39: Kedopok | D39: 35.74.05.1002 | E39: Kareng Lor | F39: Lapangan Tenis Meja | G39: Tenis Meja | H39: RW. 05 | K39: Baik | L39: Masyarakat | M39: 1 lapangan
A40: 2025 | B40: 35.74.04 | C40: Kanigaran | D40: 35.74.04.1002 | E40: Sukoharjo | F40: Lapangan Sepak Bola | G40: Sepak Bola | H40: Jl. KH. Hasan Gg. Gumuk | K40: Baik | L40: Aset | M40: 1 lapangan
A41: 2025 | B41: 35.74.01 | C41: Kademangan | D41: 35.74.01.1001 | E41: Ketapang | F41: Lapangan Bola Volly | G41: Bola Volly | H41: SD. Ketapang 1 | K41: Baik | L41: Aset | M41: 1 lapangan
A42: 2025 | B42: 35.74.01 | C42: Kademangan | D42: 35.74.01.1001 | E42: Ketapang | F42: Lapangan Bola Volly | G42: Bola Volly | H42: Pondok Riadlus Sholihin | K42: Baik | L42: Masyarakat | M42: 1 lapangan
A43: 2025 | B43: 35.74.01 | C43: Kademangan | D43: 35.74.01.1001 | E43: Ketapang | F43: Lapangan Bola Volly | G43: Bola Volly | H43: RT.01 RW.05 | K43: Baik | L43: Masyarakat | M43: 1 lapangan
A44: 2025 | B44: 35.74.01 | C44: Kademangan | D44: 35.74.01.1001 | E44: Ketapang | F44: Lapangan Futsal | G44: Futsal | H44: Jl. Abdurrahman Wahid | K44: Baik | L44: Pro Futsal | M44: 1 lapangan
A45: 2025 | B45: 35.74.01 | C45: Kademangan | D45: 35.74.01.1001 | E45: Ketapang | F45: Lapangan Futsal | G45: Futsal | H45: Jl. Raya Bromo | K45: Baik | L45: Indi futsal | M45: 1 lapangan
A46: 2025 | B46: 35.74.04 | C46: Kanigaran | D46: 35.74.04.1005 | E46: Curahgrinting | F46: Lapangan Bola Volly | G46: Bola Volly | H46: Jln. Soekarno Hatta RT.02 RW.03 | K46: Baik | L46: Pem. Prov | M46: 1 lapangan
A47: 2025 | B47: 35.74.04 | C47: Kanigaran | D47: 35.74.04.1005 | E47: Curahgrinting | F47: Lapangan Sepak Bola | G47: Sepak Bola | H47: Jln. Soekarno Hatta RT.02 RW.03 | K47: Baik | L47: Pem. Prov | M47: 1 lapangan
A48: 2025 | B48: 35.74.04 | C48: Kanigaran | D48: 35.74.04.1005 | E48: Curahgrinting | F48: Lap. Sepak Takraw | G48: Sepak takraw | H48: Jln. Soekarno Hatta RT.02 RW.03 | K48: Baik | L48: Kemenag | M48: 1 lapangan
A49: 2025 | B49: 35.74.04 | C49: Kanigaran | D49: 35.74.04.1005 | E49: Curahgrinting | F49: Lapangan Futsal | G49: Futsal | H49: Jln. Soekarno Hatta RT.02 RW.03 | K49: Baik | L49: Masyarakat | M49: 1 lapangan
... A84: 2025 | B84: 35.74.03 | C84: Mayangan | D84: 35.74.03.1007 | E84: Sukabumi | F84: Lapangan Tenis | G84: Tenis Lapangan | H84: Jl. Ais Nasution | K84: Baik | L84: Masyarakat | M84: 1 lapangan

Sheet 16
A1: Tahun 2025 - Jumlah Klub Olahraga Menurut Kelurahan di Kota Probolinggo
A2: Mohon tambahkan jenis olahraga bila terdapat perubahan
A4: tahun | B4: jenis_olahraga | C4: jumlah_klub_olahraga | E4: jenis_olahraga | F4: SUM of jumlah_klub_olahraga
A5: 2025 | B5: Badminton | C5: 2 | E5: Badminton | F5: 2
A6: 2025 | B6: Bela Diri | C6: 0 | E6: Basket
A7: 2025 | B7: Bola Voli | C7: 10 | E7: Bela Diri
A8: 2025 | B8: Futsal | C8: 0 | E8: Bilyar
A9: 2025 | B9: Karate | C9: 1 | E9: Bola Voli | F9: 10
A10: 2025 | B10: Pencak Silat | C10: 3 | E10: Bridge
A11: 2025 | B11: Senam | C11: 3 | E11: Catur
A12: 2025 | B12: Sepak Bola | C12: 10 | E12: Drum Band
A13: 2025 | B13: Sepeda Santai | C13: 0 | E13: Futsal
A14: 2025 | B14: Tenis Meja | C14: 0 | E14: Karate | F14: 1
A15: 2025 | B15: Catur | C15: 0 | E15: Panahan
A16: 2025 | B16: Taekwondo | C16: 0 | E16: Panjat Tebing
A17: 2025 | B17: Renang | C17: 0 | E17: Pencak Silat | F17: 3
A18: 2025 | B18: Drum Band | C18: 0 | E18: Renang
A19: 2025 | B19: Basket | C19: 0 | E19: Senam | F19: 3
A20: 2025 | B20: Tenis Lapangan | C20: 0 | E20: Sepak Bola | F20: 10
A21: 2025 | B21: Bridge | C21: 0 | E21: Sepeda Santai
A22: 2025 | B22: Panahan | C22: 0 | E22: Taekwondo
A23: 2025 | B23: Bilyar | C23: 0 | E23: Tenis Lapangan
A24: 2025 | B24: Panjat Tebing | C24: 0 | E24: Tenis Meja
A25: 2025 | B25: Wushu | C25: 0 | E25: Wushu
E26: Total Keseluruhan | F26: 29
E27: 2024 | F27: 60

Sheet 17
A1: Tahun 2025 - Daftar Klub Olahraga yang ada di Kota Probolinggo
A2: Catatan : Mohon data yang terisi dicek kembali dan direvisi bila ada yang tidak tepat
A4: tahun | B4: jenis_olahraga | C4: nama_klub_olahraga | D4: jumlah_anggota
A5: 2025 | B5: Badminton | C5: PB Covid | F5: jenis_olahraga | G5: SUM of jumlah_anggota | H5: COUNTA of jenis_olahraga
A6: 2025 | B6: Badminton | C6: PB Samator | F6: Badminton | H6: 3
A7: 2025 | B7: Badminton | C7: TORANGGA | F7: Bola Voli | H7: 13
A8: 2025 | B8: Bola Voli | C8: GARWI | F8: Futsal | H8: 1
A9: 2025 | B9: Bola Voli | C9: PERWIRA | F9: Karate | H9: 2
A10: 2025 | B10: Bola Voli | C10: PERVOB | F10: Pencak Silat | H10: 3
A11: 2025 | B11: Bola Voli | C11: Kelapa Gading | F11: Senam | H11: 3
A12: 2025 | B12: Bola Voli | C12: Lucky Mastrip | F12: Sepak Bola | H12: 8
A13: 2025 | B13: Bola Voli | C13: Pemuda GPM | F13: Sepeda santai | H13: 1
A14: 2025 | B14: Bola Voli | C14: Lambrador | F14: Tenis Meja | H14: 3
A15: 2025 | B15: Bola Voli | C15: Putra Dewa | F15: Total Keseluruhan | H15: 37
A16: 2025 | B16: Bola Voli | C16: Merpati Putra
A17: 2025 | B17: Bola Voli | C17: Lawet
A18: 2025 | B18: Bola Voli | C18: Rubestar
A19: 2025 | B19: Bola Voli | C19: Kendedes
A20: 2025 | B20: Bola Voli | C20: seroja
A21: 2025 | B21: Futsal | C21: Pemuda GPM
A22: 2025 | B22: Karate | C22: Karate
A23: 2025 | B23: Karate | C23: PARKI
A24: 2025 | B24: Pencak Silat | C24: Ibnu Alwan
A25: 2025 | B25: Pencak silat | C25: Pagar Nusa
A26: 2025 | B26: Pencak Silat | C26: Wushu
A27: 2025 | B27: Senam | C27: Senam Melati
... A41: 2025 | B41: Tenis Meja | C41: PTM (Persatuan Tenis Meja)

Sheet 18
A1: Tahun 2025 - Jumlah Gedung Olahraga Menurut Kelurahan di Kota Probolinggo
A3: tahun | B3: kode_kecamatan | C3: kecamatan | D3: kode_kelurahan | E3: kelurahan | F3: jumlah_gedung_olahraga | H3: kecamatan | I3: SUM of jumlah_gedung_olahraga
A4: 2025 | B4: 35.74.01 | C4: Kademangan | D4: 35.74.01.1001 | E4: Ketapang | H4: Kademangan
A5: 2025 | B5: 35.74.01 | C5: Kademangan | D5: 35.74.01.1002 | E5: Triwung Lor | H5: Kanigaran | I5: 1
A6: 2025 | B6: 35.74.01 | C6: Kademangan | D6: 35.74.01.1003 | E6: Triwung Kidul | H6: Kedopok | I6: 4
A7: 2025 | B7: 35.74.01 | C7: Kademangan | D7: 35.74.01.1007 | E7: Pohsangit Kidul | H7: Mayangan | I7: 1
A8: 2025 | B8: 35.74.01 | C8: Kademangan | D8: 35.74.01.1008 | E8: Kademangan | H8: Wonoasih
A9: 2025 | B9: 35.74.01 | C9: Kademangan | D9: 35.74.01.1009 | E9: Pilang | H9: Total Keseluruhan | I9: 6
A10: 2025 | B10: 35.74.02 | C10: Wonoasih | D10: 35.74.02.1001 | E10: Jrebeng Kidul | H10: 2024 | I10: 5
A11: 2025 | B11: 35.74.02 | C11: Wonoasih | D11: 35.74.02.1002 | E11: Pakistaji
A12: 2025 | B12: 35.74.02 | C12: Wonoasih | D12: 35.74.02.1003 | E12: Kedunggaleng
A13: 2025 | B13: 35.74.02 | C13: Wonoasih | D13: 35.74.02.1005 | E13: Kedung Asem
A14: 2025 | B14: 35.74.02 | C14: Wonoasih | D14: 35.74.02.1006 | E14: Sumber Taman
A15: 2025 | B15: 35.74.02 | C15: Wonoasih | D15: 35.74.02.1007 | E15: Wonoasih
A16: 2025 | B16: 35.74.03 | C16: Mayangan | D16: 35.74.03.1001 | E16: Mayangan
A17: 2025 | B17: 35.74.03 | C17: Mayangan | D17: 35.74.03.1002 | E17: Mangunharjo | F17: 1
A18: 2025 | B18: 35.74.03 | C18: Mayangan | D18: 35.74.03.1004 | E18: Jati
A19: 2025 | B19: 35.74.03 | C19: Mayangan | D19: 35.74.03.1007 | E19: Sukabumi
A20: 2025 | B20: 35.74.03 | C20: Mayangan | D20: 35.74.03.1010 | E20: Wiroborang
A21: 2025 | B21: 35.74.04 | C21: Kanigaran | D21: 35.74.04.1001 | E21: Tisnonegaran | F21: 1
A22: 2025 | B22: 35.74.04 | C22: Kanigaran | D22: 35.74.04.1002 | E22: Sukoharjo
A23: 2025 | B23: 35.74.04 | C23: Kanigaran | D23: 35.74.04.1003 | E23: Kanigaran
A24: 2025 | B24: 35.74.04 | C24: Kanigaran | D24: 35.74.04.1004 | E24: Kebonsari Wetan
A25: 2025 | B25: 35.74.04 | C25: Kanigaran | D25: 35.74.04.1005 | E25: Curahgrinting
A26: 2025 | B26: 35.74.04 | C26: Kanigaran | D26: 35.74.04.1006 | E26: Kebonsari Kulon
A27: 2025 | B27: 35.74.05 | C27: Kedopok | D27: 35.74.05.1001 | E27: Jrebeng Kulon
A28: 2025 | B28: 35.74.05 | C28: Kedopok | D28: 35.74.05.1002 | E28: Kareng Lor
A29: 2025 | B29: 35.74.05 | C29: Kedopok | D29: 35.74.05.1003 | E29: Sumber Wetan
A30: 2025 | B30: 35.74.05 | C30: Kedopok | D30: 35.74.05.1004 | E30: Jrebeng Lor | F30: 1
A31: 2025 | B31: 35.74.05 | C31: Kedopok | D31: 35.74.05.1005 | E31: Kedopok | F31: 3
A32: 2025 | B32: 35.74.05 | C32: Kedopok | D32: 35.74.05.1006 | E32: Jrebeng Wetan

Sheet 19
A1: Tahun 2025 - Daftar Gedung Olahraga yang ada di Kota Probolinggo
A2: Catatan : Mohon data yang terisi dicek kembali dan direvisi bila ada yang tidak tepat
A4: tahun | B4: kode_kecamatan | C4: kecamatan | D4: kode_kelurahan | E4: kelurahan | F4: nama_gedung | G4: jenis_olahraga | H4: alamat | I4: latitude | J4: longitude | K4: kondisi | L4: status_kepemilikikan | M4: kapasitas | O4: kecamatan | P4: COUNTA of nama_gedung
A5: 2025 | B5: 35.74.05 | C5: Kedopok | D5: 35.74.05.1005 | E5: Kedopok | F5: GOR Mastrip | G5: Bola Voli, Futsal, Badminton | H5: Jalan Mastrip | I5: -7,784972491447899 | J5: 113,21217236621135 | K5: Baik | L5: Aset | M5: 2000 | O5: Kanigaran | P5: 1
A6: 2025 | B6: 35.74.04 | C6: Kanigaran | D6: 35.74.04.1001 | E6: Tisnonegaran | F6: Gor A. Yani | G6: Bola Voli, Futsal, Badminton | H6: Jalan dr. soetomo | I6: -7,751161660172399 | J6: 113,21716450892900 | K6: Baik | L6: Aset | M6: 1000 | O6: Kedopok | P6: 1
A7: 2025 | B7: 35.74.03 | C7: Mayangan | D7: 35.74.03.1002 | E7: Mangunharjo | F7: GOR Tri Dharma | G7: Bola Voli, Futsal, Badminton | H7: Jalan Wr. Supratman | I7: -7,746804558510815 | J7: 113,22048651294419 | K7: Baik | L7: Swasta | M7: 1000 | O7: Mayangan | P7: 1
O8: Total Keseluruhan | P8: 3
O10: 2024 | P10: 3

Sheet 20
A1: Tahun 2025 - Jumlah Organisasi Kepemudaan Menurut Kelurahan di Kota Probolinggo
A3: tahun | B3: kode_kecamatan | C3: kecamatan | D3: kode_kelurahan | E3: kelurahan | F3: jumlah_organisasi_kepemudaan | H3: kecamatan | I3: SUM of jumlah_organisasi_kepemudaan
A4: 2025 | B4: 35.74.01 | C4: Kademangan | D4: 35.74.01.1001 | E4: Ketapang | H4: Kademangan
A5: 2025 | B5: 35.74.01 | C5: Kademangan | D5: 35.74.01.1002 | E5: Triwung Lor | H5: Kanigaran
A6: 2025 | B6: 35.74.01 | C6: Kademangan | D6: 35.74.01.1003 | E6: Triwung Kidul | H6: Kedopok
A7: 2025 | B7: 35.74.01 | C7: Kademangan | D7: 35.74.01.1007 | E7: Pohsangit Kidul | H7: Mayangan
A8: 2025 | B8: 35.74.01 | C8: Kademangan | D8: 35.74.01.1008 | E8: Kademangan | H8: Wonoasih
A9: 2025 | B9: 35.74.01 | C9: Kademangan | D9: 35.74.01.1009 | E9: Pilang | H9: Total Keseluruhan
A10: 2025 | B10: 35.74.02 | C10: Wonoasih | D10: 35.74.02.1001 | E10: Jrebeng Kidul | H10: 2024 | I10: 29
A11: 2025 | B11: 35.74.02 | C11: Wonoasih | D11: 35.74.02.1002 | E11: Pakistaji
A12: 2025 | B12: 35.74.02 | C12: Wonoasih | D12: 35.74.02.1003 | E12: Kedunggaleng
A13: 2025 | B13: 35.74.02 | C13: Wonoasih | D13: 35.74.02.1005 | E13: Kedung Asem
A14: 2025 | B14: 35.74.02 | C14: Wonoasih | D14: 35.74.02.1006 | E14: Sumber Taman
A15: 2025 | B15: 35.74.02 | C15: Wonoasih | D15: 35.74.02.1007 | E15: Wonoasih
A16: 2025 | B16: 35.74.03 | C16: Mayangan | D16: 35.74.03.1001 | E16: Mayangan
A17: 2025 | B17: 35.74.03 | C17: Mayangan | D17: 35.74.03.1002 | E17: Mangunharjo
A18: 2025 | B18: 35.74.03 | C18: Mayangan | D18: 35.74.03.1004 | E18: Jati
A19: 2025 | B19: 35.74.03 | C19: Mayangan | D19: 35.74.03.1007 | E19: Sukabumi
A20: 2025 | B20: 35.74.03 | C20: Mayangan | D20: 35.74.03.1010 | E20: Wiroborang
A21: 2025 | B21: 35.74.04 | C21: Kanigaran | D21: 35.74.04.1001 | E21: Tisnonegaran
A22: 2025 | B22: 35.74.04 | C22: Kanigaran | D22: 35.74.04.1002 | E22: Sukoharjo
... A32: 2025 | B32: 35.74.05 | C32: Kedopok | D32: 35.74.05.1006 | E32: Jrebeng Wetan

Sheet 21
A1: Tahun 2025 - Daftar Organisasi Kepemudaan yang ada di Kota Probolinggo
A3: tahun | B3: kode_kecamatan | C3: kecamatan | D3: kode_kelurahan | E3: kelurahan | F3: nama_organisasi | G3: alamat | H3: latitude | I3: longitude | J3: status | K3: jumlah_anggota
A4: 2025 | B4: 35.74.01 | C4: Kademangan | D4: 35.74.01.1001 | E4: Ketapang | M4: kecamatan | N4: COUNTA of nama_organisasi | O4: SUM of jumlah_anggota
A5: 2025 | B5: 35.74.01 | C5: Kademangan | D5: 35.74.01.1002 | E5: Triwung Lor | M5: Kademangan
A6: 2025 | B6: 35.74.01 | C6: Kademangan | D6: 35.74.01.1003 | E6: Triwung Kidul | M6: Kanigaran
A7: 2025 | B7: 35.74.01 | C7: Kademangan | D7: 35.74.01.1007 | E7: Pohsangit Kidul | M7: Kedopok
A8: 2025 | B8: 35.74.01 | C8: Kademangan | D8: 35.74.01.1008 | E8: Kademangan | M8: Mayangan
A9: 2025 | B9: 35.74.01 | C9: Kademangan | D9: 35.74.01.1009 | E9: Pilang | M9: Wonoasih
A10: 2025 | B10: 35.74.02 | C10: Wonoasih | D10: 35.74.02.1001 | E10: Jrebeng Kidul | M10: Total Keseluruhan
A11: 2025 | B11: 35.74.02 | C11: Wonoasih | D11: 35.74.02.1002 | E11: Pakistaji
A12: 2025 | B12: 35.74.02 | C12: Wonoasih | D12: 35.74.02.1003 | E12: Kedunggaleng
A13: 2025 | B13: 35.74.02 | C13: Wonoasih | D13: 35.74.02.1005 | E13: Kedung Asem
A14: 2025 | B14: 35.74.02 | C14: Wonoasih | D14: 35.74.02.1006 | E14: Sumber Taman
A15: 2025 | B15: 35.74.02 | C15: Wonoasih | D15: 35.74.02.1007 | E15: Wonoasih
A16: 2025 | B16: 35.74.03 | C16: Mayangan | D16: 35.74.03.1001 | E16: Mayangan
A17: 2025 | B17: 35.74.03 | C17: Mayangan | D17: 35.74.03.1001 | E17: Mayangan
A18: 2025 | B18: 35.74.03 | C18: Mayangan | D18: 35.74.03.1002 | E18: Mangunharjo
A19: 2025 | B19: 35.74.03 | C19: Mayangan | D19: 35.74.03.1002 | E19: Mangunharjo
A20: 2025 | B20: 35.74.03 | C20: Mayangan | D20: 35.74.03.1002 | E20: Mangunharjo
A21: 2025 | B21: 35.74.03 | C21: Mayangan | D21: 35.74.03.1004 | E21: Jati
A22: 2025 | B22: 35.74.03 | C22: Mayangan | D22: 35.74.03.1007 | E22: Sukabumi
... A49: 2025 | B49: 35.74.05 | C49: Kedopok | D49: 35.74.05.1006 | E49: Jrebeng Wetan

Sheet 22
A1: Tahun 2025 - Jumlah Organisasi Olahraga Menurut Kelurahan di Kota Probolinggo
A3: tahun | B3: kode_kecamatan | C3: kecamatan | D3: kode_kelurahan | E3: kelurahan | F3: jumlah_organisasi_olahraga | H3: kecamatan | I3: SUM of jumlah_organisasi_olahraga
A4: 2025 | B4: 35.74.01 | C4: Kademangan | D4: 35.74.01.1001 | E4: Ketapang | F4: 2 | H4: Kademangan | I4: 4
A5: 2025 | B5: 35.74.01 | C5: Kademangan | D5: 35.74.01.1002 | E5: Triwung Lor | F5: 1 | H5: Kanigaran | I5: 15
A6: 2025 | B6: 35.74.01 | C6: Kademangan | D6: 35.74.01.1003 | E6: Triwung Kidul | H6: Kedopok | I6: 12
A7: 2025 | B7: 35.74.01 | C7: Kademangan | D7: 35.74.01.1007 | E7: Pohsangit Kidul | H7: Mayangan | I7: 10
A8: 2025 | B8: 35.74.01 | C8: Kademangan | D8: 35.74.01.1008 | E8: Kademangan | H8: Wonoasih | I8: 3
A9: 2025 | B9: 35.74.01 | C9: Kademangan | D9: 35.74.01.1009 | E9: Pilang | F9: 1 | H9: Total Keseluruhan | I9: 44
A10: 2025 | B10: 35.74.02 | C10: Wonoasih | D10: 35.74.02.1001 | E10: Jrebeng Kidul | F10: 1 | H10: 2024 | I10: 44
A11: 2025 | B11: 35.74.02 | C11: Wonoasih | D11: 35.74.02.1002 | E11: Pakistaji | F11: 1
A12: 2025 | B12: 35.74.02 | C12: Wonoasih | D12: 35.74.02.1003 | E12: Kedunggaleng | F12: 1
A13: 2025 | B13: 35.74.02 | C13: Wonoasih | D13: 35.74.02.1005 | E13: Kedung Asem
A14: 2025 | B14: 35.74.02 | C14: Wonoasih | D14: 35.74.02.1006 | E14: Sumber Taman
A15: 2025 | B15: 35.74.02 | C15: Wonoasih | D15: 35.74.02.1007 | E15: Wonoasih
A16: 2025 | B16: 35.74.03 | C16: Mayangan | D16: 35.74.03.1001 | E16: Mayangan | F16: 1
A17: 2025 | B17: 35.74.03 | C17: Mayangan | D17: 35.74.03.1002 | E17: Mangunharjo | F17: 4
A18: 2025 | B18: 35.74.03 | C18: Mayangan | D18: 35.74.03.1004 | E18: Jati
A19: 2025 | B19: 35.74.03 | C19: Mayangan | D19: 35.74.03.1007 | E19: Sukabumi | F19: 5
A20: 2025 | B20: 35.74.03 | C20: Mayangan | D20: 35.74.03.1010 | E20: Wiroborang
A21: 2025 | B21: 35.74.04 | C21: Kanigaran | D21: 35.74.04.1001 | E21: Tisnonegaran | F21: 4
A22: 2025 | B22: 35.74.04 | C22: Kanigaran | D22: 35.74.04.1002 | E22: Sukoharjo
A23: 2025 | B23: 35.74.04 | C23: Kanigaran | D23: 35.74.04.1003 | E23: Kanigaran | F23: 1
A24: 2025 | B24: 35.74.04 | C24: Kanigaran | D24: 35.74.04.1004 | E24: Kebonsari Wetan
A25: 2025 | B25: 35.74.04 | C25: Kanigaran | D25: 35.74.04.1005 | E25: Curahgrinting | F25: 3
A26: 2025 | B26: 35.74.04 | C26: Kanigaran | D26: 35.74.04.1006 | E26: Kebonsari Kulon | F26: 7
A27: 2025 | B27: 35.74.05 | C27: Kedopok | D27: 35.74.05.1001 | E27: Jrebeng Kulon | F27: 1
A28: 2025 | B28: 35.74.05 | C28: Kedopok | D28: 35.74.05.1002 | E28: Kareng Lor
A29: 2025 | B29: 35.74.05 | C29: Kedopok | D29: 35.74.05.1003 | E29: Sumber Wetan | F29: 1
A30: 2025 | B30: 35.74.05 | C30: Kedopok | D30: 35.74.05.1004 | E30: Jrebeng Lor | F30: 1
A31: 2025 | B31: 35.74.05 | C31: Kedopok | D31: 35.74.05.1005 | E31: Kedopok | F31: 8
A32: 2025 | B32: 35.74.05 | C32: Kedopok | D32: 35.74.05.1006 | E32: Jrebeng Wetan | F32: 1

Sheet 23
A1: Tahun 2024 - Daftar Organisasi Olahraga yang ada di Kota Probolinggo
A3: tahun | B3: kode_kecamatan | C3: kecamatan | D3: kode_kelurahan | E3: kelurahan | F3: nama_organisasi | G3: alamat | H3: latitude | I3: longitude | J3: status | K3: jumlah_anggota | M3: kecamatan | N3: COUNTA of nama_organisasi
A4: 2025 | B4: 35.74.01 | C4: Kademangan | D4: 35.74.01.1001 | E4: Ketapang | M4: Kademangan
A5: 2025 | B5: 35.74.01 | C5: Kademangan | D5: 35.74.01.1001 | E5: Ketapang | M5: Kanigaran
A6: 2025 | B6: 35.74.01 | C6: Kademangan | D6: 35.74.01.1002 | E6: Triwung Lor | M6: Kedopok
A7: 2025 | B7: 35.74.01 | C7: Kademangan | D7: 35.74.01.1003 | E7: Triwung Kidul | M7: Mayangan
A8: 2025 | B8: 35.74.01 | C8: Kademangan | D8: 35.74.01.1007 | E8: Pohsangit Kidul | M8: Wonoasih
A9: 2025 | B9: 35.74.01 | C9: Kademangan | D9: 35.74.01.1008 | E9: Kademangan | M9: Total Keseluruhan
A10: 2025 | B10: 35.74.01 | C10: Kademangan | D10: 35.74.01.1009 | E10: Pilang | M10: 2024 | N10: 44
A11: 2025 | B11: 35.74.02 | C11: Wonoasih | D11: 35.74.02.1001 | E11: Jrebeng Kidul
A12: 2025 | B12: 35.74.02 | C12: Wonoasih | D12: 35.74.02.1002 | E12: Pakistaji
A13: 2025 | B13: 35.74.02 | C13: Wonoasih | D13: 35.74.02.1003 | E13: Kedunggaleng
A14: 2025 | B14: 35.74.02 | C14: Wonoasih | D14: 35.74.02.1005 | E14: Kedung Asem
A15: 2025 | B15: 35.74.02 | C15: Wonoasih | D15: 35.74.02.1006 | E15: Sumber Taman
A16: 2025 | B16: 35.74.02 | C16: Wonoasih | D16: 35.74.02.1007 | E16: Wonoasih
A17: 2025 | B17: 35.74.03 | C17: Mayangan | D17: 35.74.03.1001 | E17: Mayangan
A18: 2025 | B18: 35.74.03 | C18: Mayangan | D18: 35.74.03.1002 | E18: Mangunharjo
A19: 2025 | B19: 35.74.03 | C19: Mayangan | D19: 35.74.03.1002 | E19: Mangunharjo
A20: 2025 | B20: 35.74.03 | C20: Mayangan | D20: 35.74.03.1002 | E20: Mangunharjo
A21: 2025 | B21: 35.74.03 | C21: Mayangan | D21: 35.74.03.1002 | E21: Mangunharjo
A22: 2025 | B22: 35.74.03 | C22: Mayangan | D22: 35.74.03.1004 | E22: Jati
... A58: 2025 | B58: 35.74.05 | C58: Kedopok | D58: 35.74.05.1006 | E58: Jrebeng Wetan

Sheet 24
A1: Tahun 2024 - Daftar Kegiatan Kepemudaan yang dilaksanakan di Kota Probolinggo
A3: tahun | B3: nama_kegiatan | C3: tempat_penyelenggaraan | D3: jumlah_peserta | F3: tahun | G3: COUNTA of nama_kegiatan
A4: 2025 | F4: 2025
A5: 2025 | F5: Total Keseluruhan
A6: 2025 | F6: 2024 | G6: 2
A7: 2025
A8: 2025
A9: 2025
A10: 2025

Sheet 25
A2: Tahun 2025 - Daftar Kegiatan Olahraga yang dilaksanakan di Kota Probolinggo
A5: tahun | B5: nama_kegiatan | C5: tempat_penyelenggaraan | D5: jumlah_peserta | F5: tahun | G5: COUNTA of nama_kegiatan
A6: 2025 | B6: Liga Sepak Bola Pelajar | C6: Stadion Bayuangga | D6: 15 | F6: 2025 | G6: 2
A7: 2025 | B7: Olahraga Tradisional Tingkat SMP | C7: Gor A. Yani | D7: 20 | F7: Total Keseluruhan | G7: 2
A8: 2025
A9: 2025 | F9: 2024 | G9: 8
A10: 2025
A11: 2025
A12: 2025
A13: 2025

Sheet 26
A1: Tahun 2025 - Jumlah Usaha Makanan dan Minimum Menurut Jenis Usaha dan Kelurahan di Kota Probolinggo
A3: tahun | B3: kode_kecamatan | C3: kecamatan | D3: kode_kelurahan | E3: kelurahan | F3: jenis_usaha | G3: jumlah | I3: SUM of jumlah | J3: jenis_usaha
A4: 2025 | B4: 35.74.01 | C4: Kademangan | D4: 35.74.01.1001 | E4: Ketapang | F4: Restoran | G4: 0 | I4: kecamatan | J4: Bar/Rumah Minum | K4: Jasa Boga/Katering | L4: Kafe | M4: Pusat Penjualan Makanan | N4: Restoran | O4: Rumah Makan | P4: Total Keseluruhan
A5: 2025 | B5: 35.74.01 | C5: Kademangan | D5: 35.74.01.1001 | E5: Ketapang | F5: Rumah Makan | G5: 3 | I5: Kademangan | J5: 0 | K5: 26 | L5: 13 | M5: 0 | N5: 2 | O5: 15 | P5: 56
A6: 2025 | B6: 35.74.01 | C6: Kademangan | D6: 35.74.01.1001 | E6: Ketapang | F6: Bar/Rumah Minum | G6: 0 | I6: Kanigaran | J6: 0 | K6: 61 | L6: 34 | M6: 6 | N6: 14 | O6: 59 | P6: 174
A7: 2025 | B7: 35.74.01 | C7: Kademangan | D7: 35.74.01.1001 | E7: Ketapang | F7: Kafe | G7: 7 | I7: Kedopok | J7: 0 | K7: 59 | L7: 10 | M7: 1 | N7: 0 | O7: 16 | P7: 86
A8: 2025 | B8: 35.74.01 | C8: Kademangan | D8: 35.74.01.1001 | E8: Ketapang | F8: Jasa Boga/Katering | G8: 3 | I8: Mayangan | J8: 0 | K8: 48 | L8: 32 | M8: 2 | N8: 19 | O8: 90 | P8: 191
A9: 2025 | B9: 35.74.01 | C9: Kademangan | D9: 35.74.01.1001 | E9: Ketapang | F9: Pusat Penjualan Makanan | G9: 0 | I9: Wonoasih | J9: 0 | K9: 28 | L9: 2 | M9: 0 | N9: 0 | O9: 9 | P9: 39
A10: 2025 | B10: 35.74.01 | C10: Kademangan | D10: 35.74.01.1002 | E10: Triwung Lor | F10: Restoran | G10: 2 | I10: Total Keseluruhan | J10: 0 | K10: 222 | L10: 91 | M10: 9 | N10: 35 | O10: 189 | P10: 546
A11: 2025 | B11: 35.74.01 | C11: Kademangan | D11: 35.74.01.1002 | E11: Triwung Lor | F11: Rumah Makan | G11: 0 | I11: 2024 | J11: 0 | K11: 224 | L11: 86 | M11: 10 | N11: 32 | O11: 176 | P11: 528
A12: 2025 | B12: 35.74.01 | C12: Kademangan | D12: 35.74.01.1002 | E12: Triwung Lor | F12: Bar/Rumah Minum | G12: 0 | I12: sheet 27 | N12: ='27'!N8 -> 35
A13: 2025 | B13: 35.74.01 | C13: Kademangan | D13: 35.74.01.1002 | E13: Triwung Lor | F13: Kafe | G13: 3 | I13: sheet 28 | O13: ='28'!N10 -> 189
A14: 2025 | B14: 35.74.01 | C14: Kademangan | D14: 35.74.01.1002 | E14: Triwung Lor | F14: Jasa Boga/Katering | G14: 4 | I14: sheet 29 | L14: ='29'!L10 -> 91
A15: 2025 | B15: 35.74.01 | C15: Kademangan | D15: 35.74.01.1002 | E15: Triwung Lor | F15: Pusat Penjualan Makanan | G15: 0 | I15: sheet 30 | K15: ='30'!L10 -> 222
A16: 2025 | B16: 35.74.01 | C16: Kademangan | D16: 35.74.01.1003 | E16: Triwung Kidul | F16: Restoran | G16: 0 | I16: sheet 31 | M16: ='31'!C20 -> 9
A17: 2025 | B17: 35.74.01 | C17: Kademangan | D17: 35.74.01.1003 | E17: Triwung Kidul | F17: Rumah Makan | G17: 6
A18: 2025 | B18: 35.74.01 | C18: Kademangan | D18: 35.74.01.1003 | E18: Triwung Kidul | F18: Bar/Rumah Minum | G18: 0
A19: 2025 | B19: 35.74.01 | C19: Kademangan | D19: 35.74.01.1003 | E19: Triwung Kidul | F19: Kafe | G19: 0
A20: 2025 | B20: 35.74.01 | C20: Kademangan | D20: 35.74.01.1003 | E20: Triwung Kidul | F20: Jasa Boga/Katering | G20: 3
A21: 2025 | B21: 35.74.01 | C21: Kademangan | D21: 35.74.01.1003 | E21: Triwung Kidul | F21: Pusat Penjualan Makanan | G21: 0
A22: 2025 | B22: 35.74.01 | C22: Kademangan | D22: 35.74.01.1007 | E22: Pohsangit Kidul | F22: Restoran | G22: 0
A23: 2025 | B23: 35.74.01 | C23: Kademangan | D23: 35.74.01.1007 | E23: Pohsangit Kidul | F23: Rumah Makan | G23: 0
A24: 2025 | B24: 35.74.01 | C24: Kademangan | D24: 35.74.01.1007 | E24: Pohsangit Kidul | F24: Bar/Rumah Minum | G24: 0
A25: 2025 | B25: 35.74.01 | C25: Kademangan | D25: 35.74.01.1007 | E25: Pohsangit Kidul | F25: Kafe | G25: 0
A26: 2025 | B26: 35.74.01 | C26: Kademangan | D26: 35.74.01.1007 | E26: Pohsangit Kidul | F26: Jasa Boga/Katering | G26: 3
A27: 2025 | B27: 35.74.01 | C27: Kademangan | D27: 35.74.01.1007 | E27: Pohsangit Kidul | F27: Pusat Penjualan Makanan | G27: 0
A28: 2025 | B28: 35.74.01 | C28: Kademangan | D28: 35.74.01.1008 | E28: Kademangan | F28: Restoran | G28: 0
... A177: 2025 | B177: 35.74.05 | C177: Kedopok | D177: 35.74.05.1006 | E177: Jrebeng Wetan | F177: Pusat Penjualan Makanan | G177: 0

Sheet 27
A1: Tahun 2025 - Daftar Usaha Restoran di Kota Probolinggo
A2: Catatan : Mohon data yang terisi dicek kembali dan direvisi bila ada yang tidak tepat
A4: tahun | B4: kode_kecamatan | C4: kecamatan | D4: kode_kelurahan | E4: kelurahan | F4: nama_restoran | G4: alamat | H4: latitude | I4: longitude | J4: nomor_telepon | K4: pemilik_pengelola | M4: kecamatan | N4: COUNTA of nama_restoran
A5: 2025 | B5: 35.74.01 | C5: Kademangan | D5: 35.74.01.1002 | E5: Triwung Lor | F5: Chill Coffee & Eatery | G5: Jl. Raya Bromo Kel. Triwung Lor Kec. Kademangan | J5: 0822-2844-0466 | M5: Kademangan | N5: 2
A6: 2025 | B6: 35.74.01 | C6: Kademangan | D6: 35.74.01.1002 | E6: Triwung Lor | F6: Garden City | G6: Jl. Bromo Km 3 No.62 Kel. Triwung Lor Kec. Kademangan | J6: 0821-4568-7989 | K6: Wahyu | M6: Kanigaran | N6: 14
A7: 2025 | B7: 35.74.04 | C7: Kanigaran | D7: 35.74.04.1003 | E7: Kanigaran | F7: Noe Coffee | G7: Perumahan Asabri Blok F No.247 Kel. Kanigaran Kec. Kanigaran | J7: 0852-5840-1676 | M7: Mayangan | N7: 19
A8: 2025 | B8: 35.74.04 | C8: Kanigaran | D8: 35.74.04.1006 | E8: Kebonsari Kulon | F8: Quatro | G8: Jl. Panglima Sudirman No.327 Kel. Kebonsari Kulon Kec. Kanigaran | J8: 0813-3150-8224 | K8: Hardian Prayoga | M8: Total Keseluruhan | N8: 35
A9: 2025 | B9: 35.74.04 | C9: Kanigaran | D9: 35.74.04.1006 | E9: Kebonsari Kulon | F9: Seantero Eatery & Café | G9: Jl. Pahlawan No.65 Kel. Kebonsari Kulon Kec. Kanigaran | J9: 0851-4249-0711 | K9: Kiki Bunga Ari Firdauzi | M9: 2024 | N9: 32
A10: 2025 | B10: 35.74.04 | C10: Kanigaran | D10: 35.74.04.1001 | E10: Tisnonegaran | F10: AAA | G10: Jl. Pahlawan No.17 Kel. Tisnonegaran Kec. Kanigaran | J10: 0812-3377-9900 | K10: Andry H
A11: 2025 | B11: 35.74.04 | C11: Kanigaran | D11: 35.74.04.1001 | E11: Tisnonegaran | F11: D & C 19 | G11: Jl. Pahlawan No.19 Kel. Tisnonegaran Kec. Kanigaran | J11: 0821-3888-7888 | K11: Ridianto Sudijono Putro
A12: 2025 | B12: 35.74.04 | C12: Kanigaran | D12: 35.74.04.1001 | E12: Tisnonegaran | F12: D'Bell Pepper | G12: Jl. Suroyo No.1 Kel. Tisnonegaran Kec. Kanigaran | J12: 0335-421040 | K12: Candra Winarta
A13: 2025 | B13: 35.74.04 | C13: Kanigaran | D13: 35.74.04.1001 | E13: Tisnonegaran | F13: Jawara Ngebul & Gongso | G13: Jl. Mas Suharto No.2 RT.04 RW.05 Kel. Tisnonegaran Kec. Kanigaran | J13: 0811-3771-449 | K13: Dedik Riyawan
A14: 2025 | B14: 35.74.04 | C14: Kanigaran | D14: 35.74.04.1001 | E14: Tisnonegaran | F14: Laoban Kopitiam | G14: Jl. Dr. Sutomo No.26 Kel. Tisnonegaran Kec. Kanigaran | J14: 0812-1728-6255
A15: 2025 | B15: 35.74.04 | C15: Kanigaran | D15: 35.74.04.1001 | E15: Tisnonegaran | F15: Malawa Café | G15: Jl. Panglima Sudirman No.36 Kel. Tisnonegaran Kec. Kanigaran | J15: 0822-4510-8488
A16: 2025 | B16: 35.74.04 | C16: Kanigaran | D16: 35.74.04.1001 | E16: Tisnonegaran | F16: Sari Kuring | G16: Jl. Imam Bonjol No.33 Kel. Tisnonegaran Kec. Kanigaran | J16: 0335-424999 | K16: Ronny Eltu
A17: 2025 | B17: 35.74.04 | C17: Kanigaran | D17: 35.74.04.1001 | E17: Tisnonegaran | F17: Savana Resto | G17: Jl. Dr. Sutomo No.70 Kel. Tisnonegaran Kec. Kanigaran | J17: 0335 4493777 0822-1177-7369 | K17: Andreas Lesmana S
A18: 2025 | B18: 35.74.04 | C18: Kanigaran | D18: 35.74.04.1001 | E18: Tisnonegaran | F18: Uyah Gulo | G18: Jl. Panglima Sudirman No.42 Kel. Tisnonegaran Kec. Kanigaran | J18: 0823-3886-9387 | K18: Dedy Kurniawan
A19: 2025 | B19: 35.74.04 | C19: Kanigaran | D19: 35.74.04.1001 | E19: Tisnonegaran | F19: Waroeng Chef | G19: Jl. Supriyadi Gg. Jepara Kel. Tisnonegaran Kec. Kanigaran | J19: 0812-3450-1180 | K19: Isnan
A20: 2025 | B20: 35.74.04 | C20: Kanigaran | D20: 35.74.04.1001 | E20: Tisnonegaran | F20: Warung BPR (Boga Prima Rasa) | G20: Jl. Pahlawan No.20 Tisnonegaran Kec. Kanigaran | J20: 0822-5778-4502
A21: 2025 | B21: 35.74.03 | C21: Mayangan | D21: 35.74.03.1002 | E21: Mangunharjo | F21: Batu Kepiting Seafood | G21: Jl. Gatot Subroto No.80 RT.08 RW.07 Kel. Mangunharjo Kec. Mayangan | J21: 0878-8584-8887
A22: 2025 | B22: 35.74.03 | C22: Mayangan | D22: 35.74.03.1002 | E22: Mangunharjo | F22: Bijikopi Café | G22: Jl. Ikan Kerapu Kel.Mangunharjo Kec. Mayangan | J22: 0878-5758-5788
A23: 2025 | B23: 35.74.03 | C23: Mayangan | D23: 35.74.03.1002 | E23: Mangunharjo | F23: J'Bing Cafe & Resto | G23: Jl. Basuki Rahmad No.9 RT.01 RW.16 Kel. Mangunharjo Kec. Mayangan | J23: 0852-3329-1115 | K23: Fitri Monika Permata Intan
A24: 2025 | B24: 35.74.03 | C24: Mayangan | D24: 35.74.03.1002 | E24: Mangunharjo | F24: JnC Resto n Pool | G24: Jl. Hayam Wuruk No.9 Kel. Jati Kec. Mayangan | J24: 0812-5225-8257 | K24: Hengky Hadiyanto
A25: 2025 | B25: 35.74.03 | C25: Mayangan | D25: 35.74.03.1002 | E25: Mangunharjo | F25: Kedai Nusantara 168 | G25: Jl. Basuki Rahmad No.24 (Kompleks Ruko CGV Wijaya Kusuma) Kel. Mangunharjo Kec. Mayangan | J25: 0889-9196-4550 | K25: Jason
A26: 2025 | B26: 35.74.03 | C26: Mayangan | D26: 35.74.03.1002 | E26: Mangunharjo | F26: Rest-O-Tent | G26: Pelabuhan Perikanan Pantai, Kel. Mangunharjo Kec. Mayangan | J26: 0335-7021002 0812-3348-4883 | K26: Lasy
A27: 2025 | B27: 35.74.03 | C27: Mayangan | D27: 35.74.03.1002 | E27: Mangunharjo | F27: Sego Box Reborn | G27: Jl. Basuki Rahmad No.24 (Kompleks Ruko CGV Wijaya Kusuma) Kel. Mangunharjo Kec. Mayangan | J27: 0812-3278-1028 | K27: Jason
A28: 2025 | B28: 35.74.03 | C28: Mayangan | D28: 35.74.03.1002 | E28: Mangunharjo | F28: Warung KAMA | G28: Pelabuhan Perikanan Pantai, Kel. Mangunharjo Kec. Mayangan | J28: 0813-3333-3925 0822-4444-4795 | K28: Habib Mahdi
A29: 2025 | B29: 35.74.03 | C29: Mayangan | D29: 35.74.03.1002 | E29: Mangunharjo | F29: Yakuza Japanese Food Restaurant | G29: Jl. KH. Mansyur No.47 Mangunharjo Kec. Mayangan | J29: 0852-1553-0030
A30: 2025 | B30: 35.74.03 | C30: Mayangan | D30: 35.74.03.1007 | E30: Sukabumi | F30: Alibi Café & Resto | G30: Jl. Kartini No.88 Kel. Sukabumi Kec. Mayangan | J30: 0852-3030-4426 | K30: Angel
A31: 2025 | B31: 35.74.03 | C31: Mayangan | D31: 35.74.03.1007 | E31: Sukabumi | F31: Kampung Steak | G31: Jl. Ahmad Yani No.12 Kel. Sukabumi Kec. Mayangan | J31: 0813-9249-5265
A32: 2025 | B32: 35.74.03 | C32: Mayangan | D32: 35.74.03.1007 | E32: Sukabumi | F32: Kedai Asha | G32: Jl. Mayjen DI. Panjaitan No.45 Kel. Sukabumi Kec. Mayangan | J32: 0853-3428-2827 | K32: Sakina Permatasari
A33: 2025 | B33: 35.74.03 | C33: Mayangan | D33: 35.74.03.1007 | E33: Sukabumi | F33: Kokape | G33: Jl. Imam Bonjol No.39 Kel. Sukabumi Kec. Mayangan | J33: 0811-3554-244 | K33: Lioe Christina
A34: 2025 | B34: 35.74.03 | C34: Mayangan | D34: 35.74.03.1007 | E34: Sukabumi | F34: Oikia Cafe and Eatery | G34: Jl. Suyoso No.39 Kel. Sukabumi Kec. Mayangan | J34: 0896-1660-7241
A35: 2025 | B35: 35.74.03 | C35: Mayangan | D35: 35.74.03.1007 | E35: Sukabumi | F35: Orin Hall dan Resto | G35: Jl. Panjaitan No.1A Kel. Sukabumi Kec. Mayangan | J35: 0335-426200 | K35: Fredo Hadi Kristanto, SE
A36: 2025 | B36: 35.74.03 | C36: Mayangan | D36: 35.74.03.1007 | E36: Sukabumi | F36: Paseban Sena Resto | G36: Jl. Suroyo No.51-52 Kel. Sukabumi Kec. Mayangan | J36: 0335-420444 | K36: Mirna Ayu Wulandari
A37: 2025 | B37: 35.74.03 | C37: Mayangan | D37: 35.74.03.1007 | E37: Sukabumi | F37: Q5 Steak & Bowl | G37: Jl. Ahmad Yani Kel. Sukabumi Kec. Mayangan | J37: 0812-3500-0675 | K37: A. Barizi
A38: 2025 | B38: 35.74.03 | C38: Mayangan | D38: 35.74.03.1007 | E38: Sukabumi | F38: Score Café & Resto | G38: Jl. Diponegoro No.05 Kel. Sukabumi Kec. Mayangan | J38: 0852-0456-7483
A39: 2025 | B39: 35.74.03 | C39: Mayangan | D39: 35.74.03.1007 | E39: Sukabumi | F39: Sumber Hidup | G39: Jl. Dr. Moh Saleh Kel. Sukabumi Kec. Mayangan | J39: 0335-421413 | K39: Roy Oktavianus

Sheet 28
A1: Tahun 2025 - Daftar Usaha Rumah Makan di Kota Probolinggo
A2: Catatan : Mohon data yang terisi dicek kembali dan direvisi bila ada yang tidak tepat
A4: tahun | B4: kode_kecamatan | C4: kecamatan | D4: kode_kelurahan | E4: kelurahan | F4: nama_rumah makan | G4: alamat | H4: latitude | I4: longitude | J4: nomor_telepon | K4: pemilik_pengelola | M4: kecamatan | N4: COUNTA of nama_rumah makan
A5: 2025 | B5: 35.74.01 | C5: Kademangan | D5: 35.74.01.1008 | E5: Kademangan | F5: Rumah Makan Padang | G5: Jl. Brantas RT.01 RW.02 Kel. Kademangan Kec. Kademangan | J5: 0821-4254-5568 | M5: Kademangan | N5: 15
A6: 2025 | B6: 35.74.01 | C6: Kademangan | D6: 35.74.01.1001 | E6: Ketapang | F6: Bakso Kita Prasmanan | G6: Jl. Abdurrahman Wahid Kel. Ketapang Kec. Kademangan | J6: 0822-7766-1313 | M6: Kanigaran | N6: 59
A7: 2025 | B7: 35.74.01 | C7: Kademangan | D7: 35.74.01.1001 | E7: Ketapang | F7: RM. Ayam Bromo | G7: Jl. Raya Bromo No.88 Kel. Ketapang Kec. Kademangan | J7: 0851-0961-8555 | K7: Thomas CH | M7: Kedopok | N7: 16
A8: 2025 | B8: 35.74.01 | C8: Kademangan | D8: 35.74.01.1001 | E8: Ketapang | F8: Rocket Chicken | G8: Jln. Raya Bromo No.33 Kel. Ketapang Kec. Kademangan | J8: 0812-1543-4310 | K8: Yakup Efendi | M8: Mayangan | N8: 90
A9: 2025 | B9: 35.74.01 | C9: Kademangan | D9: 35.74.01.1009 | E9: Pilang | F9: Bakso Eddy | G9: Jl. Soekarno Hatta No.158 A Kel. Pilang Kec. Kademangan | J9: 0821-4071-7717 | K9: Eddy Jupriyanto | M9: Wonoasih | N9: 9
A10: 2025 | B10: 35.74.01 | C10: Kademangan | D10: 35.74.01.1009 | E10: Pilang | F10: Bakso Probolinggo | G10: Jl. Soekarno Hatta Kel. Pilang Kec. Kademangan | J10: 0812-4936-3933 | K10: Slamet Swantoro | M10: Total Keseluruhan | N10: 189
A11: 2025 | B11: 35.74.01 | C11: Kademangan | D11: 35.74.01.1009 | E11: Pilang | F11: Rawon Deltha | G11: Jl. Soekarno - Hatta No.158A Kel. Pilang Kec. Kademangan | M11: 2024 | N11: 176
A12: 2025 | B12: 35.74.01 | C12: Kademangan | D12: 35.74.01.1009 | E12: Pilang | F12: Rocket Chicken | G12: Jl. Soekarno Hatta No.143 Kel. Pilang Kec. Kademangan | J12: 0851-8430-7667 | K12: Dr. Yacob
A13: 2025 | B13: 35.74.01 | C13: Kademangan | D13: 35.74.01.1009 | E13: Pilang | F13: Warung Bunda Probolinggo | G13: Jl. Sukarno Hatta No.142 Kel. Pilang Kec. Kademangan | J13: 0857-8423-0529
A14: 2025 | B14: 35.74.01 | C14: Kademangan | D14: 35.74.01.1003 | E14: Triwung Kidul | F14: Bakso Cuyy | G14: Jl. Galunggung RT.1 RW.05 Kel. Triwung Kidul Kec. Kademangan | J14: 0853-3602-5567 | K14: Ari
A15: 2025 | B15: 35.74.01 | C15: Kademangan | D15: 35.74.01.1003 | E15: Triwung Kidul | F15: Humble Fried Chicken | G15: Jl. Raya Bromo RT.07 RW.01 Kel. Triwung Kidul Kec. Kademangan | J15: 0822-4593-2264
A16: 2025 | B16: 35.74.01 | C16: Kademangan | D16: 35.74.01.1003 | E16: Triwung Kidul | F16: Pawone Bibuk | G16: Jl. Semeru Kel. Triwung Kidul Kec. Kademangan | J16: 0823-3093-6762 | K16: Liv Ramadani Rahman
A17: 2025 | B17: 35.74.01 | C17: Kademangan | D17: 35.74.01.1003 | E17: Triwung Kidul | F17: Warung Bu Novi | G17: Jl. Semeru RT.04 RW.05 Kel. Triwung Kidul Kec. Kademangan | J17: 0822-5746-4985
A18: 2025 | B18: 35.74.01 | C18: Kademangan | D18: 35.74.01.1003 | E18: Triwung Kidul | F18: Warung Geprek | G18: Jl Semeru Barat Rusunawa Semeru Kel. Triwung Kidul Kec. Kademangan
A19: 2025 | B19: 35.74.01 | C19: Kademangan | D19: 35.74.01.1003 | E19: Triwung Kidul | F19: Warung Lesehan BM | G19: Jl. Raya Bromo Km. 10 Kel. Triwung Kidul Kec. Kademangan | J19: 0823-3617-1877
A20: 2025 | B20: 35.74.04 | C20: Kanigaran | D20: 35.74.04.1005 | E20: Curahgrinting | F20: Ayam Lodho | G20: Jl Supriadi Kel. Curahgrinting Kec. Kanigaran | J20: 0852-3051-7832 | K20: B.Kirman
A21: 2025 | B21: 35.74.04 | C21: Kanigaran | D21: 35.74.04.1005 | E21: Curahgrinting | F21: Bakso Setretanan | G21: Jln,Citarum RT.5 RW.1 Kelh Curahgrinting | J21: 0822-3155-7475 | K21: Erlangga
A22: 2025 | B22: 35.74.04 | C22: Kanigaran | D22: 35.74.04.1005 | E22: Curahgrinting | F22: Bakso Tenes Kikil "Pak Noto" | G22: Jl. Citarum RW.04 Kel. Curahgrinting Kec. Kanigaran | J22: 0821-4211-6251 | K22: Noto
A23: 2025 | B23: 35.74.04 | C23: Kanigaran | D23: 35.74.04.1005 | E23: Curahgrinting | F23: Carano Minang | G23: Jl. Citarum RT.05 RW.04 Kel. Curahgrinting Kel. Kanigaran | J23: 85784201573
A24: 2025 | B24: 35.74.04 | C24: Kanigaran | D24: 35.74.04.1005 | E24: Curahgrinting | F24: Dapoer ABC | G24: Jl. Citarum RT.5 RW.01 Kel. Curahgrinting Kec. Kanigaran | J24: 085-23470569 | K24: Yanuar Bagus
A25: 2025 | B25: 35.74.04 | C25: Kanigaran | D25: 35.74.04.1005 | E25: Curahgrinting | F25: Hamdalah | G25: Jl. Supriadi RT.03 RW.04 Kel. Curahgrinting Kec. Kanigaran | J25: 0812-49741444 | K25: P Antok
A26: 2025 | B26: 35.74.04 | C26: Kanigaran | D26: 35.74.04.1005 | E26: Curahgrinting | F26: Hisana Fried Chicken | G26: Jl Supriadi RT.03 RW.04 Kel. Curahgrinting Kec. Kanigaran
A27: 2025 | B27: 35.74.04 | C27: Kanigaran | D27: 35.74.04.1005 | E27: Curahgrinting | F27: Kedai Pizza | G27: Jl. Citarum RT.5 RW.01 Kel. Curahgrinting Kec. Kanigaran | J27: 088-235458167 | K27: Sandra
A28: 2025 | B28: 35.74.04 | C28: Kanigaran | D28: 35.74.04.1005 | E28: Curahgrinting | F28: Soto Ayam "Cak Doel" | G28: Jl. Supriadi Belakang Eratex RT.05 RW.04 Kel. Curahgrinting Kec. Kanigaran | J28: 0821-4039-86725 | K28: Abd Mukti
A29: 2025 | B29: 35.74.04 | C29: Kanigaran | D29: 35.74.04.1005 | E29: Curahgrinting | F29: Warung Barokah Ayam Geprek | G29: Jln,Citarum RT.5 RW.1 Kelh Curahgrinting | J29: 0812-3567-6444 | K29: Rudiyanto
A30: 2025 | B30: 35.74.04 | C30: Kanigaran | D30: 35.74.04.1005 | E30: Curahgrinting | F30: Warung Bu Broto | G30: Jl. Citarum RT.5 RW.04 Kel. Curahgrinting Kec. Kanigaran | J30: 0812-3457-775 | K30: Bu Broto
A31: 2025 | B31: 35.74.04 | C31: Kanigaran | D31: 35.74.04.1005 | E31: Curahgrinting | F31: Warung Bu Lies | G31: Jl Supriadi Kel. Curahgrinting Kec. Kanigaran | J31: 085-230797910 | K31: Endang Sulistijani
A32: 2025 | B32: 35.74.04 | C32: Kanigaran | D32: 35.74.04.1005 | E32: Curahgrinting | F32: Warung Es Campur Kacang ijo | G32: Jln.Citarum Utara PUSTU Curahgrinting | J32: 0813-3166-2030 | K32: Pujiantono
A33: 2025 | B33: 35.74.04 | C33: Kanigaran | D33: 35.74.04.1005 | E33: Curahgrinting | F33: Warung Kopi/Es | G33: Jl. Citarum RT.2 RW.03 Kel. Curahgrinting Kec. Kanigaran | J33: 089-516720516 | K33: Windawati/Dwi R
A34: 2025 | B34: 35.74.04 | C34: Kanigaran | D34: 35.74.04.1005 | E34: Curahgrinting | F34: Warung Lalapan abah | G34: Jln,Citarum RT.5 RW.1 Kelh Curahgrinting | J34: 0812-4974-1444 | K34: P Antok
A35: 2025 | B35: 35.74.04 | C35: Kanigaran | D35: 35.74.04.1005 | E35: Curahgrinting | F35: Warung Mie Gobyos | G35: Jl. Citarum RT.4 RW.04 Kel. Curahgrinting Kec. Kanigaran | J35: 082-33157-5236 | K35: Wahyu Sugiarti
A36: 2025 | B36: 35.74.04 | C36: Kanigaran | D36: 35.74.04.1005 | E36: Curahgrinting | F36: Warung Rujak Cingur | G36: Jln. Kihajar Dewantara RT.02 RW.01 Kel. Curahgrinting Kec. Kanigaran | J36: 0812-3272-8863 | K36: siti
A37: 2025 | B37: 35.74.04 | C37: Kanigaran | D37: 35.74.04.1005 | E37: Curahgrinting | F37: Warung Sarifah | G37: Jl. Citarum RT.5 RW.01 Kel. Curahgrinting Kec. Kanigaran | J37: 0823-3162-8676 | K37: H.Buang
A38: 2025 | B38: 35.74.04 | C38: Kanigaran | D38: 35.74.04.1003 | E38: Kanigaran | F38: Ayam Geprek Sa'i | G38: Jl. Cokroaminoto No.22 RT.04 RW.10 Kel. Kanigaran Kec. Kanigaran | J38: 0811-3333-0541
A39: 2025 | B39: 35.74.04 | C39: Kanigaran | D39: 35.74.04.1003 | E39: Kanigaran | F39: Bakso Lava Jumbo | G39: Jl. Gubernur Suryo No. 2 Gang Karya Bhakti, Kel. Kanigaran, Kec. Kanigaran
A40: 2025 | B40: 35.74.04 | C40: Kanigaran | D40: 35.74.04.1003 | E40: Kanigaran | F40: Bubur Ayam Jakarta Bang Jep | G40: Jl. Gubernur Suryo, Kel. Kanigaran, Kec. Kanigaran | J40: 0822-3344-4558
A41: 2025 | B41: 35.74.04 | C41: Kanigaran | D41: 35.74.04.1003 | E41: Kanigaran | F41: Burger Bangor | G41: Jl. Cokroaminoto Kel. Kanigaran Kec. Kanigaran | J41: 0857-3119-1128
A42: 2025 | B42: 35.74.04 | C42: Kanigaran | D42: 35.74.04.1003 | E42: Kanigaran | F42: Cwie Mie Kaisar | G42: Jl. Gubenur Suryo Kel. Kanigaran Kec. Kanigaran | J42: 0852-3558-2692 | K42: Elok Soliha
A43: 2025 | B43: 35.74.04 | C43: Kanigaran | D43: 35.74.04.1003 | E43: Kanigaran | F43: Geprek Sambal Bawang | G43: Jl. Cokroaminoto Gg. Listrikan Kel. Kanigaran Kec. Kanigaran | J43: 0857-0458-8868
A44: 2025 | B44: 35.74.04 | C44: Kanigaran | D44: 35.74.04.1003 | E44: Kanigaran | F44: Jamanjigeum.Kitchen | G44: Jl. Gubernur Suryo Probolinggo Deretan Gg. Ruko No.3 (Timur Makam Ungup2) Kel. Kanigaran Kec. Kanigaran | J44: 0852-5882-2272
A45: 2025 | B45: 35.74.04 | C45: Kanigaran | D45: 35.74.04.1003 | E45: Kanigaran | F45: Kedai Mie Ayam Jamur | G45: Jl. Kyai Haji Wahid Hasyim No.39 Kel. Kanigaran Kec. Kanigaran | J45: 0823-3423-2000 | K45: R. Mohamad Fadhoitul Aszaqi
A46: 2025 | B46: 35.74.04 | C46: Kanigaran | D46: 35.74.04.1003 | E46: Kanigaran | F46: Kedai Mie Nyor-nyor | G46: Jl. Slamet Riyadi No.153 Kel. Kanigaran Kec. Kanigaran | J46: 0812-3490-9756 | K46: Riska Nendy HD
A47: 2025 | B47: 35.74.04 | C47: Kanigaran | D47: 35.74.04.1003 | E47: Kanigaran | F47: RM Do'a Bundo | G47: Jl. Cokroaminoto No.9A Kel. Kanigaran Kec. Kanigaran | J47: 0813-8087-7725
A48: 2025 | B48: 35.74.04 | C48: Kanigaran | D48: 35.74.04.1003 | E48: Kanigaran | F48: Warung bebek goreng Pawon Bumbu | G48: Jl. Slamet Riyadi Gg. Barunawati No. 1 | J48: 0853-4600-7363 | K48: Novan Triyono
A49: 2025 | B49: 35.74.04 | C49: Kanigaran | D49: 35.74.04.1003 | E49: Kanigaran | F49: Warung Bebek Purnama | G49: Jl. Mastrip No.27 Kel. Kanigaran Kec. Kanigaran | J49: 0812-3287-9601
A50: 2025 | B50: 35.74.04 | C50: Kanigaran | D50: 35.74.04.1003 | E50: Kanigaran | F50: Warung Bu Bagus | G50: Jl. Cokroaminoto 34 Kel. Kanigaran Kec. Kanigaran | J50: 0852-5888-4866 | K50: Luluk Bagus
A51: 2025 | B51: 35.74.04 | C51: Kanigaran | D51: 35.74.04.1003 | E51: Kanigaran | F51: Warung Bu Imam | G51: Jl. Mastrip No.1 Kel. Kanigaran Kec. Kanigaran | K51: Bu Imam
A52: 2025 | B52: 35.74.04 | C52: Kanigaran | D52: 35.74.04.1003 | E52: Kanigaran | F52: Warung Ennis | G52: Jl. Slamet Riyadi Gg Kelapa | J52: 0812-3527-366 | K52: Bu Ennis
A53: 2025 | B53: 35.74.04 | C53: Kanigaran | D53: 35.74.04.1003 | E53: Kanigaran | F53: Warung Kremes & Wedang Cor | G53: Jl. Slamet Riyadi No.143 Kel. Kanigaran Kec. Kanigaran | J53: 0823-5131-8725
A54: 2025 | B54: 35.74.04 | C54: Kanigaran | D54: 35.74.04.1003 | E54: Kanigaran | F54: Warung Nasi Sukma | G54: Jl. Sunan Bonang RT.05 RW.14 Kel. Kanigaran Kec. Kanigaran | K54: Sukma
A55: 2025 | B55: 35.74.04 | C55: Kanigaran | D55: 35.74.04.1003 | E55: Kanigaran | F55: Warung Sego Pecel Mbah Sri | G55: Jl. AA. Maramis No.06 Kel. Kanigaran Kec. Kanigaran | J55: 0813-5752-7370 | K55: Basuki Wiyono
A56: 2025 | B56: 35.74.04 | C56: Kanigaran | D56: 35.74.04.1006 | E56: Kebonsari Kulon | F56: Dapoer Anda | G56: Jl. Cokroaminoto 3A Kel. Kebonsari Kulon Kec. Kanigaran | J56: 0852-6248-2754 | K56: Sami Rahayu
A57: 2025 | B57: 35.74.04 | C57: Kanigaran | D57: 35.74.04.1006 | E57: Kebonsari Kulon | F57: Geprek Rempah Loji | G57: Jl. Cokroaminoto Kel. Kebonsari Kulon Kec. Kanigaran | J57: 0822-3154-5583
A58: 2025 | B58: 35.74.04 | C58: Kanigaran | D58: 35.74.04.1006 | E58: Kebonsari Kulon | F58: Rocket Chicken | G58: Jl. Cokroaminoto No.20 Kel. Kebonsari Kulon Kec. Kanigaran | J58: 0823-0133-7077
A59: 2025 | B59: 35.74.04 | C59: Kanigaran | D59: 35.74.04.1006 | E59: Kebonsari Kulon | F59: Rumah Makan Cahaya Minang II | G59: Jl. Cokroaminoto RT.02 RW.09 Kel. Kebonsari Kulon Kec. Kanigaran | K59: Alex
A60: 2025 | B60: 35.74.04 | C60: Kanigaran | D60: 35.74.04.1006 | E60: Kebonsari Kulon | F60: Warung Blambangan | G60: Jl. Pahlawan No.33 Kel. Kebonsari Kulon Kec. Kanigaran | J60: 0823-3885-5264 | K60: Tri Hartanti Kisworini
A61: 2025 | B61: 35.74.04 | C61: Kanigaran | D61: 35.74.04.1006 | E61: Kebonsari Kulon | F61: Warung Kupang Bu Anik | G61: Jl. Pahlawan No.37B Kel. Kebonsari Kulon Kec. Kanigaran
A62: 2025 | B62: 35.74.04 | C62: Kanigaran | D62: 35.74.04.1006 | E62: Kebonsari Kulon | F62: Warung Kupang Bu Hasanah | G62: Jl. Pahlawan No.49 Kel. Kebonsari Kulon Kec. Kanigaran | J62: 0822-3722-3224
A63: 2025 | B63: 35.74.04 | C63: Kanigaran | D63: 35.74.04.1006 | E63: Kebonsari Kulon | F63: Warung Nasi Jagung | G63: Jl. K.H Ahmad Dahlan Gg. Bingkilan No.98 Kel. Kebonsari Kulon Kec. Kanigaran | J63: 0813-3139-6911 | K63: Nunik
A64: 2025 | B64: 35.74.04 | C64: Kanigaran | D64: 35.74.04.1006 | E64: Kebonsari Kulon | F64: Warung Nusantara | G64: Jl. Cokroaminoto 3A Kel. Kebonsari Kulon Kec. Kanigaran | J64: 0823-2918-0432 | K64: Wahyu Prasetyo
A65: 2025 | B65: 35.74.04 | C65: Kanigaran | D65: 35.74.04.1004 | E65: Kebonsari Wetan | F65: Mie Koboi | G65: Jl. KH. Ach Dahlan gg II RT 05 RW 01 Kel. Kebonsari Wetan Kec. Kanigaran | J65: 0899-0409-543 | K65: Tri Mayasari
A66: 2025 | B66: 35.74.04 | C66: Kanigaran | D66: 35.74.04.1004 | E66: Kebonsari Wetan | F66: Teras Menull Nasi Padang Prasmanan | G66: Jl. Sunan Muria Perum Rangga Permai RT 06 RW 03 Kel. Kebonsari Wetan Kec. Kanigaran | J66: 0822-2884-4485 | K66: Rony Nirwana
A67: 2025 | B67: 35.74.04 | C67: Kanigaran | D67: 35.74.04.1004 | E67: Kebonsari Wetan | F67: Warung Kece | G67: Jl. KH. Ahmad Dahlan Kel. Kebonsari Wetan Kec. Kanigaran | K67: Jumaati
A68: 2025 | B68: 35.74.04 | C68: Kanigaran | D68: 35.74.04.1004 | E68: Kebonsari Wetan | F68: Warung Mbak Nita | G68: Jl. KH. Hasan RT 05 RW 03 Kel. Kebonsari Wetan Kec. Kanigaran | K68: Nita Lusiana
A69: 2025 | B69: 35.74.04 | C69: Kanigaran | D69: 35.74.04.1001 | E69: Tisnonegaran | F69: Bakso Solo Dan Mie Ayam Saudara 2 Cabang Glaser | G69: Jl. Gubernur Suryo Kel. Tisnonegaran, Kec. Kanigaran | J69: 0852-1935-7160
A70: 2025 | B70: 35.74.04 | C70: Kanigaran | D70: 35.74.04.1001 | E70: Tisnonegaran | F70: Domino's Pizza | G70: Jl. Sukarno Hatta Ruko No.69 Kel. Tisnonegaran Kec. Kanigaran | J70: 0335-425626 | K70: Budi
A71: 2025 | B71: 35.74.04 | C71: Kanigaran | D71: 35.74.04.1001 | E71: Tisnonegaran | F71: Geprek Bromo | G71: Jl. Letjen Sutoyo, Tisnonegaran, Kec. Kanigaran | J71: 0812-3324-1980
A72: 2025 | B72: 35.74.04 | C72: Kanigaran | D72: 35.74.04.1001 | E72: Tisnonegaran | F72: Gunawan | G72: Jl. Dr. Sutomo No.2 Kel. Tisnonegaran Kec. Kanigaran | J72: 0335-423395 | K72: Swastini Karto Raharjo
A73: 2025 | B73: 35.74.04 | C73: Kanigaran | D73: 35.74.04.1001 | E73: Tisnonegaran | F73: Istana Bakso | G73: Jl. Supriadi Gg. Jepara No.45 Kel. Tisnonegaran Kec. Kanigaran | J73: 0812-5600-8400 | K73: Hj. Dwi S
A74: 2025 | B74: 35.74.04 | C74: Kanigaran | D74: 35.74.04.1001 | E74: Tisnonegaran | F74: Kedai MDR | G74: Jl. Arif Rahman Hakim Gg. Karya Bakti No.33 Kel. Tisnonegaran Kec. Kanigaran | J74: 0823-3051-2198
A75: 2025 | B75: 35.74.04 | C75: Kanigaran | D75: 35.74.04.1001 | E75: Tisnonegaran | F75: KFC | G75: Jl. Suroyo No.1 Kel. Tisnonegaran Kec. Kanigaran | J75: 0335-421462 | K75: Rudi Tanu W
A76: 2025 | B76: 35.74.04 | C76: Kanigaran | D76: 35.74.04.1001 | E76: Tisnonegaran | F76: Pizza HUT Delivery | G76: Jl. Sukarno Hatta Ruko No.1-2 Kel. Tisnonegaran Kec. Kanigaran | J76: 0811-3186-498 | K76: Alwi Arifin
A77: 2025 | B77: 35.74.04 | C77: Kanigaran | D77: 35.74.04.1001 | E77: Tisnonegaran | F77: Rumah Makan Favorit Rakyat | G77: Jl. Soekarno - Hatta No.265 Kel. Curahgrinting Kec. Kanigaran | J77: 0878-0652-4833
A78: 2025 | B78: 35.74.04 | C78: Kanigaran | D78: 35.74.04.1001 | E78: Tisnonegaran | F78: Warung Sate Bang El | G78: Jl. Panglima Sudirman Kel. Tisnonegaran Kec. Kanigaran | J78: 0812-3397-4545 | K78: Erry Ertanto
A79: 2025 | B79: 35.74.05 | C79: Kedopok | D79: 35.74.05.1004 | E79: Jrebeng Lor | F79: Bakso Malang Matori | G79: Jl. Sunan Ampel RT.02 RW.03 Kel. Jrebeng Lor Kec. Kedopok | J79: 0889-8904-2520 | K79: Bunali
A80: 2025 | B80: 35.74.05 | C80: Kedopok | D80: 35.74.05.1004 | E80: Jrebeng Lor | F80: Bakso Ojok Lali | G80: Jl. Sunan Ampel RT.02 RW.03 Kel. Jrebeng Lor Kec. Kedopok | J80: 0823-0246-3779 | K80: Darwis
A81: 2025 | B81: 35.74.05 | C81: Kedopok | D81: 35.74.05.1004 | E81: Jrebeng Lor | F81: Bakso Solo | G81: Jl. Sunan Ampel RT.02 RW.03 Kel. Jrebeng Lor Kec. Kedopok | J81: 0852-3603-0211 | K81: Surati
A82: 2025 | B82: 35.74.05 | C82: Kedopok | D82: 35.74.05.1006 | E82: Jrebeng Wetan | F82: Bakso Pandawa | G82: Jl. Mastrip Kel. Jrebeng Wetan Kec. Kedopok | J82: 0823-3585-9228 | K82: Rovynanto Sitanggang
A83: 2025 | B83: 35.74.05 | C83: Kedopok | D83: 35.74.05.1006 | E83: Jrebeng Wetan | F83: Dapur Subbah | G83: Jl. Mastrip Gg. Pepaya Kel. Jrebeng Wetan Kec. Kedopok | J83: 0851-7956-5272
A84: 2025 | B84: 35.74.05 | C84: Kedopok | D84: 35.74.05.1006 | E84: Jrebeng Wetan | F84: Geprek Gong 2 | G84: Jl. Mastrip No.D4 (depan SMKN 1 Probolinggo) Kel. Jrebeng Wetan Kec. Kedopok | J84: 0812-3273-8671
A85: 2025 | B85: 35.74.05 | C85: Kedopok | D85: 35.74.05.1006 | E85: Jrebeng Wetan | F85: Hisana Fried Chichen | G85: Jl. Mastrip Kel. Jrebeng Wetan Kec. Kedopok
A86: 2025 | B86: 35.74.05 | C86: Kedopok | D86: 35.74.05.1006 | E86: Jrebeng Wetan | F86: Kedai Ola Ole | G86: Jl. Sunan Bonang No.17 Kel. Jrebeng Wetan Kec. Kedopok | J86: 0812-5242-174
A87: 2025 | B87: 35.74.05 | C87: Kedopok | D87: 35.74.05.1006 | E87: Jrebeng Wetan | F87: Rocket Chicken | G87: Jl. Mastrip No.1 (Sebelah Selatan Gg.Salak) RT.07 RW.04 Kel. Jrebeng Wetan Kec. Kedopok | J87: 0877-5105-6073
A88: 2025 | B88: 35.74.05 | C88: Kedopok | D88: 35.74.05.1006 | E88: Jrebeng Wetan | F88: Rumah Makan Padang Kasih Bundo | G88: Jl. Mastrip Selatan Gg. Salak RT.07 RW.04 Kel. Jrebeng Wetan Kec. Kedopok | J88: 0853-3461-1669
A89: 2025 | B89: 35.74.05 | C89: Kedopok | D89: 35.74.05.1006 | E89: Jrebeng Wetan | F89: Warung Biru | G89: Jl. Matrip RT. 003 RW. 003 Kel. Jrebeng Wetan Kec. Kedopok
A90: 2025 | B90: 35.74.05 | C90: Kedopok | D90: 35.74.05.1006 | E90: Jrebeng Wetan | F90: Warung Mie Ayam dan Soto Solo Bu SUM | G90: Jl. Bengawan Solo Kel. Jrebeng Wetan Kec. Kedopok | J90: 0812-4952-2910
A91: 2025 | B91: 35.74.05 | C91: Kedopok | D91: 35.74.05.1006 | E91: Jrebeng Wetan | F91: Warung Perjuangan | G91: Jl. Sunan Bonang No.422 Kel. Jrebeng Wetan Kec. Kedopok | J91: 0823-4162-6812 | K91: Suama
A92: 2025 | B92: 35.74.05 | C92: Kedopok | D92: 35.74.05.1006 | E92: Jrebeng Wetan | F92: Warung Sudi Mampir | G92: Jl. Matrip No. 58 Kel. Jrebeng Wetan Kec. Kedopok | J92: 0898-0440-341
A93: 2025 | B93: 35.74.05 | C93: Kedopok | D93: 35.74.05.1002 | E93: Kareng Lor | F93: Meys Risol | G93: Jl. Bengawan Solo Perum Prasaja Mulya Blok A7 Kel. Kareng Lor Kec. Kedopok | J93: 0812-3359-31004 | K93: Meisa
A94: 2025 | B94: 35.74.05 | C94: Kedopok | D94: 35.74.05.1002 | E94: Kareng Lor | F94: Warung Rizki | G94: Jln. Prof. DR. Hamka RT.01 RW.03 Kel. Kareng Lor Kec. Kedopok | J94: 0813-3163-0120 | K94: Winarti
A95: 2025 | B95: 35.74.03 | C95: Mayangan | D95: 35.74.03.1004 | E95: Jati | F95: Ayam Bakar Solo | G95: Jl. Gatot Subroto 48 Kel. Jati Kec. Mayangan | J95: 0821-4136-0995 | K95: Sulardi
A96: 2025 | B96: 35.74.03 | C96: Mayangan | D96: 35.74.03.1004 | E96: Jati | F96: Depot Anugrah | G96: Jl. Panglima Sudirman A-3 Kel. Jati Kec. Mayangan | J96: 0335-420150 | K96: Lanny Sugiarto
A97: 2025 | B97: 35.74.03 | C97: Mayangan | D97: 35.74.03.1004 | E97: Jati | F97: Depot Glory | G97: Jl. Teuku Umar Kel. Jati Kec. Mayangan | J97: 0812-1750-3506 | K97: Stefanus Joni
A98: 2025 | B98: 35.74.03 | C98: Mayangan | D98: 35.74.03.1004 | E98: Jati | F98: Geprek Sambal Bawang | G98: Jl. Hayam Wuruk No.32A Kel. Jati Kec. Mayangan
A99: 2025 | B99: 35.74.03 | C99: Mayangan | D99: 35.74.03.1004 | E99: Jati | F99: Masakan Padang "Sari Minang" | G99: Jl. Panglima Sudirman No.7 (Ruko Gotong Royong) RT.02 RW.06 Kel. Jati Kec. Mayangan | J99: 0335-424243 | K99: H. Dasril
A100: 2025 | B100: 35.74.03 | C100: Mayangan | D100: 35.74.03.1004 | E100: Jati | F100: Pecel Bu Reta | G100: Jl. Panglima Sudirman No.274 Kel. Jati Kec. Mayangan | J100: 0335-429712
A101: 2025 | B101: 35.74.03 | C101: Mayangan | D101: 35.74.03.1004 | E101: Jati | F101: Sari Laut CJDW | G101: Jl. Panglima Sudirman No.341, Kel. Jati Kec. Mayangan | J101: 0852-0493-8661
...

Sheet 29
A1: Tahun 2025 - Daftar Usaha Kafe di Kota Probolinggo
A2: Catatan : Mohon data yang terisi dicek kembali dan direvisi bila ada yang tidak tepat
A4: tahun | B4: kode_kecamatan | C4: kecamatan | D4: kode_kelurahan | E4: kelurahan | F4: nama_kafe | G4: alamat | H4: latitude | I4: longitude | K4: kecamatan | L4: COUNTA of nama_kafe
A5: 2025 | B5: 35.74.01 | C5: Kademangan | D5: 35.74.01.1001 | E5: Ketapang | F5: Angkringan BM | G5: Jl. Abdurrahman Wahid Kel. Ketapang Kec. Kademangan | K5: Kademangan | L5: 13
A6: 2025 | B6: 35.74.01 | C6: Kademangan | D6: 35.74.01.1001 | E6: Ketapang | F6: Angkringan Ngiyup | G6: Jl. Argopuro XVIII No.22 Kel. Ketapang Kec. Kademangan | K6: Kanigaran | L6: 34
A7: 2025 | B7: 35.74.01 | C7: Kademangan | D7: 35.74.01.1001 | E7: Ketapang | F7: HW Cafe | G7: Jl. Raya Bromo No.23 Kel. Ketapang Kec. Kademangan | K7: Kedopok | L7: 10
A8: 2025 | B8: 35.74.01 | C8: Kademangan | D8: 35.74.01.1001 | E8: Ketapang | F8: IND Coffee and Tea | G8: Jl. Raya Bromo Kel. Ketapang Kec. Kademangan | K8: Mayangan | L8: 32
A9: 2025 | B9: 35.74.01 | C9: Kademangan | D9: 35.74.01.1001 | E9: Ketapang | F9: Kopi Rempah | G9: Jl. Abdurrahman Wahid Kel. Ketapang Kec. Kademangan | K9: Wonoasih | L9: 2
A10: 2025 | B10: 35.74.01 | C10: Kademangan | D10: 35.74.01.1001 | E10: Ketapang | F10: Putri Tunggal | G10: Jl. Raya Bromo Kel. Ketapang Kec. Kademangan | K10: Total Keseluruhan | L10: 91
A11: 2025 | B11: 35.74.01 | C11: Kademangan | D11: 35.74.01.1001 | E11: Ketapang | F11: Warungopi | G11: Jl. Abdurrahman Wahid No.73 Kel. Ketapang Kec. Kademangan | K11: 2024 | L11: 86
A12: 2025 | B12: 35.74.01 | C12: Kademangan | D12: 35.74.01.1009 | E12: Pilang | F12: Es Teh Indonesia | G12: Jl. Soekarno Hatta No.128 Kel. Pilang Kec. Kademangan
A13: 2025 | B13: 35.74.01 | C13: Kademangan | D13: 35.74.01.1009 | E13: Pilang | F13: Homeland Cafe & Eatery | G13: Jl. Sukarno Hatta No.128 RT.01 RW.03 Kel. Pilang Kec. Kademangan
A14: 2025 | B14: 35.74.01 | C14: Kademangan | D14: 35.74.01.1009 | E14: Pilang | F14: Mie Kober | G14: Jl. Soekarno Hatta No.247 Kel. Pilang Kec. Kademangan
A15: 2025 | B15: 35.74.01 | C15: Kademangan | D15: 35.74.01.1002 | E15: Triwung Lor | F15: DN Cafe | G15: Jl. Raya Bromo No.37 Kel. Triwung Lor Kec. Kademangan
A16: 2025 | B16: 35.74.01 | C16: Kademangan | D16: 35.74.01.1002 | E16: Triwung Lor | F16: Kedai 96 | G16: Jl. Raya Bromo No.36 Kel. Triwung Lor Kec. Kademangan
A17: 2025 | B17: 35.74.01 | C17: Kademangan | D17: 35.74.01.1002 | E17: Triwung Lor | F17: Kopi Sippp | G17: Jl. Raya Bromo Km 5 Kel.Triwung Lor Kec. Kademangan
A18: 2025 | B18: 35.74.04 | C18: Kanigaran | D18: 35.74.04.1005 | E18: Curahgrinting | F18: Ombee Café | G18: Jl. Citarum Gg. Gerilya Kel. Curahgrinting Kec. Kanigaran
A19: 2025 | B19: 35.74.04 | C19: Kanigaran | D19: 35.74.04.1003 | E19: Kanigaran | F19: Cariyos Coffee | G19: Jl. Mastrip No.1 Kel. Kanigaran Kec. Kanigaran
A20: 2025 | B20: 35.74.04 | C20: Kanigaran | D20: 35.74.04.1003 | E20: Kanigaran | F20: Corner Kitchens | G20: Jl. Wahid Hasyim Kel. Kanigaran Kec. Kanigaran
A21: 2025 | B21: 35.74.04 | C21: Kanigaran | D21: 35.74.04.1003 | E21: Kanigaran | F21: Dapur B. Wangi | G21: Jl. Wahid Hasyim Kel. Kanigaran Kec. Kanigaran
A22: 2025 | B22: 35.74.04 | C22: Kanigaran | D22: 35.74.04.1003 | E22: Kanigaran | F22: Fratello Coffee & Eatery | G22: Jl. Cokroaminoto No.39 Kel. Kanigaran Kec. Kanigaran
A23: 2025 | B23: 35.74.04 | C23: Kanigaran | D23: 35.74.04.1003 | E23: Kanigaran | F23: M. Cafe | G23: Jl. Cokroaminoto No.17 Kel. Kanigaran Kec. Kanigaran
... A95: 2025 | B95: 35.74.02 | C95: Wonoasih | D95: 35.74.02.1001 | E95: Jrebeng Kidul | F95: Caffe and Brista Humay Kost | G95: Jl. Jeruk RT 04 RW 03 Kel. Jrebeng Kidul Kec. Wonoasih

Sheet 30
A1: Tahun 2025 - Daftar Usaha Jasa Boga di Kota Probolinggo
A2: Catatan : Mohon data yang terisi dicek kembali dan direvisi bila ada yang tidak tepat
A4: tahun | B4: kode_kecamatan | C4: kecamatan | D4: kode_kelurahan | E4: kelurahan | F4: nama_jasa_boga | G4: alamat | H4: latitude | I4: longitude | K4: kecamatan | L4: COUNTA of nama_jasa_boga
A5: 2025 | B5: 35.74.01 | C5: Kademangan | D5: 35.74.01.1008 | E5: Kademangan | F5: Bu'e Catering | G5: Blok Pasar RT.01 RW.02 Kel. Kademangan Kec. Kademangan | K5: Kademangan | L5: 26
A6: 2025 | B6: 35.74.01 | C6: Kademangan | D6: 35.74.01.1008 | E6: Kademangan | F6: Roso Jowo Catering | G6: Blok Jurang RT.05 RW.04 Kel. Kademangan Kec. Kademangan | K6: Kanigaran | L6: 61
A7: 2025 | B7: 35.74.01 | C7: Kademangan | D7: 35.74.01.1008 | E7: Kademangan | F7: Sri Jaya Catering | G7: Blok Pasar RT.01 RW.02 Kel. Kademangan Kec. Kademangan | K7: Kedopok | L7: 59
A8: 2025 | B8: 35.74.01 | C8: Kademangan | D8: 35.74.01.1001 | E8: Ketapang | F8: Puspita Catering | G8: Jl. Kelud IV/94 Kel. Ketapang Kec. Kademangan | K8: Mayangan | L8: 48
A9: 2025 | B9: 35.74.01 | C9: Kademangan | D9: 35.74.01.1001 | E9: Ketapang | F9: Risolusi Cake & Cookies Catering | G9: Jl. Kinibalu II/6 RT.02 RW.03 Kel. Ketapang Kec. Kademangan | K9: Wonoasih | L9: 28
A10: 2025 | B10: 35.74.01 | C10: Kademangan | D10: 35.74.01.1001 | E10: Ketapang | F10: Sahra Catering | G10: Jl. Kinibalu II/37 Perum Bromo Permai Kel. Ketapang Kec. Kademangan | K10: Total Keseluruhan | L10: 222
A11: 2025 | B11: 35.74.01 | C11: Kademangan | D11: 35.74.01.1009 | E11: Pilang | F11: Barokah | G11: Jl. Ijen Gg. I No. 11E RT.02 RW.01 Kel. Pilang Kec. Kademangan | K11: 2024 | L11: 224
A12: 2025 | B12: 35.74.01 | C12: Kademangan | D12: 35.74.01.1009 | E12: Pilang | F12: Bunda Catering | G12: Jl. Kerinci No. II RT.03 RW.01 Kel. Pilang Kec. Kademangan
A13: 2025 | B13: 35.74.01 | C13: Kademangan | D13: 35.74.01.1009 | E13: Pilang | F13: Catering Aneka Rasa | G13: Jl. Flamboyan I No.19 RT.04 RW.03 Kel. Pilang Kec. Kademangan
A14: 2025 | B14: 35.74.01 | C14: Kademangan | D14: 35.74.01.1009 | E14: Pilang | F14: Griyo Dahar | G14: Perum Greenland Jl. Cisadane Kel. Pilang Kec. Kademangan
A15: 2025 | B15: 35.74.01 | C15: Kademangan | D15: 35.74.01.1009 | E15: Pilang | F15: Retno Catering | G15: Jl. Ijen Gg. I No.4 RT.02 RW.01 Kel. Pilang Kec. Kademangan
A16: 2025 | B16: 35.74.01 | C16: Kademangan | D16: 35.74.01.1009 | E16: Pilang | F16: Salsabila Snack | G16: Jl Tangkuban Perahu III/25 Kel. Pilang Kec. Kademangan
A17: 2025 | B17: 35.74.01 | C17: Kademangan | D17: 35.74.01.1009 | E17: Pilang | F17: Sudarno Catering | G17: RT.02 RW.03 Kel. Pilang Kec. Kademangan
A18: 2025 | B18: 35.74.01 | C18: Kademangan | D18: 35.74.01.1009 | E18: Pilang | F18: Sukarsih Catering | G18: RT.01 RW.01 Kel. Pilang Kec. Kademangan
A19: 2025 | B19: 35.74.01 | C19: Kademangan | D19: 35.74.01.1009 | E19: Pilang | F19: Sundiyah Catering | G19: Jl. Flamboyan I RT.04 RW.03 Kel. Pilang Kec. Kademangan
A20: 2025 | B20: 35.74.01 | C20: Kademangan | D20: 35.74.01.1009 | E20: Pilang | F20: UD. Cahaya Makmur (Catering Purnama) | G20: Jl. Flamboyan 2 A RT.01 RW.03 Kel. Pilang Kec. Kademangan
A21: 2025 | B21: 35.74.01 | C21: Kademangan | D21: 35.74.01.1007 | E21: Pohsangit Kidul | F21: Angkringan Cak Alfin (Alfalia Catering) | G21: Jl. Nanas No.131 Kel. Pohsangit Kidul Kec. Kademangan
A22: 2025 | B22: 35.74.01 | C22: Kademangan | D22: 35.74.01.1007 | E22: Pohsangit Kidul | F22: CV. Ade Putra Jaya | G22: Dsn. Krajan RT.02 RW.03 Kel. Pohsangit Kidul Kec. Kademangan
A23: 2025 | B23: 35.74.01 | C23: Kademangan | D23: 35.74.01.1007 | E23: Pohsangit Kidul | F23: CV. Tereza Anggun Jaya | G23: Dsn. Krajan Kel. Pohsangit Kidul Kec. Kademangan
... A226: 2025 | B226: 35.74.02 | C226: Wonoasih | D226: 35.74.02.1007 | E226: Wonoasih | F226: Catering Aulia | G226: Jl. Kelengkeng RT.03 RW.03 Kel. Wonoasih Kec. Wonoasih

Sheet 31
A1: Tahun 2025 - Daftar Usaha Pusat Makanan di Kota Probolinggo
A2: Catatan : Mohon data yang terisi dicek kembali dan direvisi bila ada yang tidak tepat
A4: tahun | B4: kode_kecamatan | C4: kecamatan | D4: kode_kelurahan | E4: kelurahan | F4: nama_pusat_makanan | G4: alamat | H4: latitude | I4: longitude
A5: 2025 | B5: 35.74.04 | C5: Kanigaran | D5: 35.74.04.1003 | E5: Kanigaran | F5: Angkringan Yu Ragil | G5: Jl. Slamet Riyadi no. 1 Kel. Kanigaran, Kec. Kanigaran
A6: 2025 | B6: 35.74.03 | C6: Mayangan | D6: 35.74.03.1002 | E6: Mangunharjo | F6: Pujasera Alun-Alun | G6: Jl. Trunojoyo No.1 Kel. Mangunharjo Kec. Mayangan
A7: 2025 | B7: 35.74.05 | C7: Kedopok | D7: 35.74.05.1005 | E7: Kedopok | F7: Pujasera Gomas | G7: Jl. Mastrip (GOR Mastrip) Kel. Kedopok Kec. Kedopok
A8: 2025 | B8: 35.74.04 | C8: Kanigaran | D8: 35.74.04.1005 | E8: Curahgrinting | F8: Pujasera Milik Kita | G8: Jl. Griya Grand Citarum Kel. Curahgrinting Kec. Kanigaran
A9: 2025 | B9: 35.74.04 | C9: Kanigaran | D9: 35.74.04.1003 | E9: Kanigaran | F9: Pujasera mbah Marwah | G9: Jl. Gubernur Suryo Kel. Kanigaran Kec. Kanigaran
A10: 2025 | B10: 35.74.03 | C10: Mayangan | D10: 35.74.03.1002 | E10: Mangunharjo | F10: Pujasera A. Yani | G10: Jl. Ahmad Yani No.150 Kel. Mangunharjo Kec. Mayangan
A11: 2025 | B11: 35.74.04 | C11: Kanigaran | D11: 35.74.04.1005 | E11: Curahgrinting | F11: Pujasera Puspo Arum | G11: Jl. Citarum Blok A No.1 Kel. Curahgrinting Kec. Kanigaran
A12: 2025 | B12: 35.74.04 | C12: Kanigaran | D12: 35.74.04.1003 | E12: Kanigaran | F12: Pujasera Supriyadi | G12: Jl. Supriyadi Kel. Kanigaran Kec. Kanigaran
A13: 2025 | B13: 35.74.04 | C13: Kanigaran | D13: 35.74.04.1003 | E13: Kanigaran | F13: Pujasera Kawasan Glaser | G13: Jl. Slamet Riyadi Kel. Kanigaran Kec. Kanigaran
B16: kecamatan | C16: COUNTA of nama_pusat_makanan
B17: Kanigaran | C17: 6
B18: Kedopok | C18: 1
B19: Mayangan | C19: 2
B20: Total Keseluruhan | C20: 9
B21: 2024 | C21: 10

Sheet 32
A1: Jumlah Biro, Agen Perjalanan Wisata, dan Jasa Transportasi Menurut Kecamatan di Kota Probolinggo | I1: Tahun 2025 - Jumlah Usaha Jasa Perjalanan Wisata di Kota Probolinggo
A3: Kecamatan | C3: Biro Perjalanan Wisata | D3: Agen Perjalanan Wisata | E3: Jasa Transportasi | F3: Jumlah | I3: tahun | J3: kode_kecamatan | K3: kecamatan | L3: kode_kelurahan | M3: kelurahan | N3: jenis_usaha | O3: jumlah | Q3: SUM of jumlah | R3: jenis_usaha
A4: (1) | C4: (2) | D4: (3) | E4: (4) | F4: (5) | I4: 2025 | J4: 35.74.01 | K4: Kademangan | L4: 35.74.01.1001 | M4: Ketapang | N4: Biro Perjalanan Wisata | O4: 5 | Q4: kecamatan | R4: Agen Perjalanan Wisata | S4: Biro Perjalanan Wisata | T4: Total Keseluruhan
A5: 1 | B5: Kademangan | F5: =SUM(C5:E5) -> 0 | I5: 2025 | J5: 35.74.01 | K5: Kademangan | L5: 35.74.01.1001 | M5: Ketapang | N5: Agen Perjalanan Wisata | O5: 3 | Q5: Kademangan | R5: 7 | S5: 6 | T5: 13
A6: 2 | B6: Kedopok | F6: =SUM(C6:E6) -> 0 | I6: 2025 | J6: 35.74.01 | K6: Kademangan | L6: 35.74.01.1002 | M6: Triwung Lor | N6: Biro Perjalanan Wisata | O6: 0 | Q6: Kanigaran | R6: 5 | S6: 9 | T6: 14
A7: 3 | B7: Wonoasih | F7: =SUM(C7:E7) -> 0 | I7: 2025 | J7: 35.74.01 | K7: Kademangan | L7: 35.74.01.1002 | M7: Triwung Lor | N7: Agen Perjalanan Wisata | O7: 4 | Q7: Kedopok | R7: 1 | S7: 2 | T7: 3
A8: 4 | B8: Mayangan | F8: =SUM(C8:E8) -> 0 | I8: 2025 | J8: 35.74.01 | K8: Kademangan | L8: 35.74.01.1003 | M8: Triwung Kidul | N8: Biro Perjalanan Wisata | O8: 0 | Q8: Mayangan | R8: 0 | S8: 9 | T8: 9
A9: 5 | B9: Kanigaran | F9: =SUM(C9:E9) -> 0 | I9: 2025 | J9: 35.74.01 | K9: Kademangan | L9: 35.74.01.1003 | M9: Triwung Kidul | N9: Agen Perjalanan Wisata | O9: 0 | Q9: Wonoasih | R9: 1 | S9: 2 | T9: 3
A10: Jumlah | C10: =SUM(C5:C9) -> 0 | D10: =SUM(D5:D9) -> 0 | E10: =SUM(E5:E9) -> 0 | F10: =SUM(F5:F9) -> 0 | I10: 2025 | J10: 35.74.01 | K10: Kademangan | L10: 35.74.01.1007 | M10: Pohsangit Kidul | N10: Biro Perjalanan Wisata | O10: 0 | Q10: Total Keseluruhan | R10: 14 | S10: 28 | T10: 42
A11: 2022 | C11: 32 | D11: 13 | E11: 10 | F11: 55 | I11: 2025 | J11: 35.74.01 | K11: Kademangan | L11: 35.74.01.1007 | M11: Pohsangit Kidul | N11: Agen Perjalanan Wisata | O11: 0 | Q11: 2024 | R11: 8 | S11: 25 | T11: 33
A12: 2021 | C12: 49 | D12: 23 | E12: 11 | F12: 83 | I12: 2025 | J12: 35.74.01 | K12: Kademangan | L12: 35.74.01.1008 | M12: Kademangan | N12: Biro Perjalanan Wisata | O12: 1
A13: 2020 | C13: 49 | D13: 23 | E13: 11 | F13: 83 | I13: 2025 | J13: 35.74.01 | K13: Kademangan | L13: 35.74.01.1008 | M13: Kademangan | N13: Agen Perjalanan Wisata | O13: 0
A14: 2019 | C14: 75 | D14: 12 | E14: 9 | F14: 96 | I14: 2025 | J14: 35.74.01 | K14: Kademangan | L14: 35.74.01.1009 | M14: Pilang | N14: Biro Perjalanan Wisata | O14: 0
A15: 2018 | C15: 75 | D15: 12 | E15: 9 | F15: 96 | I15: 2025 | J15: 35.74.01 | K15: Kademangan | L15: 35.74.01.1009 | M15: Pilang | N15: Agen Perjalanan Wisata | O15: 0
A16: Sumber : Dinas Kepemudaan, Olahraga, dan Pariwisata Kota Probolinggo | I16: 2025 | J16: 35.74.02 | K16: Wonoasih | L16: 35.74.02.1001 | M16: Jrebeng Kidul | N16: Biro Perjalanan Wisata | O16: 0
I17: 2025 | J17: 35.74.02 | K17: Wonoasih | L17: 35.74.02.1001 | M17: Jrebeng Kidul | N17: Agen Perjalanan Wisata | O17: 0
I18: 2025 | J18: 35.74.02 | K18: Wonoasih | L18: 35.74.02.1002 | M18: Pakistaji | N18: Biro Perjalanan Wisata | O18: 0
A19: SUDAH OKE | I19: 2025 | J19: 35.74.02 | K19: Wonoasih | L19: 35.74.02.1002 | M19: Pakistaji | N19: Agen Perjalanan Wisata | O19: 0
I20: 2025 | J20: 35.74.02 | K20: Wonoasih | L20: 35.74.02.1003 | M20: Kedunggaleng | N20: Biro Perjalanan Wisata | O20: 0
I21: 2025 | J21: 35.74.02 | K21: Wonoasih | L21: 35.74.02.1003 | M21: Kedunggaleng | N21: Agen Perjalanan Wisata | O21: 0
I22: 2025 | J22: 35.74.02 | K22: Wonoasih | L22: 35.74.02.1005 | M22: Kedung Asem | N22: Biro Perjalanan Wisata | O22: 0
I23: 2025 | J23: 35.74.02 | K23: Wonoasih | L23: 35.74.02.1005 | M23: Kedung Asem | N23: Agen Perjalanan Wisata | O23: 0
I24: 2025 | J24: 35.74.02 | K24: Wonoasih | L24: 35.74.02.1006 | M24: Sumber Taman | N24: Biro Perjalanan Wisata | O24: 2
I25: 2025 | J25: 35.74.02 | K25: Wonoasih | L25: 35.74.02.1006 | M25: Sumber Taman | N25: Agen Perjalanan Wisata | O25: 1
I26: 2025 | J26: 35.74.02 | K26: Wonoasih | L26: 35.74.02.1007 | M26: Wonoasih | N26: Biro Perjalanan Wisata | O26: 0
I27: 2025 | J27: 35.74.02 | K27: Wonoasih | L27: 35.74.02.1007 | M27: Wonoasih | N27: Agen Perjalanan Wisata | O27: 0
I28: 2025 | J28: 35.74.03 | K28: Mayangan | L28: 35.74.03.1001 | M28: Mayangan | N28: Biro Perjalanan Wisata | O28: 0
I29: 2025 | J29: 35.74.03 | K29: Mayangan | L29: 35.74.03.1001 | M29: Mayangan | N29: Agen Perjalanan Wisata | O29: 0
I30: 2025 | J30: 35.74.03 | K30: Mayangan | L30: 35.74.03.1002 | M30: Mangunharjo | N30: Biro Perjalanan Wisata | O30: 1
I31: 2025 | J31: 35.74.03 | K31: Mayangan | L31: 35.74.03.1002 | M31: Mangunharjo | N31: Agen Perjalanan Wisata | O31: 0
... I61: 2025 | J61: 35.74.05 | K61: Kedopok | L61: 35.74.05.1006 | M61: Jrebeng Wetan | N61: Agen Perjalanan Wisata | O61: 0

Sheet 33
A1: Tahun 2025 - Daftar Usaha Biro Perjalanan Wisata di Kota Probolinggo
A2: Catatan : Mohon data yang terisi dicek kembali dan direvisi bila ada yang tidak tepat
A4: tahun | B4: kode_kecamatan | C4: kecamatan | D4: kode_kelurahan | E4: kelurahan | F4: nama_biro_perjalanan_wisata | G4: alamat | H4: latitude | I4: longitude | K4: kecamatan | L4: COUNTA of nama_biro_perjalanan_wisata
A5: 2025 | B5: 35.74.01 | C5: Kademangan | D5: 35.74.01.1008 | E5: Kademangan | F5: CV. Rona Persada | G5: Jl. Tambora 22 RT.01 RW.03, Kel. Kademangan Kec. Kademangan | K5: Kademangan | L5: 6
A6: 2025 | B6: 35.74.01 | C6: Kademangan | D6: 35.74.01.1001 | E6: Ketapang | F6: CV. Aira Trans Tour & Travel | G6: Perumahan Kopian Barat A7 Kel. Ketapang Kec. Kademangan | K6: Kanigaran | L6: 9
A7: 2025 | B7: 35.74.01 | C7: Kademangan | D7: 35.74.01.1001 | E7: Ketapang | F7: CV. Arudam Tour & Travel | G7: Jl. Kelud RT. 05 RW. 02 Kel. Ketapang Kec. Kademangan | K7: Kedopok | L7: 2
A8: 2025 | B8: 35.74.01 | C8: Kademangan | D8: 35.74.01.1001 | E8: Ketapang | F8: CV. Bangye Nusantara | G8: Jl. Kini Balu 11 No.15, Kel. Ketapang Kec. Kademangan | K8: Mayangan | L8: 9
A9: 2025 | B9: 35.74.01 | C9: Kademangan | D9: 35.74.01.1001 | E9: Ketapang | F9: PT. Brinis Ibad Jaya | G9: Jl. Raya Bromo No.1 RT.06 RW.01 Kel. Ketapang Kec. Kademangan | K9: Wonoasih | L9: 2
A10: 2025 | B10: 35.74.01 | C10: Kademangan | D10: 35.74.01.1001 | E10: Ketapang | F10: PT. Menara Suci | G10: Jl. Krakatau, Kel. Ketapang Kec. Kademangan | K10: Total Keseluruhan | L10: 28
A11: 2025 | B11: 35.74.04 | C11: Kanigaran | D11: 35.74.04.1005 | E11: Curahgrinting | F11: Rona Tour and Travel | G11: Jl. Citarum Kav. Baru No.03 RT.04 RW.04 Kel. Curahgrinting Kec. Kanigaran
A12: 2025 | B12: 35.74.04 | C12: Kanigaran | D12: 35.74.04.1003 | E12: Kanigaran | F12: CV. Pandu Wisata Abadi | G12: Jl. Mastrip gg. 1 Mastrip Residence no. 24 Kel. Kanigaran Kec. Kanigaran
A13: 2025 | B13: 35.74.04 | C13: Kanigaran | D13: 35.74.04.1006 | E13: Kebonsari Kulon | F13: CV. Mandiri Nusantara | G13: Jl.Cokroaminoto Gg. Istiharoh No.209, Kel. Kebonsari Kulon Kec. Kanigaran | K13: 2024 | L13: 25
A14: 2025 | B14: 35.74.04 | C14: Kanigaran | D14: 35.74.04.1006 | E14: Kebonsari Kulon | F14: PT. Elrayyan Putra Mandiri | G14: Jl. Pahlawan No.139 RT.01 RW.02, Kel. Kebonsari Kulon Kec. Kanigaran
A15: 2025 | B15: 35.74.04 | C15: Kanigaran | D15: 35.74.04.1001 | E15: Tisnonegaran | F15: Abi Tour Haji & Umroh | G15: Jl. Juanda No.15 Kel. Tisnonegaran Kec. Kanigaran
A16: 2025 | B16: 35.74.04 | C16: Kanigaran | D16: 35.74.04.1001 | E16: Tisnonegaran | F16: CV. Cahaya Baru | G16: Jl. Ir. Juanda No.37 A RT.01 RW.01, Kel. Tisnonegaran Kec. Kanigaran
A17: 2025 | B17: 35.74.04 | C17: Kanigaran | D17: 35.74.04.1001 | E17: Tisnonegaran | F17: CV. Kaendra Raya Eterna | G17: Jl. Letjend Sutoyo Gg. Libra No.4, Kel. Tisnonegaran Kec. Kanigaran
A18: 2025 | B18: 35.74.04 | C18: Kanigaran | D18: 35.74.04.1001 | E18: Tisnonegaran | F18: Pahala Kencana | G18: Jl. Sukarno Hatta No.41 Kel. Tisnonegaran Kec. Kanigaran
A19: 2025 | B19: 35.74.04 | C19: Kanigaran | D19: 35.74.04.1001 | E19: Tisnonegaran | F19: TX. Express | G19: Jl. Suroyo No.15 Kel. Tisnonegaran Kec. Kanigaran
A20: 2025 | B20: 35.74.05 | C20: Kedopok | D20: 35.74.05.1001 | E20: Jrebeng Kulon | F20: Kharisma Tour & Travel | G20: Bengawan Solo Gang Kenari I No.01 Kel. Jrebeng Kulon Kec. Kedopok
A21: 2025 | B21: 35.74.05 | C21: Kedopok | D21: 35.74.05.1003 | E21: Sumber Wetan | F21: Bromo Wander Tour | G21: Jl. Mangga RT.04 RW.02 Kel. Sumber Wetan Kec. Kedopok
A22: 2025 | B22: 35.74.03 | C22: Mayangan | D22: 35.74.03.1004 | E22: Jati | F22: CV. Anugerah Yunni | G22: Jl. Damarwulan No.2 RT.03 RW.07 Kel. Jati Kec. Mayangan
A23: 2025 | B23: 35.74.03 | C23: Mayangan | D23: 35.74.03.1004 | E23: Jati | F23: CV. Bromo Java Paradise | G23: Jl. Sunan Kalijogo No.02 RT.01 RW.01 Kel. Jati Kec. Mayangan
A24: 2025 | B24: 35.74.03 | C24: Mayangan | D24: 35.74.03.1004 | E24: Jati | F24: CV. Mahameru Transport | G24: Jl. Panglima Sudirman No.241 Kel. Jati Kec. Mayangan
A25: 2025 | B25: 35.74.03 | C25: Mayangan | D25: 35.74.03.1004 | E25: Jati | F25: Zhafira Tour & travel | G25: Jl. Damar Wulan No.2 Kel. Jati Kec. Mayangan
... A32: 2025 | B32: 35.74.02 | C32: Wonoasih | D32: 35.74.02.1006 | E32: Sumber Taman | F32: Vacation Mount Bromo | G32: Perum STI Blok NN No. 18 Kel. Sumber Taman Kec. Wonoasih

Sheet 34
A1: Tahun 2025 - Daftar Usaha Agen Perjalanan Wisata di Kota Probolinggo
A2: Catatan : Mohon data yang terisi dicek kembali dan direvisi bila ada yang tidak tepat
A4: tahun | B4: kode_kecamatan | C4: kecamatan | D4: kode_kelurahan | E4: kelurahan | F4: nama_agen_perjalanan_wisata | G4: alamat | H4: latitude | I4: longitude
A5: 2025 | B5: 35.74.01 | C5: Kademangan | D5: 35.74.01.1001 | E5: Ketapang | F5: Bromo Nusantara | G5: Jl. Kini Balu 9 No. A17 Kel. Ketapang Kec. Kademangan
A6: 2025 | B6: 35.74.01 | C6: Kademangan | D6: 35.74.01.1001 | E6: Ketapang | F6: Mahabarata Travel | G6: Jl. Soekarno Hatta No. 96 Kel. Ketapang Kec. Kademangan
A7: 2025 | B7: 35.74.01 | C7: Kademangan | D7: 35.74.01.1001 | E7: Ketapang | F7: Mahrus Tour & Travel | G7: Jl. Soekarno Hatta No.51 Kel. Ketapang Kec. Kademangan
A8: 2025 | B8: 35.74.01 | C8: Kademangan | D8: 35.74.01.1002 | E8: Triwung Lor | F8: Mahameru Travel | G8: Jl. Raya Bromo Kel. Triwung Lor Kec. Kademangan
A9: 2025 | B9: 35.74.01 | C9: Kademangan | D9: 35.74.01.1002 | E9: Triwung Lor | F9: Mitra Tour and Travel | G9: Jl. Raya Bromo depan Terminal Bayuangga Kel. Triwung Lor Kec. Kademangan
A10: 2025 | B10: 35.74.01 | C10: Kademangan | D10: 35.74.01.1002 | E10: Triwung Lor | F10: Sang Surya Tour & Travel | G10: Jl. Merapi RT.009 RW.002 Kel. Triwung Lor Kec. Kademangan
A11: 2025 | B11: 35.74.01 | C11: Kademangan | D11: 35.74.01.1002 | E11: Triwung Lor | F11: Toto Travel | G11: Jl. Raya Bromo Stand 16 Dalam Terminal Bayuangga Kel. Triwung Lor Kec. Kademangan
A12: 2025 | B12: 35.74.04 | C12: Kanigaran | D12: 35.74.04.1003 | E12: Kanigaran | F12: CV. Dhika Adventure | G12: Jl. Letjend Sutoyo No.12 Kel. Kanigaran Kec. Kanigaran
A13: 2025 | B13: 35.74.04 | C13: Kanigaran | D13: 35.74.04.1003 | E13: Kanigaran | F13: PT. Bina Tari Bayu Kencana | G13: Jl. Cokroaminoto Gg. Bahagia No.23 Kel. Kanigaran Kec. Kanigaran
A14: 2025 | B14: 35.74.04 | C14: Kanigaran | D14: 35.74.04.1001 | E14: Tisnonegaran | F14: CV. Cahaya Baru | G14: Jl. Ir. Juanda No.37 A RT.01 RW.01 Kel. Tisnonegaran Kec. Kanigaran
A15: 2025 | B15: 35.74.04 | C15: Kanigaran | D15: 35.74.04.1001 | E15: Tisnonegaran | F15: Rosalia Indah | G15: Jl. Sukarno Hatta No.35 Kel. Tisnonegaran Kec. Kanigaran
A16: 2025 | B16: 35.74.04 | C16: Kanigaran | D16: 35.74.04.1001 | E16: Tisnonegaran | F16: Sahabat Mulia | G16: Jl. Sukarno Hatta No.41 Kel. Tisnonegaran Kec. Kanigaran
... A18: 2025 | B18: 35.74.02 | C18: Wonoasih | D18: 35.74.02.1006 | E18: Sumber Taman | F18: Barokah Trasindo | G18: Jl. Ky. Zainal Alim Kel. Sumber Taman Kec.. Wonoasih
B21: kecamatan | C21: COUNTA of nama_agen_perjalanan_wisata
B22: Kademangan | C22: 7
B23: Kanigaran | C23: 5
B24: Kedopok | C24: 1
B25: Wonoasih | C25: 1
B26: Total Keseluruhan | C26: 14
B31: 2024 | C31: 8

Sheet 35
A1: Tahun 2025 - Jumlah Usaha Jasa Transportasi Wisata di Kota Probolinggo
A3: tahun | B3: kode_kecamatan | C3: kecamatan | D3: kode_kelurahan | E3: kelurahan | F3: jumlah_jasa_transportasi_wisata | H3: kecamatan | I3: SUM of jumlah_jasa_transportasi_wisata
A4: 2025 | B4: 35.74.01 | C4: Kademangan | D4: 35.74.01.1001 | E4: Ketapang | F4: 1 | H4: Kademangan | I4: 4
A5: 2025 | B5: 35.74.01 | C5: Kademangan | D5: 35.74.01.1002 | E5: Triwung Lor | F5: 0 | H5: Kanigaran | I5: 1
A6: 2025 | B6: 35.74.01 | C6: Kademangan | D6: 35.74.01.1003 | E6: Triwung Kidul | F6: 2 | H6: Kedopok | I6: 2
A7: 2025 | B7: 35.74.01 | C7: Kademangan | D7: 35.74.01.1007 | E7: Pohsangit Kidul | F7: 0 | H7: Mayangan | I7: 1
A8: 2025 | B8: 35.74.01 | C8: Kademangan | D8: 35.74.01.1008 | E8: Kademangan | F8: 0 | H8: Wonoasih | I8: 3
A9: 2025 | B9: 35.74.01 | C9: Kademangan | D9: 35.74.01.1009 | E9: Pilang | F9: 1 | H9: Total Keseluruhan | I9: 11
A10: 2025 | B10: 35.74.02 | C10: Wonoasih | D10: 35.74.02.1001 | E10: Jrebeng Kidul | F10: 0 | H10: 2024 | I10: 10
A11: 2025 | B11: 35.74.02 | C11: Wonoasih | D11: 35.74.02.1002 | E11: Pakistaji | F11: 0
A12: 2025 | B12: 35.74.02 | C12: Wonoasih | D12: 35.74.02.1003 | E12: Kedunggaleng | F12: 1
A13: 2025 | B13: 35.74.02 | C13: Wonoasih | D13: 35.74.02.1005 | E13: Kedung Asem | F13: 1
A14: 2025 | B14: 35.74.02 | C14: Wonoasih | D14: 35.74.02.1006 | E14: Sumber Taman | F14: 0
A15: 2025 | B15: 35.74.02 | C15: Wonoasih | D15: 35.74.02.1007 | E15: Wonoasih | F15: 1
A16: 2025 | B16: 35.74.03 | C16: Mayangan | D16: 35.74.03.1001 | E16: Mayangan | F16: 0
A17: 2025 | B17: 35.74.03 | C17: Mayangan | D17: 35.74.03.1002 | E17: Mangunharjo | F17: 0
A18: 2025 | B18: 35.74.03 | C18: Mayangan | D18: 35.74.03.1004 | E18: Jati | F18: 1
A19: 2025 | B19: 35.74.03 | C19: Mayangan | D19: 35.74.03.1007 | E19: Sukabumi | F19: 0
A20: 2025 | B20: 35.74.03 | C20: Mayangan | D20: 35.74.03.1010 | E20: Wiroborang | F20: 0
A21: 2025 | B21: 35.74.04 | C21: Kanigaran | D21: 35.74.04.1001 | E21: Tisnonegaran | F21: 0
A22: 2025 | B22: 35.74.04 | C22: Kanigaran | D22: 35.74.04.1002 | E22: Sukoharjo | F22: 0
... A32: 2025 | B32: 35.74.05 | C32: Kedopok | D32: 35.74.05.1006 | E32: Jrebeng Wetan | F32: 1

Sheet 36
A1: Tahun 2025 - Daftar Jasa Transportasi Wisata di Kota Probolinggo
A2: Catatan : Mohon data yang terisi dicek kembali dan direvisi bila ada yang tidak tepat
A4: tahun | B4: kode_kecamatan | C4: kecamatan | D4: kode_kelurahan | E4: kelurahan | F4: nama_jasa_transportasi | G4: alamat | H4: latitude | I4: longitude
A5: 2025 | B5: 35.74.01 | C5: Kademangan | D5: 35.74.01.1001 | E5: Ketapang | F5: CV. Aira Trans | G5: Perum Kopian Barat Blok A No.7, Kel. Ketapang Kec. Kademangan
A6: 2025 | B6: 35.74.01 | C6: Kademangan | D6: 35.74.01.1009 | E6: Pilang | F6: PO. Akas Asri | G6: Jl. Sukarno Hatta, Kel. Pilang Kec. Kademangan
A7: 2025 | B7: 35.74.01 | C7: Kademangan | D7: 35.74.01.1003 | E7: Triwung Kidul | F7: PT AKAS AMAD ABADI R | G7: Jl. Raya Bromo Kel. Triwung Kidul Kec. Kademangan
A8: 2025 | B8: 35.74.01 | C8: Kademangan | D8: 35.74.01.1003 | E8: Triwung Kidul | F8: PT AKAS KISARA BAROKAH N II | G8: Jl. Raya Bromo Kel. Triwung Kidul Kec. Kademangan
A9: 2025 | B9: 35.74.04 | C9: Kanigaran | D9: 35.74.04.1006 | E9: Kebonsari Kulon | F9: PO. AKAS IV-Mila Transport | G9: Jl. Panglima Sudirman No.237, Kel. Kebonsari Kulon Kec. Kanigaran
A10: 2025 | B10: 35.74.05 | C10: Kedopok | D10: 35.74.05.1001 | E10: Jrebeng Kulon | F10: Bromo Day Tour & Travel | G10: Jl. Walikota Gatot RT.04 RW.05 Kel. Jrebeng Kulon Kec. Kedopok
A11: 2025 | B11: 35.74.05 | C11: Kedopok | D11: 35.74.05.1006 | E11: Jrebeng Wetan | F11: PO. Pranata Transport | G11: Jl. Mastrip No.159 Kel. Jrebeng Wetan Kec. Kedopok
A12: 2025 | B12: 35.74.03 | C12: Mayangan | D12: 35.74.03.1004 | E12: Jati | F12: Bayu Kencana Trans | G12: Jl. S. Parman Gg. Musolla RT.04 RW.02, Kel. Jati Kec. Mayangan
A13: 2025 | B13: 35.74.02 | C13: Wonoasih | D13: 35.74.02.1005 | E13: Kedung Asem | F13: N.B Trans | G13: Jl. Aba Yusuf No.49 RT.02 RW.04 Kel. Kedung Asem Kec. Wonoasih
A14: 2025 | B14: 35.74.02 | C14: Wonoasih | D14: 35.74.02.1003 | E14: Kedung Galeng | F14: Dinda Trans | G14: Jl. Sunan Drajad RT.01 RW.03 Kel. Kedung Galeng Kec. Wonoasih
A15: 2025 | B15: 35.74.02 | C15: Wonoasih | D15: 35.74.02.1007 | E15: Wonoasih | F15: Senja Merona Trans | G15: Jl. Prof Dr Hamka Kel. Wonoasih Kec. Wonoasih
B18: kecamatan | C18: COUNTA of nama_jasa_transportasi
B19: Kademangan | C19: 4
B20: Kanigaran | C20: 1
B21: Kedopok | C21: 2
B22: Mayangan | C22: 1
B23: Wonoasih | C23: 3
B24: Total Keseluruhan | C24: 11
B25: 2024 | C25: 10

Sheet 37
A1: Tahun 2025 - -Jumlah Usaha Rumah Kos Menurut Kelurahan di Kota Probolinggo
A3: tahun | B3: kode_kecamatan | C3: kecamatan | D3: kode_kelurahan | E3: kelurahan | F3: jumlah_rumah_kos | H3: kecamatan | I3: SUM of jumlah_rumah_kos
A4: 2025 | B4: 35.74.01 | C4: Kademangan | D4: 35.74.01.1001 | E4: Ketapang | F4: 8 | H4: Kademangan | I4: 64
A5: 2025 | B5: 35.74.01 | C5: Kademangan | D5: 35.74.01.1002 | E5: Triwung Lor | F5: 14 | H5: Kanigaran | I5: 138
A6: 2025 | B6: 35.74.01 | C6: Kademangan | D6: 35.74.01.1003 | E6: Triwung Kidul | F6: 6 | H6: Kedopok | I6: 23
A7: 2025 | B7: 35.74.01 | C7: Kademangan | D7: 35.74.01.1007 | E7: Pohsangit Kidul | F7: 0 | H7: Mayangan | I7: 114
A8: 2025 | B8: 35.74.01 | C8: Kademangan | D8: 35.74.01.1008 | E8: Kademangan | F8: 2 | H8: Wonoasih | I8: 3
A9: 2025 | B9: 35.74.01 | C9: Kademangan | D9: 35.74.01.1009 | E9: Pilang | F9: 34 | H9: Total Keseluruhan | I9: 342
A10: 2025 | B10: 35.74.02 | C10: Wonoasih | D10: 35.74.02.1001 | E10: Jrebeng Kidul | F10: 2 | H10: 2024 | I10: 297
A11: 2025 | B11: 35.74.02 | C11: Wonoasih | D11: 35.74.02.1002 | E11: Pakistaji | F11: 0
A12: 2025 | B12: 35.74.02 | C12: Wonoasih | D12: 35.74.02.1003 | E12: Kedunggaleng | F12: 0
A13: 2025 | B13: 35.74.02 | C13: Wonoasih | D13: 35.74.02.1005 | E13: Kedung Asem | F13: 0
A14: 2025 | B14: 35.74.02 | C14: Wonoasih | D14: 35.74.02.1006 | E14: Sumber Taman | F14: 1
A15: 2025 | B15: 35.74.02 | C15: Wonoasih | D15: 35.74.02.1007 | E15: Wonoasih | F15: 0
A16: 2025 | B16: 35.74.03 | C16: Mayangan | D16: 35.74.03.1001 | E16: Mayangan | F16: 19
A17: 2025 | B17: 35.74.03 | C17: Mayangan | D17: 35.74.03.1002 | E17: Mangunharjo | F17: 13
A18: 2025 | B18: 35.74.03 | C18: Mayangan | D18: 35.74.03.1004 | E18: Jati | F18: 21
A19: 2025 | B19: 35.74.03 | C19: Mayangan | D19: 35.74.03.1007 | E19: Sukabumi | F19: 39
A20: 2025 | B20: 35.74.03 | C20: Mayangan | D20: 35.74.03.1010 | E20: Wiroborang | F20: 22
A21: 2025 | B21: 35.74.04 | C21: Kanigaran | D21: 35.74.04.1001 | E21: Tisnonegaran | F21: 17
A22: 2025 | B22: 35.74.04 | C22: Kanigaran | D22: 35.74.04.1002 | E22: Sukoharjo | F22: 7
... A32: 2025 | B32: 35.74.05 | C32: Kedopok | D32: 35.74.05.1006 | E32: Jrebeng Wetan | F32: 10

Sheet 38
A1: Tahun 2025 - Daftar Usaha Rumah Kos di Kota Probolinggo
A2: Catatan : Mohon data yang terisi dicek kembali dan direvisi bila ada yang tidak tepat
A4: tahun | B4: kode_kecamatan | C4: kecamatan | D4: kode_kelurahan | E4: kelurahan | F4: nama_usaha_rumah_kos | G4: alamat | H4: latitude | I4: longitude | J4: jumlah_kamar | L4: kecamatan | M4: COUNTA of nama_usaha_rumah_kos
A5: 2025 | B5: 35.74.01 | C5: Kademangan | D5: 35.74.01.1008 | E5: Kademangan | F5: Kost Hendri | G5: Jl. Brantas Gg. Cahaya Arum No.1 RT.04 RW.01 Kel. Kademangan Kec. Kademangan | J5: 8 | L5: Kademangan | M5: 64
A6: 2025 | B6: 35.74.01 | C6: Kademangan | D6: 35.74.01.1008 | E6: Kademangan | F6: Rumah Kos | G6: Jl. Semeru RT.05 RW.06 Kel. Kademangan Kec. Kademangan | J6: 6 | L6: Kanigaran | M6: 138
A7: 2025 | B7: 35.74.01 | C7: Kademangan | D7: 35.74.01.1001 | E7: Ketapang | F7: Griya Kost Bougenville | G7: Jl. KH. Abdurrahman Wahid RT.03 RW.02 Kel. Ketapang Kec. Kademangan | L7: Kedopok | M7: 23
A8: 2025 | B8: 35.74.01 | C8: Kademangan | D8: 35.74.01.1001 | E8: Ketapang | F8: Rumah Kos | G8: Jl. Kelud Gg.II No.18 Kel. Ketapang Kec. Kademangan | J8: >10 | L8: Mayangan | M8: 114
A9: 2025 | B9: 35.74.01 | C9: Kademangan | D9: 35.74.01.1001 | E9: Ketapang | F9: Rumah Kos | G9: Jl. Raya Bromo Gg. Dalam No.22 RT.02 RW.02 Kel. Ketapang Kec. Kademangan | J9: >10 | L9: Wonoasih | M9: 3
A10: 2025 | B10: 35.74.01 | C10: Kademangan | D10: 35.74.01.1001 | E10: Ketapang | F10: Rumah Kos | G10: Jl. Raya Bromo Kel. Ketapang Kec. Kademangan | J10: >10 | L10: Total Keseluruhan | M10: 342
A11: 2025 | B11: 35.74.01 | C11: Kademangan | D11: 35.74.01.1001 | E11: Ketapang | F11: Rumah Kos | G11: Jl. Kelud RT. 02 RW. 02 Kel. Ketapang Kec. Kademangan | J11: 4 | L11: 2024 | M11: 297
A12: 2025 | B12: 35.74.01 | C12: Kademangan | D12: 35.74.01.1001 | E12: Ketapang | F12: Rumah Kos | G12: Jl. KH. Abdurrahman Wahid RT.02 RW.02 Kel. Ketapang Kec. Kademangan | J12: 8
A13: 2025 | B13: 35.74.01 | C13: Kademangan | D13: 35.74.01.1001 | E13: Ketapang | F13: Rumah Kos | G13: Jl. Argopuro Gg. Tentrem RT.03 RW.01 Kel. Ketapang Kec. Kademangan | J13: 5
A14: 2025 | B14: 35.74.01 | C14: Kademangan | D14: 35.74.01.1001 | E14: Ketapang | F14: Rumah Kos | G14: Jl. Kelud RT.01 RW.02 Kel. Ketapang Kec. Kademangan | J14: 7
A15: 2025 | B15: 35.74.01 | C15: Kademangan | D15: 35.74.01.1009 | E15: Pilang | F15: Kos Putra Ennur | G15: Jl. Sambas No.1 Kel. Pilang Kec. Kademangan
A16: 2025 | B16: 35.74.01 | C16: Kademangan | D16: 35.74.01.1009 | E16: Pilang | F16: Rumah Kos | G16: Jl. Kerinci Kel. Pilang Kec. Kademangan | J16: >10
A17: 2025 | B17: 35.74.01 | C17: Kademangan | D17: 35.74.01.1009 | E17: Pilang | F17: Rumah Kos | G17: Jl. Kerinci Kel. Pilang Kec. Kademangan | J17: >10
A18: 2025 | B18: 35.74.01 | C18: Kademangan | D18: 35.74.01.1009 | E18: Pilang | F18: Rumah Kos | G18: RT.01 RW.02 Kel. Pilang Kec. Kademangan
A19: 2025 | B19: 35.74.01 | C19: Kademangan | D19: 35.74.01.1009 | E19: Pilang | F19: Rumah Kos | G19: RT.02 RW.02 Kel. Pilang Kec. Kademangan
A20: 2025 | B20: 35.74.01 | C20: Kademangan | D20: 35.74.01.1009 | E20: Pilang | F20: Rumah Kos | G20: RT.02 RW.02 Kel. Pilang Kec. Kademangan
A21: 2025 | B21: 35.74.01 | C21: Kademangan | D21: 35.74.01.1009 | E21: Pilang | F21: Rumah Kos | G21: RT.032 RW.02 Kel. Pilang Kec. Kademangan
A22: 2025 | B22: 35.74.01 | C22: Kademangan | D22: 35.74.01.1009 | E22: Pilang | F22: Rumah Kos | G22: Jl. Flamboyan RT.02 RW.03 Kel. Pilang Kec. Kademangan
A23: 2025 | B23: 35.74.01 | C23: Kademangan | D23: 35.74.01.1009 | E23: Pilang | F23: Rumah Kos | G23: Jl. Flamboyan RT.02 RW.03 Kel. Pilang Kec. Kademangan
A24: 2025 | B24: 35.74.01 | C24: Kademangan | D24: 35.74.01.1009 | E24: Pilang | F24: Rumah Kos | G24: Jl. Flamboyan RT.02 RW.03 Kel. Pilang Kec. Kademangan
A25: 2025 | B25: 35.74.01 | C25: Kademangan | D25: 35.74.01.1009 | E25: Pilang | F25: Rumah Kos | G25: Jl. Flamboyan RT.03 RW.03 Kel. Pilang Kec. Kademangan
A26: 2025 | B26: 35.74.01 | C26: Kademangan | D26: 35.74.01.1009 | E26: Pilang | F26: Rumah Kos | G26: Jl. Flamboyan RT.03 RW.03 Kel. Pilang Kec. Kademangan
A27: 2025 | B27: 35.74.01 | C27: Kademangan | D27: 35.74.01.1009 | E27: Pilang | F27: Rumah Kos | G27: Jl. Flamboyan RT.03 RW.03 Kel. Pilang Kec. Kademangan
A28: 2025 | B28: 35.74.01 | C28: Kademangan | D28: 35.74.01.1009 | E28: Pilang | F28: Rumah Kos | G28: Jl. Flamboyan RT.03 RW.03 Kel. Pilang Kec. Kademangan
A29: 2025 | B29: 35.74.01 | C29: Kademangan | D29: 35.74.01.1009 | E29: Pilang | F29: Rumah Kos | G29: Jl. Flamboyan RT.04 RW.03 Kel. Pilang Kec. Kademangan
... A48: 2025 | B48: 35.74.01 | C48: Kademangan | D48: 35.74.01.1009 | E48: Pilang | F48: Rumah Kos St 29 | G48: Jl. Flamboyan 1 No.38 Kel. Pilang Kec. Kademangan
A49: 2025 | B49: 35.74.01 | C49: Kademangan | D49: 35.74.01.1003 | E49: Triwung Kidul | F49: Rumah Kos | G49: Jl. Raya Bromo RT.07 RW.01 Kel. Triwung Kidul Kec. Kademangan | J49: >10
A50: 2025 | B50: 35.74.01 | C50: Kademangan | D50: 35.74.01.1003 | E50: Triwung Kidul | F50: Rumah Kos | G50: Jl. Semeru Gg.1 RT.06 RW.06 Kel. Triwung Kidul Kec. Kademangan | J50: >10
A51: 2025 | B51: 35.74.01 | C51: Kademangan | D51: 35.74.01.1003 | E51: Triwung Kidul | F51: Rumah Kos | G51: Jl. Semeru RT.04 RW.05 Kel. Triwung Kidul Kec. Kademangan | J51: >10
A52: 2025 | B52: 35.74.01 | C52: Kademangan | D52: 35.74.01.1003 | E52: Triwung Kidul | F52: Rumah Kos | G52: Jl. Galunggung RT.04 RW.05 Kel. Triwung Kidul Kec. Kademangan | J52: >10
A53: 2025 | B53: 35.74.01 | C53: Kademangan | D53: 35.74.01.1003 | E53: Triwung Kidul | F53: Rumah Kos | G53: Jl. Semeru Gg.1 RT.06 RW.06 Kel. Triwung Kidul Kec. Kademangan | J53: 2
A54: 2025 | B54: 35.74.01 | C54: Kademangan | D54: 35.74.01.1003 | E54: Triwung Kidul | F54: Rumah Kos | G54: Jl. Semeru Gg.1 RT.06 RW.06 Kel. Triwung Kidul Kec. Kademangan | J54: 2
A55: 2025 | B55: 35.74.01 | C55: Kademangan | D55: 35.74.01.1002 | E55: Triwung Lor | F55: Kost Merju | G55: Jl. Merapi RT.01 RW.03 Kel. Triwung Lor Kec. Kademangan | J55: >10
A56: 2025 | B56: 35.74.01 | C56: Kademangan | D56: 35.74.01.1002 | E56: Triwung Lor | F56: Rumah Kos | G56: Jl. Arjuno Kel. Triwung Lor Kec. Kademangan | J56: >10
A57: 2025 | B57: 35.74.01 | C57: Kademangan | D57: 35.74.01.1002 | E57: Triwung Lor | F57: Rumah Kos | G57: Jl. Merapi Kel. Triwung Lor Kec. Kademangan | J57: >10
A58: 2025 | B58: 35.74.01 | C58: Kademangan | D58: 35.74.01.1002 | E58: Triwung Lor | F58: Rumah Kos | G58: Jl. Merapi RT.10 RW.02 Kel. Triwung Lor Kec. Kademangan | J58: <10
A59: 2025 | B59: 35.74.01 | C59: Kademangan | D59: 35.74.01.1002 | E59: Triwung Lor | F59: Rumah Kos | G59: Jl. Raya Bromo RT.13 RW.03 Kel. Triwung Lor Kec. Kademangan | J59: <10
A60: 2025 | B60: 35.74.01 | C60: Kademangan | D60: 35.74.01.1002 | E60: Triwung Lor | F60: Rumah Kos | G60: Jl. Merapi RT.12 RW.01 Kel. Triwung Lor Kec. Kademangan | J60: < 10
A61: 2025 | B61: 35.74.01 | C61: Kademangan | D61: 35.74.01.1002 | E61: Triwung Lor | F61: Rumah Kos | G61: Jl. Merapi RT.11 RW.02 Kel. Triwung Lor Kec. Kademangan | J61: > 10
A62: 2025 | B62: 35.74.01 | C62: Kademangan | D62: 35.74.01.1002 | E62: Triwung Lor | F62: Rumah Kos | G62: Jl. Raya Bromo RT.13 RW.03 Kel. Triwung Lor Kec. Kademangan | J62: < 10
A63: 2025 | B63: 35.74.01 | C63: Kademangan | D63: 35.74.01.1002 | E63: Triwung Lor | F63: Rumah Kos | G63: Jl. Merapi RT.11 RW.01 Kel. Triwung Lor Kec. Kademangan | J63: < 10
A64: 2025 | B64: 35.74.01 | C64: Kademangan | D64: 35.74.01.1002 | E64: Triwung Lor | F64: Rumah Kos | G64: Jl. Arjuno RT.13 RW.03 Kel. Triwung Lor Kec. Kademangan | J64: < 10
A65: 2025 | B65: 35.74.01 | C65: Kademangan | D65: 35.74.01.1002 | E65: Triwung Lor | F65: Rumah Kos | G65: Jl. Merapi RT.10 RW.03 Kel. Triwung Lor Kec. Kademangan | J65: < 10
A66: 2025 | B66: 35.74.01 | C66: Kademangan | D66: 35.74.01.1002 | E66: Triwung Lor | F66: Rumah Kos | G66: Jl. Merapi RT.07 RW.01 Kel. Triwung Lor Kec. Kademangan | J66: < 10
... A68: 2025 | B68: 35.74.01 | C68: Kademangan | D68: 35.74.01.1002 | E68: Triwung Lor | F68: Rumah Kos Merapi Indah | G68: Jl. Merapi RT.11 RW.02 Kel. Triwung Lor Kec. Kademangan | J68: <10
A69: 2025 | B69: 35.74.04 | C69: Kanigaran | D69: 35.74.04.1005 | E69: Curahgrinting | F69: Griya Hawa | G69: Jl. Citarum Gg. Menang No.15 RT.03 RW.04 Kel. Curahgrinting Kec. Kanigaran | J69: 7
A70: 2025 | B70: 35.74.04 | C70: Kanigaran | D70: 35.74.04.1005 | E70: Curahgrinting | F70: Kos Mango | G70: Jl. Citarum III Kav.01 RT.04 RW.03 Kel. Curahgrinting Kec. Kanigaran | J70: 10
A71: 2025 | B71: 35.74.04 | C71: Kanigaran | D71: 35.74.04.1005 | E71: Curahgrinting | F71: Kos Rizqi | G71: Jl. Citarum RT.03 RW.04 Kel. Curahgrinting Kec. Kanigaran | J71: 7
A72: 2025 | B72: 35.74.04 | C72: Kanigaran | D72: 35.74.04.1005 | E72: Curahgrinting | F72: Kos Surya Citarum | G72: Jl. Citarum Kel. Curahgrinting Kec. Kanigaran | J72: 8
A73: 2025 | B73: 35.74.04 | C73: Kanigaran | D73: 35.74.04.1005 | E73: Curahgrinting | F73: Pondok Suga | G73: Jl. Citarum RT.03 RW.04 Kel. Curahgrinting Kec. Kanigaran | J73: 10
A74: 2025 | B74: 35.74.04 | C74: Kanigaran | D74: 35.74.04.1005 | E74: Curahgrinting | F74: Rumah Kos | G74: Jl. Citarum No.4 RT.03 RW.04 Kel. Curahgrinting Kec. Kanigaran | J74: 14
A75: 2025 | B75: 35.74.04 | C75: Kanigaran | D75: 35.74.04.1005 | E75: Curahgrinting | F75: Rumah Kos | G75: Jl. Citarum RT.03 RW.04 Kel. Curahgrinting Kec. Kanigaran | J75: 12
A76: 2025 | B76: 35.74.04 | C76: Kanigaran | D76: 35.74.04.1005 | E76: Curahgrinting | F76: Rumah Kos | G76: Jl. Supriadi RT.03 RW.04 Kel. Curahgrinting Kec. Kanigaran | J76: 30
A77: 2025 | B77: 35.74.04 | C77: Kanigaran | D77: 35.74.04.1005 | E77: Curahgrinting | F77: Rumah Kos | G77: Jl. Citarum RT.05 RW.04 Kel. Curahgrinting Kec. Kanigaran | J77: 9
A78: 2025 | B78: 35.74.04 | C78: Kanigaran | D78: 35.74.04.1005 | E78: Curahgrinting | F78: Rumah Kos | G78: Jl. Citarum RT.05 RW.04 Kel. Curahgrinting Kec. Kanigaran | J78: 6
A79: 2025 | B79: 35.74.04 | C79: Kanigaran | D79: 35.74.04.1005 | E79: Curahgrinting | F79: Rumah Kos | G79: Jl. Citarum RT.05 RW.04 Kel. Curahgrinting Kec. Kanigaran | J79: 8
A80: 2025 | B80: 35.74.04 | C80: Kanigaran | D80: 35.74.04.1005 | E80: Curahgrinting | F80: Rumah Kos | G80: Jl. Citarum RT.05 RW.04 Kel. Curahgrinting Kec. Kanigaran | J80: 10
... A102: 2025 | B102: 35.74.04 | C102: Kanigaran | D102: 35.74.04.1005 | E102: Curahgrinting | F102: Rumah Kos | G102: Jl. Citarum RT.05 RW.04 Kel. Curahgrinting Kec. Kanigaran | J102: 10
A103: 2025 | B103: 35.74.04 | C103: Kanigaran | D103: 35.74.04.1003 | E103: Kanigaran | F103: Fefri Kos Probolinggo | G103: Jl. Gubernur Suryo No.6 Kel. Kanigaran Kec. Kanigaran
A104: 2025 | B104: 35.74.04 | C104: Kanigaran | D104: 35.74.04.1003 | E104: Kanigaran | F104: Griya Kanigaran | G104: Jl. Mastrip Gg. Jeruk Lemon No.2 Kel. Kanigaran Kec. Kanigaran
A105: 2025 | B105: 35.74.04 | C105: Kanigaran | D105: 35.74.04.1003 | E105: Kanigaran | F105: Kos Griya Embun | G105: Jl. Gubernur Suryo No.27 Kel. Kanigaran Kec. Kanigaran
A106: 2025 | B106: 35.74.04 | C106: Kanigaran | D106: 35.74.04.1003 | E106: Kanigaran | F106: Riris D'Kost | G106: Jl. Slamet Riyadi Gg. Bima Paling Utara Pojok R.0 8 RW.07 Kel. Kanigaran Kec. Kanigaran | J106: 12
A107: 2025 | B107: 35.74.04 | C107: Kanigaran | D107: 35.74.04.1003 | E107: Kanigaran | F107: Riris Kost Arjuna | G107: Jl. Slamet Riyadi Gg. Arjuna No.27 RT.08 RW.07 Kel. Kanigaran Kec. Kanigaran | J107: 3
A108: 2025 | B108: 35.74.04 | C108: Kanigaran | D108: 35.74.04.1003 | E108: Kanigaran | F108: Rumah Kos | G108: Jl. Mastrip Gg.II RT.03 RW.13 Kel. Kanigaran Kec. Kanigaran | J108: >10
A109: 2025 | B109: 35.74.04 | C109: Kanigaran | D109: 35.74.04.1003 | E109: Kanigaran | F109: Rumah Kos | G109: Jl. Mastrip No.177 RT.05 RW.13 Kel. Kanigaran Kec. Kanigaran | J109: >10
A110: 2025 | B110: 35.74.04 | C110: Kanigaran | D110: 35.74.04.1003 | E110: Kanigaran | F110: Rumah Kos | G110: Jl. Mastrip Gg.IV RT.05 RW.13 Kel. Kanigaran Kec. Kanigaran | J110: >10
A111: 2025 | B111: 35.74.04 | C111: Kanigaran | D111: 35.74.04.1003 | E111: Kanigaran | F111: Rumah Kos | G111: Jl. Mastrip (Depan STM) Kel. Kanigaran Kec. Kanigaran | J111: >10
A112: 2025 | B112: 35.74.04 | C112: Kanigaran | D112: 35.74.04.1003 | E112: Kanigaran | F112: Rumah Kos | G112: Jl. Gubernur Suryo Kav.15 Kel. Kanigaran Kec. Kanigaran | J112: >10
A113: 2025 | B113: 35.74.04 | C113: Kanigaran | D113: 35.74.04.1003 | E113: Kanigaran | F113: Rumah Kos | G113: Jl. Cokroaminoto Gg. Listrikan Kel. Kanigaran Kec. Kanigaran | J113: >10
A114: 2025 | B114: 35.74.04 | C114: Kanigaran | D114: 35.74.04.1003 | E114: Kanigaran | F114: Rumah Kos | G114: Jl. Mastrip Gg. Dahlia No.25 Kel. Kanigaran Kec. Kanigaran | J114: >10
A115: 2025 | B115: 35.74.04 | C115: Kanigaran | D115: 35.74.04.1003 | E115: Kanigaran | F115: Rumah Kos | G115: Jl. Walikota Gatot Kel. Kanigaran Kec. Kanigaran
A116: 2025 | B116: 35.74.04 | C116: Kanigaran | D116: 35.74.04.1003 | E116: Kanigaran | F116: Rumah Kos | G116: Jl. Cokroaminoto Gg.X Kel. Kanigaran Kec. Kanigaran | J116: <10
A117: 2025 | B117: 35.74.04 | C117: Kanigaran | D117: 35.74.04.1003 | E117: Kanigaran | F117: Rumah Kos | G117: Jl. Slamet Riyadi No.15 Kel. Kanigaran Kec. Kanigaran | J117: >10
A118: 2025 | B118: 35.74.04 | C118: Kanigaran | D118: 35.74.04.1003 | E118: Kanigaran | F118: Rumah Kos | G118: Jl. Mastrip Gg IV Kel. Kanigaran Kec. Kanigaran | J118: >10
A119: 2025 | B119: 35.74.04 | C119: Kanigaran | D119: 35.74.04.1003 | E119: Kanigaran | F119: Rumah Kos | G119: Jl. Mastrip Gg I Kel. Kanigaran Kec. Kanigaran | J119: <10
A120: 2025 | B120: 35.74.04 | C120: Kanigaran | D120: 35.74.04.1003 | E120: Kanigaran | F120: Rumah Kos | G120: Jl. Mastrip Gg II Kel. Kanigaran Kec. Kanigaran | J120: <10
A121: 2025 | B121: 35.74.04 | C121: Kanigaran | D121: 35.74.04.1003 | E121: Kanigaran | F121: Rumah Kos | G121: Jl. Mastrip Gg VI Kel. Kanigaran Kec. Kanigaran | J121: <10
A122: 2025 | B122: 35.74.04 | C122: Kanigaran | D122: 35.74.04.1003 | E122: Kanigaran | F122: Rumah Kos | G122: Jl. Mastrip Gg I Kel. Kanigaran Kec. Kanigaran | J122: <10
A123: 2025 | B123: 35.74.04 | C123: Kanigaran | D123: 35.74.04.1003 | E123: Kanigaran | F123: Rumah Kos | G123: Jl, Mastrip Gg VI Kel. Kanigaran Kec. Kanigaran | J123: <10
A124: 2025 | B124: 35.74.04 | C124: Kanigaran | D124: 35.74.04.1003 | E124: Kanigaran | F124: Rumah Kos | G124: Jl. Mastrip Gg VI Kel. Kanigaran Kec. Kanigaran | J124: 10
A125: 2025 | B125: 35.74.04 | C125: Kanigaran | D125: 35.74.04.1003 | E125: Kanigaran | F125: Rumah Kos | G125: Jl. Mastrip Gg Depag Kel. Kanigaran Kec. Kanigaran | J125: <10
A126: 2025 | B126: 35.74.04 | C126: Kanigaran | D126: 35.74.04.1003 | E126: Kanigaran | F126: Rumah Kos | G126: Jl. Walikota Gatot RT.07 RW.06 Kel. Kanigaran Kec. Kanigaran | J126: >10
A127: 2025 | B127: 35.74.04 | C127: Kanigaran | D127: 35.74.04.1003 | E127: Kanigaran | F127: Rumah Kos | G127: Jl. Walikota Gatot RT.08 RW.06 Kel. Kanigaran Kec. Kanigaran | J127: 10
A128: 2025 | B128: 35.74.04 | C128: Kanigaran | D128: 35.74.04.1003 | E128: Kanigaran | F128: Rumah Kos | G128: Jl. Walikota Gatot RT.07 RW.06 Kel. Kanigaran Kec. Kanigaran | J128: 10
A129: 2025 | B129: 35.74.04 | C129: Kanigaran | D129: 35.74.04.1003 | E129: Kanigaran | F129: Rumah Kos | G129: Jl. Cokroaminoto Gg. Mawar 1 RT.09 RW.04 Kel. Kanigaran Kec. Kanigaran | J129: 16
A130: 2025 | B130: 35.74.04 | C130: Kanigaran | D130: 35.74.04.1003 | E130: Kanigaran | F130: Rumah Kos | G130: Jl. Walikota Gatot RT.05 RW.06 Kel. Kanigaran Kec. Kanigaran | J130: 10
A131: 2025 | B131: 35.74.04 | C131: Kanigaran | D131: 35.74.04.1003 | E131: Kanigaran | F131: Rumah Kos | G131: Jl. Slamet Riyadi Gg. Bayuangga Kel. Kanigaran Kec. Kanigaran | J131: 10
A132: 2025 | B132: 35.74.04 | C132: Kanigaran | D132: 35.74.04.1003 | E132: Kanigaran | F132: Rumah Kos | G132: Jl. Slamet Riyadi Gg. Kelapa Blok II Kel. Kanigaran Kec. Kanigaran | J132: 10
A133: 2025 | B133: 35.74.04 | C133: Kanigaran | D133: 35.74.04.1003 | E133: Kanigaran | F133: Rumah Kos | G133: Jl. Slamet Riyadi Gg. Serang 1 Blok A/4 RT.02 RW.13 Kel. Kanigaran Kec. Kanigaran | J133: 10
A134: 2025 | B134: 35.74.04 | C134: Kanigaran | D134: 35.74.04.1003 | E134: Kanigaran | F134: Rumah Kos | G134: Jl. Mastrip Gg. 4/33 RT.05 RW.13 Kel. Kanigaran Kec. Kanigaran | J134: 10
A135: 2025 | B135: 35.74.04 | C135: Kanigaran | D135: 35.74.04.1003 | E135: Kanigaran | F135: Rumah Kos | G135: Jl. Mastrip Gg. 2 No.20 RT.03 RW.13 Kel. Kanigaran Kec. Kanigaran | J135: 10
A136: 2025 | B136: 35.74.04 | C136: Kanigaran | D136: 35.74.04.1003 | E136: Kanigaran | F136: Rumah Kos | G136: Jl. Mastrip Gg. 2 No.13 RT.03 RW.13 Kel. Kanigaran Kec. Kanigaran | J136: 10
A137: 2025 | B137: 35.74.04 | C137: Kanigaran | D137: 35.74.04.1006 | E137: Kebonsari Kulon | F137: Azka Kost | G137: Jl. Panglima Sudirman Gg. PJKA Perumahan Sentong Indah Blok D-E No.56 RT.01 RW.01 Kel. Kebonsari Kulon Kec. Kanigaran
A138: 2025 | B138: 35.74.04 | C138: Kanigaran | D138: 35.74.04.1006 | E138: Kebonsari Kulon | F138: Bu WIN | G138: Jl. Cokroaminoto Gg.V No.83 Kel. Kebonsari Kulon Kec. Kanigaran | J138: 11
A139: 2025 | B139: 35.74.04 | C139: Kanigaran | D139: 35.74.04.1006 | E139: Kebonsari Kulon | F139: Griya Kemuning | G139: Jl. Cokroaminoto Gg.IV RT.02 RW.09 Kel. Kebonsari Kulon Kec. Kanigaran | J139: 7
A140: 2025 | B140: 35.74.04 | C140: Kanigaran | D140: 35.74.04.1006 | E140: Kebonsari Kulon | F140: HAYYU HPOUSE Kost Putri | G140: Jl. Pahlawan Viii 01 RT.01 RW.12 Kel. Kebonsari Kulon Kec. Kanigaran
A141: 2025 | B141: 35.74.04 | C141: Kanigaran | D141: 35.74.04.1006 | E141: Kebonsari Kulon | F141: HD Kost Green | G141: Jl. Pahlawan Viii / 97 RT.01 RW.12 Kel. Kebonsari Kulon Kec. Kanigaran
...

Sheet 39
A1: Tahun 2025 - Jumlah Usaha Wisata Tirta Menurut Kelurahan di Kota Probolinggo
A3: tahun | B3: kode_kecamatan | C3: kecamatan | D3: kode_kelurahan | E3: kelurahan | F3: jenis_wisata_tirta | G3: jumlah | I3: SUM of jumlah | J3: jenis_wisata_tirta
A4: 2025 | B4: 35.74.01 | C4: Kademangan | D4: 35.74.01.1001 | E4: Ketapang | F4: Wisata Memancing | G4: 0 | I4: kecamatan | J4: Wisata Memancing | K4: Wisata Olahraga Tirta | L4: Total Keseluruhan
A5: 2025 | B5: 35.74.01 | C5: Kademangan | D5: 35.74.01.1001 | E5: Ketapang | F5: Wisata Olahraga Tirta | G5: 0 | I5: Kademangan | J5: 2 | K5: 0 | L5: 2
A6: 2025 | B6: 35.74.01 | C6: Kademangan | D6: 35.74.01.1002 | E6: Triwung Lor | F6: Wisata Memancing | G6: 0 | I6: Kanigaran | J6: 0 | K6: 0 | L6: 0
A7: 2025 | B7: 35.74.01 | C7: Kademangan | D7: 35.74.01.1002 | E7: Triwung Lor | F7: Wisata Olahraga Tirta | G7: 0 | I7: Kedopok | J7: 3 | K7: 0 | L7: 3
A8: 2025 | B8: 35.74.01 | C8: Kademangan | D8: 35.74.01.1003 | E8: Triwung Kidul | F8: Wisata Memancing | G8: 0 | I8: Mayangan | J8: 3 | K8: 1 | L8: 4
A9: 2025 | B9: 35.74.01 | C9: Kademangan | D9: 35.74.01.1003 | E9: Triwung Kidul | F9: Wisata Olahraga Tirta | G9: 0 | I9: Wonoasih | J9: 1 | K9: 0 | L9: 1
A10: 2025 | B10: 35.74.01 | C10: Kademangan | D10: 35.74.01.1007 | E10: Pohsangit Kidul | F10: Wisata Memancing | G10: 0 | I10: Total Keseluruhan | J10: 9 | K10: 1 | L10: 10
A11: 2025 | B11: 35.74.01 | C11: Kademangan | D11: 35.74.01.1007 | E11: Pohsangit Kidul | F11: Wisata Olahraga Tirta | G11: 0 | I11: 2024 | J11: 10 | K11: 1 | L11: 11
A12: 2025 | B12: 35.74.01 | C12: Kademangan | D12: 35.74.01.1008 | E12: Kademangan | F12: Wisata Memancing | G12: 0
A13: 2025 | B13: 35.74.01 | C13: Kademangan | D13: 35.74.01.1008 | E13: Kademangan | F13: Wisata Olahraga Tirta | G13: 0
A14: 2025 | B14: 35.74.01 | C14: Kademangan | D14: 35.74.01.1009 | E14: Pilang | F14: Wisata Memancing | G14: 2
A15: 2025 | B15: 35.74.01 | C15: Kademangan | D15: 35.74.01.1009 | E15: Pilang | F15: Wisata Olahraga Tirta | G15: 0
A16: 2025 | B16: 35.74.02 | C16: Wonoasih | D16: 35.74.02.1001 | E16: Jrebeng Kidul | F16: Wisata Memancing | G16: 1
A17: 2025 | B17: 35.74.02 | C17: Wonoasih | D17: 35.74.02.1001 | E17: Jrebeng Kidul | F17: Wisata Olahraga Tirta | G17: 0
A18: 2025 | B18: 35.74.02 | C18: Wonoasih | D18: 35.74.02.1002 | E18: Pakistaji | F18: Wisata Memancing | G18: 0
A19: 2025 | B19: 35.74.02 | C19: Wonoasih | D19: 35.74.02.1002 | E19: Pakistaji | F19: Wisata Olahraga Tirta | G19: 0
A20: 2025 | B20: 35.74.02 | C20: Wonoasih | D20: 35.74.02.1003 | E20: Kedunggaleng | F20: Wisata Memancing | G20: 0
A21: 2025 | B21: 35.74.02 | C21: Wonoasih | D21: 35.74.02.1003 | E21: Kedunggaleng | F21: Wisata Olahraga Tirta | G21: 0
A22: 2025 | B22: 35.74.02 | C22: Wonoasih | D22: 35.74.02.1005 | E22: Kedung Asem | F22: Wisata Memancing | G22: 0
A23: 2025 | B23: 35.74.02 | C23: Wonoasih | D23: 35.74.02.1005 | E23: Kedung Asem | F23: Wisata Olahraga Tirta | G23: 0
... A61: 2025 | B61: 35.74.05 | C61: Kedopok | D61: 35.74.05.1006 | E61: Jrebeng Wetan | F61: Wisata Olahraga Tirta | G61: 0

Sheet 40
A1: Tahun 2025 - Daftar Usaha Wisata Memancing di Kota Probolinggo
A2: Catatan : Mohon data yang terisi dicek kembali dan direvisi bila ada yang tidak tepat
A4: tahun | B4: kode_kecamatan | C4: kecamatan | D4: kode_kelurahan | E4: kelurahan | F4: nama_usaha_wisata_memancing | G4: alamat | H4: latitude | I4: longitude
A5: 2025 | B5: 35.74.01 | C5: Kademangan | D5: 35.74.01.1009 | E5: Pilang | F5: Kolam Pancing | G5: Blok Gayam Kel. Pilang Kec. Kademangan
A6: 2025 | B6: 35.74.01 | C6: Kademangan | D6: 35.74.01.1009 | E6: Pilang | F6: Bromo Fishing | G6: Jl. Sukarno Hatta 98 Kel. Pilang Kec. Kademangan
A7: 2025 | B7: 35.74.05 | C7: Kedopok | D7: 35.74.05.1006 | E7: Jrebeng Wetan | F7: Sumber Sentong | G7: Jl.Sunan Bonang Kel. Jrebeng Wetan Kec. Kedopok
A8: 2025 | B8: 35.74.05 | C8: Kedopok | D8: 35.74.05.1003 | E8: Sumber Wetan | F8: Sumber Mutiara | G8: Jl. Nanas Kel. Sumber Wetan Kec. Kedopok
A9: 2025 | B9: 35.74.05 | C9: Kedopok | D9: 35.74.05.1005 | E9: Kedopok | F9: Sumber Ardi | G9: Jl. Prof Dr. Hamka Kel. Kedopok Kec. Kedopok
A10: 2025 | B10: 35.74.03 | C10: Mayangan | D10: 35.74.03.1002 | E10: Mangunharjo | F10: Kolam Pancing KWSKP | G10: Jl. Lingkar Utara Kel. Mangunharjo Kec. Mayangan
A11: 2025 | B11: 35.74.03 | C11: Mayangan | D11: 35.74.03.1007 | E11: Sukabumi | F11: Kampung Nila | G11: Jl. Anggrek RT.07 RW.07 Kel. Sukabumi Kec. Mayangan
A12: 2025 | B12: 35.74.03 | C12: Mayangan | D12: 35.74.03.1010 | E12: Wiroborang | F12: AMSTERDAM | G12: Jl. KH. Rizal RT.06 RW.03 Kel. Wiroborang Kec. Mayangan
A13: 2025 | B13: 35.74.02 | C13: Wonoasih | D13: 35.74.02.1001 | E13: Jrebeng Kidul | F13: Kompag | G13: Kel. Jrebeng Kidul Kec. Wonoasih
B16: kecamatan | C16: COUNTA of nama_usaha_wisata_memancing
B17: Kademangan | C17: 2
B18: Kedopok | C18: 3
B19: Mayangan | C19: 3
B20: Wonoasih | C20: 1
B21: Total Keseluruhan | C21: 9
B23: 2024 | C23: 10

Sheet 41
A1: Tahun 2025 - Daftar Usaha Wisata Olahraga Tirta di Kota Probolinggo
A2: Catatan : Mohon data yang terisi dicek kembali dan direvisi bila ada yang tidak tepat
A4: tahun | B4: kode_kecamatan | C4: kecamatan | D4: kode_kelurahan | E4: kelurahan | F4: nama_usaha_wisata_olahraga_tirta | G4: alamat | H4: latitude | I4: longitude
A5: 2025 | B5: 35.74.03 | C5: Mayangan | D5: 35.74.03.1002 | E5: Mangunharjo | F5: Wisata Kum Kum | G5: Pelabuhan Perikanan Pantai Kel. Mangunharjo Kec. Mayangan
A12: kecamatan | B12: COUNTA of nama_usaha_wisata_olahraga_tirta
A13: Mayangan | B13: 1
A14: Total Keseluruhan | B14: 1
A15: 2024 | B15: 1

Sheet 42
A1: Tahun 2025 - Jumlah Usaha Spa Menurut Kelurahan di Kota Probolinggo
A3: tahun | B3: kode_kecamatan | C3: kecamatan | D3: kode_kelurahan | E3: kelurahan | F3: jumlah_spa | H3: kecamatan | I3: SUM of jumlah_spa
A4: 2025 | B4: 35.74.01 | C4: Kademangan | D4: 35.74.01.1001 | E4: Ketapang | F4: 0 | H4: Kademangan | I4: 0
A5: 2025 | B5: 35.74.01 | C5: Kademangan | D5: 35.74.01.1002 | E5: Triwung Lor | F5: 0 | H5: Kanigaran | I5: 2
A6: 2025 | B6: 35.74.01 | C6: Kademangan | D6: 35.74.01.1003 | E6: Triwung Kidul | F6: 0 | H6: Kedopok | I6: 3
A7: 2025 | B7: 35.74.01 | C7: Kademangan | D7: 35.74.01.1007 | E7: Pohsangit Kidul | F7: 0 | H7: Mayangan | I7: 1
A8: 2025 | B8: 35.74.01 | C8: Kademangan | D8: 35.74.01.1008 | E8: Kademangan | F8: 0 | H8: Wonoasih | I8: 0
A9: 2025 | B9: 35.74.01 | C9: Kademangan | D9: 35.74.01.1009 | E9: Pilang | F9: 0 | H9: Total Keseluruhan | I9: 6
A10: 2025 | B10: 35.74.02 | C10: Wonoasih | D10: 35.74.02.1001 | E10: Jrebeng Kidul | F10: 0 | H10: 2024 | I10: 4
A11: 2025 | B11: 35.74.02 | C11: Wonoasih | D11: 35.74.02.1002 | E11: Pakistaji | F11: 0
A12: 2025 | B12: 35.74.02 | C12: Wonoasih | D12: 35.74.02.1003 | E12: Kedunggaleng | F12: 0
A13: 2025 | B13: 35.74.02 | C13: Wonoasih | D13: 35.74.02.1005 | E13: Kedung Asem | F13: 0
A14: 2025 | B14: 35.74.02 | C14: Wonoasih | D14: 35.74.02.1006 | E14: Sumber Taman | F14: 0
A15: 2025 | B15: 35.74.02 | C15: Wonoasih | D15: 35.74.02.1007 | E15: Wonoasih | F15: 0
A16: 2025 | B16: 35.74.03 | C16: Mayangan | D16: 35.74.03.1001 | E16: Mayangan | F16: 0
A17: 2025 | B17: 35.74.03 | C17: Mayangan | D17: 35.74.03.1002 | E17: Mangunharjo | F17: 0
A18: 2025 | B18: 35.74.03 | C18: Mayangan | D18: 35.74.03.1004 | E18: Jati | F18: 0
A19: 2025 | B19: 35.74.03 | C19: Mayangan | D19: 35.74.03.1007 | E19: Sukabumi | F19: 1
A20: 2025 | B20: 35.74.03 | C20: Mayangan | D20: 35.74.03.1010 | E20: Wiroborang | F20: 0
A21: 2025 | B21: 35.74.04 | C21: Kanigaran | D21: 35.74.04.1001 | E21: Tisnonegaran | F21: 0
A22: 2025 | B22: 35.74.04 | C22: Kanigaran | D22: 35.74.04.1002 | E22: Sukoharjo | F22: 0
... A32: 2025 | B32: 35.74.05 | C32: Kedopok | D32: 35.74.05.1006 | E32: Jrebeng Wetan | F32: 2

Sheet 43
A1: Tahun 2025 - Daftar Usaha Spa di Kota Probolinggo
A2: Catatan : Mohon data yang terisi dicek kembali dan direvisi bila ada yang tidak tepat
A4: tahun | B4: kode_kecamatan | C4: kecamatan | D4: kode_kelurahan | E4: kelurahan | F4: nama_usaha_spa | G4: alamat | H4: latitude | I4: longitude
A5: 2025 | B5: 35.74.03 | C5: Mayangan | D5: 35.74.03.1007 | E5: Sukabumi | F5: Vias Beauty Wellness Spa & Treatment | G5: Jl. Dr. Moch Saleh No.8 Kel. Sukabumi Kec. Mayangan
A6: 2025 | B6: 35.74.04 | C6: Kanigaran | D6: 35.74.04.1003 | E6: Kanigaran | F6: Amalia Beauty Studio | G6: Jl. Cokroaminoto No.26D Kel. Kanigaran Kec. Kanigaran
A7: 2025 | B7: 35.74.04 | C7: Kanigaran | D7: 35.74.04.1003 | E7: Kanigaran | F7: Kaisar Salon dan Spa | G7: Jl. Gubernur Suryo Selatan Blok B.01 Kel. Kanigaran Kec. Kanigaran
A8: 2025 | B8: 35.74.05 | C8: Kedopok | D8: 35.74.05.1005 | E8: Kedopok | F8: Almeera Beauty | G8: Ruko Depan Pasar Buah Mastrip Jl. Mastrip No.95 Kel. Kedopok Kec. Kedopok
A9: 2025 | B9: 35.74.05 | C9: Kedopok | D9: 35.74.05.1006 | E9: Jrebeng Wetan | F9: Asri Beauty Spa dan Salon | G9: Jl. Indragiri Kel. Jrebeng Wetan Kec. Kedopok
A10: 2025 | B10: 35.74.05 | C10: Kedopok | D10: 35.74.05.1006 | E10: Jrebeng Wetan | F10: Zahra Home Spa & Beauty | G10: Jl. Mastrip Gg. Kelapa Sawit No.60 Kel. Jrebeng Wetan Kec. Kedopok
A14: kecamatan | B14: COUNTA of nama_usaha_spa
A15: Kanigaran | B15: 2
A16: Kedopok | B16: 3
A17: Mayangan | B17: 1
A18: Total Keseluruhan | B18: 6
A19: 2024 | B19: 3

Sheet 44
A1: Tahun 2025 - Jumlah Jasa Impresariat (Promotor) Menurut Kelurahan di Kota Probolinggo
A3: tahun | B3: kode_kecamatan | C3: kecamatan | D3: kode_kelurahan | E3: kelurahan | F3: jumlah_promotor | H3: kecamatan | I3: SUM of jumlah_promotor
A4: 2025 | B4: 35.74.01 | C4: Kademangan | D4: 35.74.01.1001 | E4: Ketapang | F4: 1 | H4: Kademangan | I4: 1
A5: 2025 | B5: 35.74.01 | C5: Kademangan | D5: 35.74.01.1002 | E5: Triwung Lor | F5: 0 | H5: Kanigaran | I5: 0
A6: 2025 | B6: 35.74.01 | C6: Kademangan | D6: 35.74.01.1003 | E6: Triwung Kidul | F6: 0 | H6: Kedopok | I6: 1
A7: 2025 | B7: 35.74.01 | C7: Kademangan | D7: 35.74.01.1007 | E7: Pohsangit Kidul | F7: 0 | H7: Mayangan | I7: 1
A8: 2025 | B8: 35.74.01 | C8: Kademangan | D8: 35.74.01.1008 | E8: Kademangan | F8: 0 | H8: Wonoasih | I8: 0
A9: 2025 | B9: 35.74.01 | C9: Kademangan | D9: 35.74.01.1009 | E9: Pilang | F9: 0 | H9: Total Keseluruhan | I9: 3
A10: 2025 | B10: 35.74.02 | C10: Wonoasih | D10: 35.74.02.1001 | E10: Jrebeng Kidul | F10: 0 | H10: 2024 | I10: 3
A11: 2025 | B11: 35.74.02 | C11: Wonoasih | D11: 35.74.02.1002 | E11: Pakistaji | F11: 0
A12: 2025 | B12: 35.74.02 | C12: Wonoasih | D12: 35.74.02.1003 | E12: Kedunggaleng | F12: 0
A13: 2025 | B13: 35.74.02 | C13: Wonoasih | D13: 35.74.02.1005 | E13: Kedung Asem | F13: 0
A14: 2025 | B14: 35.74.02 | C14: Wonoasih | D14: 35.74.02.1006 | E14: Sumber Taman | F14: 0
A15: 2025 | B15: 35.74.02 | C15: Wonoasih | D15: 35.74.02.1007 | E15: Wonoasih | F15: 0
A16: 2025 | B16: 35.74.03 | C16: Mayangan | D16: 35.74.03.1001 | E16: Mayangan | F16: 0
A17: 2025 | B17: 35.74.03 | C17: Mayangan | D17: 35.74.03.1002 | E17: Mangunharjo | F17: 1
A18: 2025 | B18: 35.74.03 | C18: Mayangan | D18: 35.74.03.1004 | E18: Jati | F18: 0
A19: 2025 | B19: 35.74.03 | C19: Mayangan | D19: 35.74.03.1007 | E19: Sukabumi | F19: 0
A20: 2025 | B20: 35.74.03 | C20: Mayangan | D20: 35.74.03.1010 | E20: Wiroborang | F20: 0
A21: 2025 | B21: 35.74.04 | C21: Kanigaran | D21: 35.74.04.1001 | E21: Tisnonegaran | F21: 0
A22: 2025 | B22: 35.74.04 | C22: Kanigaran | D22: 35.74.04.1002 | E22: Sukoharjo | F22: 0
... A32: 2025 | B32: 35.74.05 | C32: Kedopok | D32: 35.74.05.1006 | E32: Jrebeng Wetan | F32: 0

Sheet 45
A1: Tahun 2025 - Daftar Usaha Jasa Impresariat (Promotor) di Kota Probolinggo
A2: Catatan : Mohon data yang terisi dicek kembali dan direvisi bila ada yang tidak tepat
A4: tahun | B4: kode_kecamatan | C4: kecamatan | D4: kode_kelurahan | E4: kelurahan | F4: nama_usaha_jasa_promotor | G4: alamat | H4: latitude | I4: longitude
A5: 2025 | B5: 35.74.05 | C5: Kedopok | D5: 35.74.05.1002 | E5: Kareng Lor | F5: OM. New RGS | G5: Jl. Progo No.103 RT.01 RW.04 , Kel. Kareng Lor Kec. Kedopok
A6: 2025 | B6: 35.74.03 | C6: Mayangan | D6: 35.74.03.1002 | E6: Mangunharjo | F6: CV. Ria Prima | G6: Jl. KH. Saman Hudi No.01 RT.01 RW.03, Kel. Mangunharjo Kec. Mayangan
A7: 2025 | B7: 35.74.01 | C7: Kademangan | D7: 35.74.01.1001 | E7: Ketapang | F7: CV. Kusuma Digital Printing | G7: Jl. Kinibalu I/41 RT.01 RW.03 Kel. Ketapang Kec. Kademangan
A10: kecamatan | B10: COUNTA of nama_usaha_jasa_promotor
A11: Kademangan | B11: 1
A12: Kedopok | B12: 1
A13: Mayangan | B13: 1
A14: Total Keseluruhan | B14: 3
A15: 2024 | B15: 2

Sheet 46
A1: Tahun 2025 - Daftar Gelanggang Renang di Kota Probolinggo
A2: Catatan : Mohon data yang terisi dicek kembali dan direvisi bila ada yang tidak tepat
A4: tahun | B4: kode_kecamatan | C4: kecamatan | D4: kode_kelurahan | E4: kelurahan | F4: nama_gelanggang_renang | G4: alamat | H4: latitude | I4: longitude
A5: 2025 | B5: 35.74.03 | C5: Mayangan | D5: 35.74.03.1002 | E5: Mangunharjo | F5: Kolam Renang BAYUANGGA | G5: Jl. Hayam Wuruk Kel. Mangunharjo Kec. Mayangan Kota Probolinggo
A6: 2025 | B6: 35.74.05 | C6: Kedopok | D6: 35.74.05.1005 | E6: Kedopok | F6: Kolam Renang OLIMPIC | G6: Jl. Mastrip Kel. Kedopok Kec. Kedopok Kota Probolinggo
A7: 2025 | B7: 35.74.02 | C7: Wonoasih | D7: 35.74.02.1002 | E7: Pakistaji | F7: Putra Papua Water Park | G7: Jl. Ir. Sutami Kel. Pakistaji Kec. Wonoasih
B11: kecamatan | C11: COUNTA of nama_gelanggang_renang
B12: Kedopok | C12: 1
B13: Mayangan | C13: 1
B14: Wonoasih | C14: 1
B15: Total Keseluruhan | C15: 3
B16: 2024 | C16: 3

Sheet 47
A1: Tahun 2025 - Jumlah Usaha Taman Rekreasi Menurut Kelurahan di Kota Probolinggo
A3: tahun | B3: kode_kecamatan | C3: kecamatan | D3: kode_kelurahan | E3: kelurahan | F3: jenis_taman | G3: jumlah | I3: SUM of jumlah | J3: jenis_taman
A4: 2025 | B4: 35.74.01 | C4: Kademangan | D4: 35.74.01.1001 | E4: Ketapang | F4: Taman Rekreasi | G4: 0 | I4: kecamatan | J4: Taman Bertema | K4: Taman Rekreasi | L4: Total Keseluruhan
A5: 2025 | B5: 35.74.01 | C5: Kademangan | D5: 35.74.01.1001 | E5: Ketapang | F5: Taman Bertema | G5: 0 | I5: Kademangan | J5: 0 | K5: 1 | L5: 1
A6: 2025 | B6: 35.74.01 | C6: Kademangan | D6: 35.74.01.1002 | E6: Triwung Lor | F6: Taman Rekreasi | G6: 0 | I6: Kanigaran | J6: 0 | K6: 1 | L6: 1
A7: 2025 | B7: 35.74.01 | C7: Kademangan | D7: 35.74.01.1002 | E7: Triwung Lor | F7: Taman Bertema | G7: 0 | I7: Kedopok | J7: 0 | K7: 2 | L7: 2
A8: 2025 | B8: 35.74.01 | C8: Kademangan | D8: 35.74.01.1003 | E8: Triwung Kidul | F8: Taman Rekreasi | G8: 1 | I8: Mayangan | J8: 1 | K8: 1 | L8: 2
A9: 2025 | B9: 35.74.01 | C9: Kademangan | D9: 35.74.01.1003 | E9: Triwung Kidul | F9: Taman Bertema | G9: 0 | I9: Wonoasih | J9: 0 | K9: 0 | L9: 0
A10: 2025 | B10: 35.74.01 | C10: Kademangan | D10: 35.74.01.1007 | E10: Pohsangit Kidul | F10: Taman Rekreasi | G10: 0 | I10: Total Keseluruhan | J10: 1 | K10: 5 | L10: 6
A11: 2025 | B11: 35.74.01 | C11: Kademangan | D11: 35.74.01.1007 | E11: Pohsangit Kidul | F11: Taman Bertema | G11: 0 | I11: 2024 | J11: 1 | K11: 5 | L11: 6
A12: 2025 | B12: 35.74.01 | C12: Kademangan | D12: 35.74.01.1008 | E12: Kademangan | F12: Taman Rekreasi | G12: 0
A13: 2025 | B13: 35.74.01 | C13: Kademangan | D13: 35.74.01.1008 | E13: Kademangan | F13: Taman Bertema | G13: 0
A14: 2025 | B14: 35.74.01 | C14: Kademangan | D14: 35.74.01.1009 | E14: Pilang | F14: Taman Rekreasi | G14: 0
A15: 2025 | B15: 35.74.01 | C15: Kademangan | D15: 35.74.01.1009 | E15: Pilang | F15: Taman Bertema | G15: 0
A16: 2025 | B16: 35.74.02 | C16: Wonoasih | D16: 35.74.02.1001 | E16: Jrebeng Kidul | F16: Taman Rekreasi | G16: 0
A17: 2025 | B17: 35.74.02 | C17: Wonoasih | D17: 35.74.02.1001 | E17: Jrebeng Kidul | F17: Taman Bertema | G17: 0
A18: 2025 | B18: 35.74.02 | C18: Wonoasih | D18: 35.74.02.1002 | E18: Pakistaji | F18: Taman Rekreasi | G18: 0
A19: 2025 | B19: 35.74.02 | C19: Wonoasih | D19: 35.74.02.1002 | E19: Pakistaji | F19: Taman Bertema | G19: 0
A20: 2025 | B20: 35.74.02 | C20: Wonoasih | D20: 35.74.02.1003 | E20: Kedunggaleng | F20: Taman Rekreasi | G20: 0
A21: 2025 | B21: 35.74.02 | C21: Wonoasih | D21: 35.74.02.1003 | E21: Kedunggaleng | F21: Taman Bertema | G21: 0
A22: 2025 | B22: 35.74.02 | C22: Wonoasih | D22: 35.74.02.1005 | E22: Kedung Asem | F22: Taman Rekreasi | G22: 0
A23: 2025 | B23: 35.74.02 | C23: Wonoasih | D23: 35.74.02.1005 | E23: Kedung Asem | F23: Taman Bertema | G23: 0
... A61: 2025 | B61: 35.74.05 | C61: Kedopok | D61: 35.74.05.1006 | E61: Jrebeng Wetan | F61: Taman Bertema | G61: 0

Sheet 48
A1: Tahun 2025 - Jumlah Usaha Kegiatan Hiburan dan Rekreasi Menurut Jenis Usaha dan Kelurahan di Kota Probolinggo
A4: tahun | B4: kode_kecamatan | C4: kecamatan | D4: kode_kelurahan | E4: kelurahan | F4: jenis_usaha | G4: jumlah | I4: SUM of jumlah | J4: jenis_usaha
A5: 2025 | B5: 35.74.01 | C5: Kademangan | D5: 35.74.01.1001 | E5: Ketapang | F5: Gelanggang Rekreasi Olahraga | G5: 2 | I5: kecamatan | J5: Arena Permainan | K5: Gelanggang Rekreasi Olahraga | L5: Gelanggang Seni | M5: Hiburan Malam | N5: Jasa Impresariat/Promotor | O5: Karaoke | P5: Rumah Pijat | Q5: Taman Rekreasi | R5: Wisata Ekstrim | S5: Total Keseluruhan
A6: 2025 | B6: 35.74.01 | C6: Kademangan | D6: 35.74.01.1001 | E6: Ketapang | F6: Gelanggang Seni | G6: 0 | I6: Kademangan | J6: 0 | K6: 3 | L6: 0 | M6: 0 | N6: 1 | O6: 0 | P6: 2 | Q6: 1 | R6: 0 | S6: 7
A7: 2025 | B7: 35.74.01 | C7: Kademangan | D7: 35.74.01.1001 | E7: Ketapang | F7: Wisata Ekstrim | G7: 0 | I7: Kanigaran | J7: 3 | K7: 9 | L7: 0 | M7: 0 | N7: 0 | O7: 0 | P7: 0 | Q7: 1 | R7: 0 | S7: 13
A8: 2025 | B8: 35.74.01 | C8: Kademangan | D8: 35.74.01.1001 | E8: Ketapang | F8: Arena Permainan | G8: 0 | I8: Kedopok | J8: 0 | K8: 4 | L8: 0 | M8: 0 | N8: 1 | O8: 0 | P8: 0 | Q8: 2 | R8: 0 | S8: 7
A9: 2025 | B9: 35.74.01 | C9: Kademangan | D9: 35.74.01.1001 | E9: Ketapang | F9: Hiburan Malam | G9: 0 | I9: Mayangan | J9: 1 | K9: 10 | L9: 0 | M9: 0 | N9: 1 | O9: 0 | P9: 3 | Q9: 2 | R9: 0 | S9: 17
A10: 2025 | B10: 35.74.01 | C10: Kademangan | D10: 35.74.01.1001 | E10: Ketapang | F10: Rumah Pijat | G10: 0 | I10: Wonoasih | J10: 0 | K10: 3 | L10: 0 | M10: 0 | N10: 0 | O10: 0 | P10: 1 | Q10: 0 | R10: 0 | S10: 4
A11: 2025 | B11: 35.74.01 | C11: Kademangan | D11: 35.74.01.1001 | E11: Ketapang | F11: Taman Rekreasi | G11: 0 | I11: Total Keseluruhan | J11: 4 | K11: 29 | L11: 0 | M11: 0 | N11: 3 | O11: 0 | P11: 6 | Q11: 6 | R11: 0 | S11: 48
A12: 2025 | B12: 35.74.01 | C12: Kademangan | D12: 35.74.01.1001 | E12: Ketapang | F12: Karaoke | G12: 0 | I12: 2024 | J12: 4 | K12: 11 | L12: 0 | M12: 0 | N12: 3 | O12: 0 | P12: 6 | Q12: 6 | R12: 0 | S12: 30
A13: 2025 | B13: 35.74.01 | C13: Kademangan | D13: 35.74.01.1001 | E13: Ketapang | F13: Jasa Impresariat/Promotor | G13: 1 | I13: sheet 44 | N13: ='44'!I9 -> 3
A14: 2025 | B14: 35.74.01 | C14: Kademangan | D14: 35.74.01.1002 | E14: Triwung Lor | F14: Gelanggang Rekreasi Olahraga | G14: 0 | I14: sheet 51 | J14: ='51'!I9 -> 4
A15: 2025 | B15: 35.74.01 | C15: Kademangan | D15: 35.74.01.1002 | E15: Triwung Lor | F15: Gelanggang Seni | G15: 0 | I15: sheet 53 | P15: ='53'!I9 -> 6
A16: 2025 | B16: 35.74.01 | C16: Kademangan | D16: 35.74.01.1002 | E16: Triwung Lor | F16: Wisata Ekstrim | G16: 0
A17: 2025 | B17: 35.74.01 | C17: Kademangan | D17: 35.74.01.1002 | E17: Triwung Lor | F17: Arena Permainan | G17: 0
A18: 2025 | B18: 35.74.01 | C18: Kademangan | D18: 35.74.01.1002 | E18: Triwung Lor | F18: Hiburan Malam | G18: 0
A19: 2025 | B19: 35.74.01 | C19: Kademangan | D19: 35.74.01.1002 | E19: Triwung Lor | F19: Rumah Pijat | G19: 2
A20: 2025 | B20: 35.74.01 | C20: Kademangan | D20: 35.74.01.1002 | E20: Triwung Lor | F20: Taman Rekreasi | G20: 0
A21: 2025 | B21: 35.74.01 | C21: Kademangan | D21: 35.74.01.1002 | E21: Triwung Lor | F21: Karaoke | G21: 0
A22: 2025 | B22: 35.74.01 | C22: Kademangan | D22: 35.74.01.1002 | E22: Triwung Lor | F22: Jasa Impresariat/Promotor | G22: 0
A23: 2025 | B23: 35.74.01 | C23: Kademangan | D23: 35.74.01.1003 | E23: Triwung Kidul | F23: Gelanggang Rekreasi Olahraga | G23: 0
A24: 2025 | B24: 35.74.01 | C24: Kademangan | D24: 35.74.01.1003 | E24: Triwung Kidul | F24: Gelanggang Seni | G24: 0
A25: 2025 | B25: 35.74.01 | C25: Kademangan | D25: 35.74.01.1003 | E25: Triwung Kidul | F25: Wisata Ekstrim | G25: 0
A26: 2025 | B26: 35.74.01 | C26: Kademangan | D26: 35.74.01.1003 | E26: Triwung Kidul | F26: Arena Permainan | G26: 0
A27: 2025 | B27: 35.74.01 | C27: Kademangan | D27: 35.74.01.1003 | E27: Triwung Kidul | F27: Hiburan Malam | G27: 0
... A265: 2025 | B265: 35.74.05 | C265: Kedopok | D265: 35.74.05.1006 | E265: Jrebeng Wetan | F265: Jasa Impresariat/Promotor | G265: 0

Sheet 49
A1: Tahun 2025 - Daftar Taman Bertema di Kota Probolinggo
A2: Catatan : Mohon data yang terisi dicek kembali dan direvisi bila ada yang tidak tepat
A4: tahun | B4: kode_kecamatan | C4: kecamatan | D4: kode_kelurahan | E4: kelurahan | F4: nama_taman | G4: alamat | H4: latitude | I4: longitude
A5: 2025 | B5: 35.74.03 | C5: Mayangan | D5: 35.74.03.1002 | E5: Mangunharjo | F5: Taman Wisata Studi Lingkungan (TWSL) | G5: Jl. Basuki Rahmad No.62, Kel. Mangunharjo Kec. Mayangan
B13: kecamatan | C13: COUNTA of nama_taman
B14: Mayangan | C14: 1
B15: Total Keseluruhan | C15: 1
B16: 2024 | C16: 1

Sheet 50
A1: Tahun 2025 - Daftar Taman Rekreasi di Kota Probolinggo
A2: Catatan : Mohon data yang terisi dicek kembali dan direvisi bila ada yang tidak tepat
A4: tahun | B4: kode_kecamatan | C4: kecamatan | D4: kode_kelurahan | E4: kelurahan | F4: nama_taman_rekreasi | G4: alamat | H4: latitude | I4: longitude
A5: 2025 | B5: 35.74.01 | C5: Kademangan | D5: 35.74.01.1003 | E5: Triwung Kidul | F5: Taman Semeru | G5: Jl. Semeru, Triwung Kidul, Kec. Kademangan
A6: 2025 | B6: 35.74.04 | C6: Kanigaran | D6: 35.74.04.1003 | E6: Kanigaran | F6: Taman Maramis | G6: Jl. A. A. Maramis No. 11, Kel. Kanigaran Kec. Kanigaran
A7: 2025 | B7: 35.74.05 | C7: Kedopok | D7: 35.74.05.1004 | E7: Jrebeng Lor | F7: Bumi Pesona Randu | G7: Jl. Sunan Ampel RT.03 RW.04, Kel. Jrebeng Lor Kec. Kedopok
A8: 2025 | B8: 35.74.05 | C8: Kedopok | D8: 35.74.05.1005 | E8: Kedopok | F8: RTHKP Kedopok | G8: Jl. Mastrip, Kel. Kedopok Kec. Kedopok
A9: 2025 | B9: 35.74.03 | C9: Mayangan | D9: 35.74.03.1007 | E9: Sukabumi | F9: Alun-alun Kota Probolinggo | G9: Jl. Ahmad Yani No.51, Kel. Sukabumi Kec. Mayangan
B13: kecamatan | C13: COUNTA of nama_taman_rekreasi
B14: Kademangan | C14: 1
B15: Kanigaran | C15: 1
B16: Kedopok | C16: 2
B17: Mayangan | C17: 1
B18: Total Keseluruhan | C18: 5
B19: 2024 | C19: 5

Sheet 51
A1: Tahun 2025 - Jumlah Arena Permainan Menurut Kelurahan di Kota Probolinggo
A3: tahun | B3: kode_kecamatan | C3: kecamatan | D3: kode_kelurahan | E3: kelurahan | F3: jumlah_arena_permainan | H3: kecamatan | I3: SUM of jumlah_arena_permainan
A4: 2025 | B4: 35.74.01 | C4: Kademangan | D4: 35.74.01.1001 | E4: Ketapang | F4: 0 | H4: Kademangan | I4: 0
A5: 2025 | B5: 35.74.01 | C5: Kademangan | D5: 35.74.01.1002 | E5: Triwung Lor | F5: 0 | H5: Kanigaran | I5: 3
A6: 2025 | B6: 35.74.01 | C6: Kademangan | D6: 35.74.01.1003 | E6: Triwung Kidul | F6: 0 | H6: Kedopok | I6: 0
A7: 2025 | B7: 35.74.01 | C7: Kademangan | D7: 35.74.01.1007 | E7: Pohsangit Kidul | F7: 0 | H7: Mayangan | I7: 1
A8: 2025 | B8: 35.74.01 | C8: Kademangan | D8: 35.74.01.1008 | E8: Kademangan | F8: 0 | H8: Wonoasih | I8: 0
A9: 2025 | B9: 35.74.01 | C9: Kademangan | D9: 35.74.01.1009 | E9: Pilang | F9: 0 | H9: Total Keseluruhan | I9: 4
A10: 2025 | B10: 35.74.02 | C10: Wonoasih | D10: 35.74.02.1001 | E10: Jrebeng Kidul | F10: 0 | H10: 2024 | I10: 4
A11: 2025 | B11: 35.74.02 | C11: Wonoasih | D11: 35.74.02.1002 | E11: Pakistaji | F11: 0
A12: 2025 | B12: 35.74.02 | C12: Wonoasih | D12: 35.74.02.1003 | E12: Kedunggaleng | F12: 0
A13: 2025 | B13: 35.74.02 | C13: Wonoasih | D13: 35.74.02.1005 | E13: Kedung Asem | F13: 0
A14: 2025 | B14: 35.74.02 | C14: Wonoasih | D14: 35.74.02.1006 | E14: Sumber Taman | F14: 0
A15: 2025 | B15: 35.74.02 | C15: Wonoasih | D15: 35.74.02.1007 | E15: Wonoasih | F15: 0
A16: 2025 | B16: 35.74.03 | C16: Mayangan | D16: 35.74.03.1001 | E16: Mayangan | F16: 0
A17: 2025 | B17: 35.74.03 | C17: Mayangan | D17: 35.74.03.1002 | E17: Mangunharjo | F17: 0
A18: 2025 | B18: 35.74.03 | C18: Mayangan | D18: 35.74.03.1004 | E18: Jati | F18: 0
A19: 2025 | B19: 35.74.03 | C19: Mayangan | D19: 35.74.03.1007 | E19: Sukabumi | F19: 1
A20: 2025 | B20: 35.74.03 | C20: Mayangan | D20: 35.74.03.1010 | E20: Wiroborang | F20: 0
A21: 2025 | B21: 35.74.04 | C21: Kanigaran | D21: 35.74.04.1001 | E21: Tisnonegaran | F21: 3
A22: 2025 | B22: 35.74.04 | C22: Kanigaran | D22: 35.74.04.1002 | E22: Sukoharjo | F22: 0
... A32: 2025 | B32: 35.74.05 | C32: Kedopok | D32: 35.74.05.1006 | E32: Jrebeng Wetan | F32: 0

Sheet 52
A1: Tahun 2025 - Daftar Arena Permainan di Kota Probolinggo
A2: Catatan : Mohon data yang terisi dicek kembali dan direvisi bila ada yang tidak tepat
A4: tahun | B4: kode_kecamatan | C4: kecamatan | D4: kode_kelurahan | E4: kelurahan | F4: nama_area_permainan | G4: alamat | H4: latitude | I4: longitude
A5: 2025 | B5: 35.74.04 | C5: Kanigaran | D5: 35.74.04.1001 | E5: Tisnonegaran | F5: Dream Zone (KDS) | G5: Jl. Dr. Sutomo No.60, Kel. Tisnonegaran Kec. Kanigaran
A6: 2025 | B6: 35.74.04 | C6: Kanigaran | D6: 35.74.04.1001 | E6: Tisnonegaran | F6: Time Zone (GM) | G6: Jl. Dr. Sutomo No.42, Kel. Tisnonegaran Kec. Kanigaran
A7: 2025 | B7: 35.74.03 | C7: Mayangan | D7: 35.74.03.1007 | E7: Sukabumi | F7: Super World (Keraton Probolinggo) | G7: Jl. Soekarno Hatta RT.02 RW.01 Kel. Sukabumi Kec. Mayangan
A8: 2025 | B8: 35.74.04 | C8: Kanigaran | D8: 35.74.04.1001 | E8: Tisnonegaran | F8: Happy Playground | G8: Jl. Gubernur Suryo Gg. Sawung Galing Kel. Tisnonegaran Kec. Kanigaran
B12: kecamatan | C12: COUNTA of nama_area_permainan
B13: Kanigaran | C13: 3
B14: Mayangan | C14: 1
B15: Total Keseluruhan | C15: 4
B16: 2024 | C16: 4

Sheet 53
A1: Tahun 2025 - Jumlah Panti / Rumah Pijat Menurut Kelurahan di Kota Probolinggo
A3: tahun | B3: kode_kecamatan | C3: kecamatan | D3: kode_kelurahan | E3: kelurahan | F3: jumlah_panti_pijat | H3: kecamatan | I3: SUM of jumlah_panti_pijat
A4: 2025 | B4: 35.74.01 | C4: Kademangan | D4: 35.74.01.1001 | E4: Ketapang | F4: 0 | H4: Kademangan | I4: 2
A5: 2025 | B5: 35.74.01 | C5: Kademangan | D5: 35.74.01.1002 | E5: Triwung Lor | F5: 2 | H5: Kanigaran | I5: 0
A6: 2025 | B6: 35.74.01 | C6: Kademangan | D6: 35.74.01.1003 | E6: Triwung Kidul | F6: 0 | H6: Kedopok | I6: 0
A7: 2025 | B7: 35.74.01 | C7: Kademangan | D7: 35.74.01.1007 | E7: Pohsangit Kidul | F7: 0 | H7: Mayangan | I7: 3
A8: 2025 | B8: 35.74.01 | C8: Kademangan | D8: 35.74.01.1008 | E8: Kademangan | F8: 0 | H8: Wonoasih | I8: 1
A9: 2025 | B9: 35.74.01 | C9: Kademangan | D9: 35.74.01.1009 | E9: Pilang | F9: 0 | H9: Total Keseluruhan | I9: 6
A10: 2025 | B10: 35.74.02 | C10: Wonoasih | D10: 35.74.02.1001 | E10: Jrebeng Kidul | F10: 0 | H10: 2024 | I10: 6
A11: 2025 | B11: 35.74.02 | C11: Wonoasih | D11: 35.74.02.1002 | E11: Pakistaji | F11: 0
A12: 2025 | B12: 35.74.02 | C12: Wonoasih | D12: 35.74.02.1003 | E12: Kedunggaleng | F12: 0
A13: 2025 | B13: 35.74.02 | C13: Wonoasih | D13: 35.74.02.1005 | E13: Kedung Asem | F13: 0
A14: 2025 | B14: 35.74.02 | C14: Wonoasih | D14: 35.74.02.1006 | E14: Sumber Taman | F14: 1
A15: 2025 | B15: 35.74.02 | C15: Wonoasih | D15: 35.74.02.1007 | E15: Wonoasih | F15: 0
A16: 2025 | B16: 35.74.03 | C16: Mayangan | D16: 35.74.03.1001 | E16: Mayangan | F16: 0
A17: 2025 | B17: 35.74.03 | C17: Mayangan | D17: 35.74.03.1002 | E17: Mangunharjo | F17: 0
A18: 2025 | B18: 35.74.03 | C18: Mayangan | D18: 35.74.03.1004 | E18: Jati | F18: 0
A19: 2025 | B19: 35.74.03 | C19: Mayangan | D19: 35.74.03.1007 | E19: Sukabumi | F19: 3
A20: 2025 | B20: 35.74.03 | C20: Mayangan | D20: 35.74.03.1010 | E20: Wiroborang | F20: 0
A21: 2025 | B21: 35.74.04 | C21: Kanigaran | D21: 35.74.04.1001 | E21: Tisnonegaran | F21: 0
A22: 2025 | B22: 35.74.04 | C22: Kanigaran | D22: 35.74.04.1002 | E22: Sukoharjo | F22: 0
... A32: 2025 | B32: 35.74.05 | C32: Kedopok | D32: 35.74.05.1006 | E32: Jrebeng Wetan | F32: 0

Sheet 54
A1: Tahun 2025 - Daftar Panti/Rumah Pijat di Kota Probolinggo
A2: Catatan : Mohon data yang terisi dicek kembali dan direvisi bila ada yang tidak tepat
A4: tahun | B4: kode_kecamatan | C4: kecamatan | D4: kode_kelurahan | E4: kelurahan | F4: nama_panti_rumah_pijat | G4: alamat | H4: latitude | I4: longitude
A5: 2025 | B5: 35.74.01 | C5: Kademangan | D5: 35.74.01.1002 | E5: Triwung Lor | F5: Griya Sehat Probolinggo | G5: Jl. Semeru No.28 Kel. Triwung Lor Kec. Kademangan
A6: 2025 | B6: 35.74.01 | C6: Kademangan | D6: 35.74.01.1002 | E6: Triwung Lor | F6: Kayu Putih Family Reflexology | G6: Jl. Raya Bromo Km.05 Kel. Triwung Lor Kec. Kademangan
A7: 2025 | B7: 35.74.03 | C7: Mayangan | D7: 35.74.03.1007 | E7: Sukabumi | F7: Pijat Refleksi Taman Manula | G7: Jl. Soekarno Hatta No.137 Kel. Curahgrinting Kec. Kanigaran
A8: 2025 | B8: 35.74.03 | C8: Mayangan | D8: 35.74.03.1007 | E8: Sukabumi | F8: Pijat Refleksi DK77 | G8: Jl. Ahmad Yani No.29 Kel. Sukabumi Kec. Mayangan
A9: 2025 | B9: 35.74.03 | C9: Mayangan | D9: 35.74.03.1007 | E9: Sukabumi | F9: Moshi Moshi Reflexology | G9: Jl. Kartini No.67 Kel. Sukabumi Kec. Mayangan
A10: 2025 | B10: 35.74.02 | C10: Wonoasih | D10: 35.74.02.1006 | E10: Sumber Taman | F10: Pijat Urat dan Urut "As-Syifa" | G10: Jl. Taman Cendana XIV, Kel. Sumber Taman Kec. Wonoasih
B15: kecamatan | C15: COUNTA of nama_panti_rumah_pijat
B16: Kademangan | C16: 2
B17: Mayangan | C17: 3
B18: Wonoasih | C18: 1
B19: Total Keseluruhan | C19: 6
B21: 2024 | C21: 6

Sheet 55
A1: Tahun 2025 - Jumlah Kelompok Sadar Wisata (Pokdarwis) Menurut Kelurahan di Kota Probolinggo
A3: tahun | B3: kode_kecamatan | C3: kecamatan | D3: kode_kelurahan | E3: kelurahan | F3: jumlah_pokdarwis | H3: kecamatan | I3: SUM of jumlah_pokdarwis
A4: 2025 | B4: 35.74.01 | C4: Kademangan | D4: 35.74.01.1001 | E4: Ketapang | F4: 1 | H4: Kademangan | I4: 4
A5: 2025 | B5: 35.74.01 | C5: Kademangan | D5: 35.74.01.1002 | E5: Triwung Lor | F5: 1 | H5: Kanigaran | I5: 5
A6: 2025 | B6: 35.74.01 | C6: Kademangan | D6: 35.74.01.1003 | E6: Triwung Kidul | F6: 0 | H6: Kedopok | I6: 5
A7: 2025 | B7: 35.74.01 | C7: Kademangan | D7: 35.74.01.1007 | E7: Pohsangit Kidul | F7: 1 | H7: Mayangan | I7: 5
A8: 2025 | B8: 35.74.01 | C8: Kademangan | D8: 35.74.01.1008 | E8: Kademangan | F8: 0 | H8: Wonoasih | I8: 8
A9: 2025 | B9: 35.74.01 | C9: Kademangan | D9: 35.74.01.1009 | E9: Pilang | F9: 1 | H9: Total Keseluruhan | I9: 27
A10: 2025 | B10: 35.74.02 | C10: Wonoasih | D10: 35.74.02.1001 | E10: Jrebeng Kidul | F10: 1 | H10: 2024 | I10: 16
A11: 2025 | B11: 35.74.02 | C11: Wonoasih | D11: 35.74.02.1002 | E11: Pakistaji | F11: 1
A12: 2025 | B12: 35.74.02 | C12: Wonoasih | D12: 35.74.02.1003 | E12: Kedunggaleng | F12: 1
A13: 2025 | B13: 35.74.02 | C13: Wonoasih | D13: 35.74.02.1005 | E13: Kedung Asem | F13: 2
A14: 2025 | B14: 35.74.02 | C14: Wonoasih | D14: 35.74.02.1006 | E14: Sumber Taman | F14: 2
A15: 2025 | B15: 35.74.02 | C15: Wonoasih | D15: 35.74.02.1007 | E15: Wonoasih | F15: 1
A16: 2025 | B16: 35.74.03 | C16: Mayangan | D16: 35.74.03.1001 | E16: Mayangan | F16: 1
A17: 2025 | B17: 35.74.03 | C17: Mayangan | D17: 35.74.03.1002 | E17: Mangunharjo | F17: 1
A18: 2025 | B18: 35.74.03 | C18: Mayangan | D18: 35.74.03.1004 | E18: Jati | F18: 1
A19: 2025 | B19: 35.74.03 | C19: Mayangan | D19: 35.74.03.1007 | E19: Sukabumi | F19: 1
A20: 2025 | B20: 35.74.03 | C20: Mayangan | D20: 35.74.03.1010 | E20: Wiroborang | F20: 1
A21: 2025 | B21: 35.74.04 | C21: Kanigaran | D21: 35.74.04.1001 | E21: Tisnonegaran | F21: 1
A22: 2025 | B22: 35.74.04 | C22: Kanigaran | D22: 35.74.04.1002 | E22: Sukoharjo | F22: 1
... A32: 2025 | B32: 35.74.05 | C32: Kedopok | D32: 35.74.05.1006 | E32: Jrebeng Wetan | F32: 1

Sheet 56
A1: Tahun 2025 - Daftar Kelompok Sadar Wisata (Pokdarwis) di Kota Probolinggo
A2: Catatan : Mohon data yang terisi dicek kembali dan direvisi bila ada yang tidak tepat
A4: tahun | B4: kode_kecamatan | C4: kecamatan | D4: kode_kelurahan | E4: kelurahan | F4: nama_pokdarwis | G4: alamat | H4: latitude | I4: longitude | J4: dasar_pembentukan | K4: tahun_pembentukan | L4: ketua_pokdarwis | M4: jenis_daya_tarik_wisata_yang_dikelola
A5: 2025 | B5: 35.74.01 | C5: Kademangan | D5: 35.74.01.1001 | E5: Ketapang | F5: Pantai Takad | G5: Jl. Soekarno Hatta Gg. Nelayan RT.07 RW. 01 Kel. Ketapang Kec. Kademangan | J5: SK. Kepala Dinas Kepemudaan, Olahraga dan Pariwisata No. 556/033/425.112/2022 Tgl. 04-10-2022 | K5: 2022 | L5: Muhammad Ali | M5: Alam (Pantai)
A6: 2025 | B6: 35.74.01 | C6: Kademangan | D6: 35.74.01.1009 | E6: Pilang | F6: Pantai Permata | G6: Jl. Soekarno Hatta Gg. Sumber Penang Kel. Pilang Kec. Kademangan | J6: SK Kepala Dinas Kepemudaan, Olahraga dan Pariwisata No. 556/014/425.112/2025 Tgl. 19-05-2025 | K6: 2025 | L6: Solihin | M6: Alam (Pantai)
A7: 2025 | B7: 35.74.03 | C7: Mayangan | D7: 35.74.03.1007 | E7: Sukabumi | F7: Sukabumi | G7: Jl. Cempaka 10 B Kel Sukabumi Kec. Mayangan | J7: SK. Kepala Dinas Kepemudaan, Olahraga dan Pariwisata No. 556/014/KEP/425.112/2024 Tgl. 12-02-2024 | K7: 2024 | L7: Edi Martono | M7: Budaya (Pojok LIterasi Artefak, Batik Baremi, Kolam Pancing)
A8: 2025 | B8: 35.74.03 | C8: Mayangan | D8: 35.74.03.1001 | E8: Mayangan | F8: MPCB | G8: Jl. Ikan Lumba-lumba RT 05 RW 02 Kel. Mayangan Kec. Mayangan | J8: SK. Kepala Dinas Kepemudaan, Olahraga dan Pariwisata No. 556/035/425.112/2025 Tgl. 01-10-2025 | K8: 2025 | L8: Adi Riyanto | M8: Cagar Budaya (Benteng)
A9: 2025 | B9: 35.74.03 | C9: Mayangan | D9: 35.74.03.1004 | E9: Jati | F9: Kampung UMKM Sejati | G9: Jl. Hayam Wuruk No.18 RT.4 RW.7 Kel. Jati Kec. Mayangan | J9: SK. Kepala Dinas Kepemudaan, Olahraga dan Pariwisata No. 556/045/425.112/2025 Tgl. 10-10-2018 | K9: 2025 | L9: Siswanto | M9: Buatan (Spot UMKM)
A10: 2025 | B10: 35.74.03 | C10: Mayangan | D10: 35.74.03.1002 | E10: Mangunharjo | F10: Teja Arum | G10: Jl. Yos Sudarso Kel. Mangunharjo Kec. Mayangan | J10: SK. Kepala Dinas Kepemudaan, Olahraga dan Pariwisata No. 556/034/425.112/2025 Tgl. 01-10-2025 | K10: 2025 | L10: Rudi Purwanto | M10: Budaya (Religi, Edukasi)
A11: 2025 | B11: 35.74.04 | C11: Kanigaran | D11: 35.74.04.1001 | E11: Tisnonegaran | F11: Lerem Tisno | G11: Jl. Ir. H. Juanda No. 27 Kel. Tisnonegaran Kec. Kanigaran | J11: SK. Kepala Dinas Kepemudaan, Olahraga dan Pariwisata No. 556/036/KEP/425.112/2022 Tgl. 04-10-2022 | K11: 2022 | L11: Yuyun Widowati | M11: Budaya (Kesenian)
A12: 2025 | B12: 35.74.02 | C12: Wonoasih | D12: 35.74.02.1002 | E12: Pakistaji | F12: Pakistaji Berkelas | G12: Jl. Ir. Sutami Perum Griya Pakistaji Asri RT 2 RW 7 Kel. Pakistaji Kec. Wonoasih | J12: SK. Kepala Dinas Kepemudaan, Olahraga dan Pariwisata No. 556/022/425.112/2025 Tgl. 10-09-2025 | K12: 2025 | L12: Yoyok Arif Wahyudi | M12: Buatan (Kampung Edukasi)
A13: 2025 | B13: 35.74.05 | C13: Kedopok | D13: 35.74.05.1004 | E13: Jrebeng Lor | F13: Bumi Pesona Randu | G13: Jl. Sunan Ampel Kel. Jrebeng Lor Kec. Kedopok | J13: SK. Kepala Dinas Kepemudaan, Olahraga dan Pariwisata No. 556/013/425.112/2020 Tgl. 06-01-2020 | K13: 2020 | L13: Ide Farid Nasution | M13: Buatan (Taman, UMKM, Petik Anggur)
A14: 2025 | B14: 35.74.05 | C14: Kedopok | D14: 35.74.05.1006 | E14: Jrebeng Wetan | F14: Sumber Sentong | G14: Jl. Ranu / Jl. Makam Kel. Jrebeng Wetan Kec. Kedopok | J14: SK. Kepala Dinas Kepemudaan, Olahraga dan Pariwisata No. 556/037/425.112/2025 Tgl. 01-10-2025 | K14: 2025 | L14: Mahyudi | M14: Alam (Sumber Mata Air, UMKM)
A15: 2025 | B15: 35.74.02 | C15: Wonoasih | D15: 35.74.02.1001 | E15: Jrebeng Kidul | F15: Kampung Edukasi Kreatif | G15: Jl. Rambutan RT. 11 RW. 03 Kel. Jrebeng Kidul Kec. Wonoasih | J15: SK. Kepala Dinas Kepemudaan, Olahraga dan Pariwisata No. 556/040/425.112/2025 Tgl. 01-10-2025 | K15: 2025 | L15: Joko Slamet Suharto | M15: Buatan (Taman Edukasi)
A16: 2025 | B16: 35.74.02 | C16: Wonoasih | D16: 35.74.02.1006 | E16: Sumbertaman | F16: Kangmas Pete | G16: Jl. Lumajang GG Mangga RW 02 Kel. Sumbertaman Kec. Wonoasih | J16: SK. Kepala Dinas Kepemudaan, Olahraga dan Pariwisata No. 556/026/425.112/2025 Tgl. 26-09-2025 | K16: 2025 | L16: Arif Suprapto | M16: Budidaya Ikan
... A31: 2025 | B31: 35.74.05 | C31: Kedopok | D31: 35.74.05.1004 | E31: Jrebeng Kulon | F31: Jrebeng Kulon Ceria | G31: Jl. Serayu RW 1 Kel. Jrebeng Kulon Kec. Kedopok | J31: SK. Kepala Dinas Kepemudaan, Olahraga dan Pariwisata No. 556/060/425.112/2025 Tgl. 12-12-2025 | K31: 2025 | L31: Haryono | M31: Buatan (Edukasi)
B38: kecamatan | C38: COUNTA of nama_pokdarwis
B39: Kademangan | C39: 4
B40: Kanigaran | C40: 5
B41: Kedopok | C41: 5
B42: Mayangan | C42: 5
B43: Wonoasih | C43: 8
B44: Total Keseluruhan | C44: 27
B45: 2024 | C45: 16

Sheet 57
A1: Tabel Baru | G1: Tahun 2025 - Jumlah Atlet Berprestasi di Kota Probolinggo
A2: Jumlah Atlet Berprestasi di Kota Probolinggo
A3: 2022 | G3: tahun | H3: cabang_olahraga | I3: jenis_kelamin | J3: jumlah | M3: SUM of jumlah | N3: jenis_kelamin
A4: Catatan : Mohon ditambah/dikurangi bila ada penambahan Cabang Olahraga | G4: 2025 | H4: Karate | I4: Laki-Laki | M4: cabang_olahraga | N4: Laki-Laki | O4: Perempuan | P4: Total Keseluruhan
G5: 2025 | H5: Karate | I5: Perempuan | M5: Anggar
A6: No | B6: Cabang Olahraga | C6: Jenis Kelamin | G6: 2025 | H6: Taekwondo | I6: Laki-Laki | J6: 25 | M6: Angkat Berat | N6: 1 | O6: 2 | P6: 3
C7: Laki-Laki | D7: Perempuan | G7: 2025 | H7: Taekwondo | I7: Perempuan | J7: 15 | M7: Angkat Besi | N7: 2 | P7: 2
A8: (1) | B8: (2) | C8: (3) | D8: (4) | G8: 2025 | H8: Renang | I8: Laki-Laki | M8: Atletik
A9: 1 | B9: Karate | G9: 2025 | H9: Renang | I9: Perempuan | M9: Balap Sepeda
A10: 2 | B10: Taekwondo | G10: 2025 | H10: Anggar | I10: Laki-Laki | M10: Basket
A11: 3 | B11: Renang | G11: 2025 | H11: Anggar | I11: Perempuan | M11: Bela Diri Modern
G12: 2025 | H12: Tenis Lapangan | I12: Laki-Laki | J12: 27 | M12: Berkuda
G13: 2025 | H13: Tenis Lapangan | I13: Perempuan | J13: 9 | M13: Billiar | N13: 13 | O13: 8 | P13: 21
G14: 2025 | H14: Dayung | I14: Laki-Laki | M14: Binaraga | N14: 5 | P14: 5
G15: 2025 | H15: Dayung | I15: Perempuan | M15: Bola Voli | N15: 12 | O15: 12 | P15: 24
A16: 4 | B16: Anggar | G16: 2025 | H16: Panjat Tebing | I16: Laki-Laki | M16: Brige | N16: 8 | O16: 10 | P16: 18
A17: 5 | B17: Panjat Tebing | G17: 2025 | H17: Panjat Tebing | I17: Perempuan | M17: Bulu Tangkis | N17: 179 | O17: 63 | P17: 242
G18: 2025 | H18: Tinju | I18: Laki-Laki | M18: Catur | N18: 31 | O18: 15 | P18: 46
G19: 2025 | H19: Tinju | I19: Perempuan | M19: Dancesport
G20: 2025 | H20: Tarung Derajat | I20: Laki-Laki | M20: Dayung
G21: 2025 | H21: Tarung Derajat | I21: Perempuan | M21: Drumband
G22: 2025 | H22: Muaythai | I22: Laki-Laki | M22: Futsal | N22: 16 | O22: 17 | P22: 33
G23: 2025 | H23: Muaythai | I23: Perempuan | M23: Hapkido
G24: 2025 | H24: Sky Air | I24: Laki-Laki | M24: Karate
G25: 2025 | H25: Sky Air | I25: Perempuan | M25: Kurash
G26: 2025 | H26: Kurash | I26: Laki-Laki | M26: Muaythai
G27: 2025 | H27: Kurash | I27: Perempuan | M27: Panahan
G28: 2025 | H28: Dancesport | I28: Laki-Laki | M28: Panjat Tebing
G29: 2025 | H29: Dancesport | I29: Perempuan | M29: Paramotor
G30: 2025 | H30: Tenis Meja | I30: Laki-Laki | J30: 20 | M30: Pencak Silat | N30: 6 | O30: 5 | P30: 11
G31: 2025 | H31: Tenis Meja | I31: Perempuan | J31: 9 | M31: Pentaque
A32: 6 | B32: Balap Sepeda | G32: 2025 | H32: Balap Sepeda | I32: Laki-Laki | M32: Renang
A33: 7 | B33: Catur | G33: 2025 | H33: Balap Sepeda | I33: Perempuan | M33: Selam
G34: 2025 | H34: Paramotor | I34: Laki-Laki | M34: Senam
G35: 2025 | H35: Paramotor | I35: Perempuan | M35: Sepak Bola | N35: 11 | P35: 11
G36: 2025 | H36: Angkat Besi | I36: Laki-Laki | J36: 2 | M36: Sepatu Roda
G37: 2025 | H37: Angkat Besi | I37: Perempuan | M37: Seprak Takraw
G38: 2025 | H38: Binaraga | I38: Laki-Laki | J38: 5 | M38: Sky Air
G39: 2025 | H39: Binaraga | I39: Perempuan | M39: Taekwondo | N39: 25 | O39: 15 | P39: 40
G40: 2025 | H40: Triathlon | I40: Laki-Laki | M40: Tarung Derajat
G41: 2025 | H41: Triathlon | I41: Perempuan | M41: Tenis Lapangan | N41: 27 | O41: 9 | P41: 36
G42: 2025 | H42: Sepak Bola | I42: Laki-Laki | J42: 11 | M42: Tenis Meja | N42: 20 | O42: 9 | P42: 29
G43: 2025 | H43: Sepak Bola | I43: Perempuan | M43: Tinju
G44: 2025 | H44: Angkat Berat | I44: Laki-Laki | J44: 1 | M44: Triathlon
G45: 2025 | H45: Angkat Berat | I45: Perempuan | J45: 2 | M45: Wushu
G46: 2025 | H46: Bela Diri Modern | I46: Laki-Laki | M46: Total Keseluruhan | N46: 356 | O46: 165 | P46: 521
G47: 2025 | H47: Bela Diri Modern | I47: Perempuan | M47: 2024 | N47: 692 | O47: 396 | P47: 1088
A48: 8 | B48: Selam | G48: 2025 | H48: Catur | I48: Laki-Laki | J48: 31
A49: 9 | B49: Pentaque | G49: 2025 | H49: Catur | I49: Perempuan | J49: 15
G50: 2025 | H50: Hapkido | I50: Laki-Laki
G51: 2025 | H51: Hapkido | I51: Perempuan
A52: 10 | B52: Panahan | G52: 2025 | H52: Selam | I52: Laki-Laki
A53: 11 | B53: Brige | G53: 2025 | H53: Selam | I53: Perempuan
A54: 12 | B54: Atletik | G54: 2025 | H54: Pentaque | I54: Laki-Laki
A55: 13 | B55: Wushu | G55: 2025 | H55: Pentaque | I55: Perempuan
A56: 14 | B56: Seprak Takraw | G56: 2025 | H56: Panahan | I56: Laki-Laki
A57: 15 | B57: Bulu Tangkis | G57: 2025 | H57: Panahan | I57: Perempuan
A58: 16 | B58: Basket | G58: 2025 | H58: Brige | I58: Laki-Laki | J58: 8
A59: 17 | B59: Billiar | G59: 2025 | H59: Brige | I59: Perempuan | J59: 10
A60: 18 | B60: Pencak Silat | G60: 2025 | H60: Atletik | I60: Laki-Laki
A61: 19 | B61: Senam | G61: 2025 | H61: Atletik | I61: Perempuan
A62: 20 | B62: Bola Voli | G62: 2025 | H62: Wushu | I62: Laki-Laki
A63: 21 | B63: Futsal | G63: 2025 | H63: Wushu | I63: Perempuan
A64: 22 | B64: Drumband | G64: 2025 | H64: Seprak Takraw | I64: Laki-Laki
A65: 23 | B65: Sepatu Roda | G65: 2025 | H65: Seprak Takraw | I65: Perempuan
A66: 24 | B66: Berkuda | G66: 2025 | H66: Bulu Tangkis | I66: Laki-Laki | J66: 179
A67: Jumlah | C67: =SUM(C9:C66) -> 0 | D67: =SUM(D9:D66) -> 0 | G67: 2025 | H67: Bulu Tangkis | I67: Perempuan | J67: 63
G68: 2025 | H68: Basket | I68: Laki-Laki
A69: Sumber : Dinas Kepemudaan, Olahraga, dan Pariwisata Kota Probolinggo | G69: 2025 | H69: Basket | I69: Perempuan
G70: 2025 | H70: Billiar | I70: Laki-Laki | J70: 13
G71: 2025 | H71: Billiar | I71: Perempuan | J71: 8
G72: 2025 | H72: Pencak Silat | I72: Laki-Laki | J72: 6
G73: 2025 | H73: Pencak Silat | I73: Perempuan | J73: 5
G74: 2025 | H74: Senam | I74: Laki-Laki
G75: 2025 | H75: Senam | I75: Perempuan
G76: 2025 | H76: Bola Voli | I76: Laki-Laki | J76: 12
G77: 2025 | H77: Bola Voli | I77: Perempuan | J77: 12
G78: 2025 | H78: Futsal | I78: Laki-Laki | J78: 16
G79: 2025 | H79: Futsal | I79: Perempuan | J79: 17
G80: 2025 | H80: Drumband | I80: Laki-Laki
G81: 2025 | H81: Drumband | I81: Perempuan
G82: 2025 | H82: Sepatu Roda | I82: Laki-Laki
G83: 2025 | H83: Sepatu Roda | I83: Perempuan
G84: 2025 | H84: Berkuda | I84: Laki-Laki
G85: 2025 | H85: Berkuda | I85: Perempuan

Sheet 58
A1: Tabel Baru | G1: Tahun 2025 - Jumlah Prestasi Olahraga di Kota Probolinggo
A2: Jumlah Perolahan Medali di Kota Probolinggo | G2: NB : jika ada cabang olahraga baru,dimohon untuk menambahkan kolom di bawah
A4: 2022 | G4: tahun | H4: cabang_olahraga | I4: jenis_medali | J4: jumlah | M4: SUM of jumlah | N4: jenis_medali
A5: Catatan : Mohon ditambah/dikurangi bila ada penambahan Cabang Olahraga | G5: 2025 | H5: Karate | I5: Emas | M5: cabang_olahraga | N5: Emas | O5: Perak | P5: Perunggu | Q5: Total Keseluruhan
G6: 2025 | H6: Karate | I6: Perak | M6: Anggar | N6: 2 | O6: 2 | Q6: 4
A7: No | B7: Cabang Olahraga | C7: Jumlah Medali | G7: 2025 | H7: Karate | I7: Perunggu | J7: 1 | M7: Atletik | N7: 6 | O7: 12 | P7: 9 | Q7: 27
C8: Emas | D8: Perak | E8: Perunggu | G8: 2025 | H8: Taekwondo | I8: Emas | J8: 1 | M8: Balap Sepeda
A9: (1) | B9: (2) | C9: (3) | E9: (4) | G9: 2025 | H9: Taekwondo | I9: Perak | M9: Basket
A10: 1 | B10: Karate | G10: 2025 | H10: Taekwondo | I10: Perunggu | J10: 1 | M10: Bela Diri
G11: 2025 | H11: Hapkido | I11: Emas | M11: Berkuda
G12: 2025 | H12: Hapkido | I12: Perak | M12: Billiar
G13: 2025 | H13: Hapkido | I13: Perunggu | M13: Bola Voli
G14: 2025 | H14: Muaythai | I14: Emas | M14: Brige | N14: 1 | Q14: 1
G15: 2025 | H15: Muaythai | I15: Perak | M15: Bulu Tangkis
G16: 2025 | H16: Muaythai | I16: Perunggu | M16: Catur
G17: 2025 | H17: Dayung | I17: Emas | M17: Dayung
G18: 2025 | H18: Dayung | I18: Perak | M18: Drumband | N18: 4 | O18: 3 | P18: 5 | Q18: 12
G19: 2025 | H19: Dayung | I19: Perunggu | M19: Futsal
A20: 2 | B20: Taekwondo | G20: 2025 | H20: Renang | I20: Emas | J20: 19 | M20: Hapkido
A21: 3 | B21: Renang | G21: 2025 | H21: Renang | I21: Perak | J21: 31 | M21: Karate | P21: 1 | Q21: 1
A22: 4 | B22: Anggar | G22: 2025 | H22: Renang | I22: Perunggu | J22: 28 | M22: Kurash | N22: 1 | P22: 1 | Q22: 2
G23: 2025 | H23: Bela Diri | I23: Emas | M23: Muaythai
G24: 2025 | H24: Bela Diri | I24: Perak | M24: Panahan | N24: 37 | O24: 32 | P24: 29 | Q24: 98
G25: 2025 | H25: Bela Diri | I25: Perunggu | M25: Panjat Tebing | N25: 3 | O25: 8 | P25: 9 | Q25: 20
G26: 2025 | H26: Tenis Meja | I26: Emas | M26: Paramotor | N26: 2 | P26: 1 | Q26: 3
G27: 2025 | H27: Tenis Meja | I27: Perak | M27: Pencak Silat | N27: 68 | O27: 48 | P27: 40 | Q27: 156
G28: 2025 | H28: Tenis Meja | I28: Perunggu | M28: Pentaque | N28: 1 | P28: 2 | Q28: 3
G29: 2025 | H29: Triathlon | I29: Emas | J29: 7 | M29: Renang | N29: 19 | O29: 31 | P29: 28 | Q29: 78
G30: 2025 | H30: Triathlon | I30: Perak | J30: 1 | M30: Selam | N30: 4 | O30: 2 | P30: 2 | Q30: 8
G31: 2025 | H31: Triathlon | I31: Perunggu | J31: 3 | M31: Senam
A32: 5 | B32: Panjat Tebing | G32: 2025 | H32: Anggar | I32: Emas | J32: 2 | M32: Sepatu Roda
A33: 6 | B33: Balap Sepeda | G33: 2025 | H33: Anggar | I33: Perak | J33: 2 | M33: Seprak Takraw
A34: 7 | B34: Catur | G34: 2025 | H34: Anggar | I34: Perunggu | M34: Taekwondo | N34: 1 | P34: 1 | Q34: 2
G35: 2025 | H35: Kurash | I35: Emas | J35: 1 | M35: Tenis Meja
G36: 2025 | H36: Kurash | I36: Perak | M36: Triathlon | N36: 7 | O36: 1 | P36: 3 | Q36: 11
G37: 2025 | H37: Kurash | I37: Perunggu | J37: 1 | M37: Wushu | N37: 2 | O37: 3 | P37: 3 | Q37: 8
G38: 2025 | H38: Paramotor | I38: Emas | J38: 2 | M38: Total Keseluruhan | N38: 158 | O38: 142 | P38: 134 | Q38: 434
G39: 2025 | H39: Paramotor | I39: Perak | M39: 2025 | N39: 236 | O39: 234 | P39: 237 | Q39: 707
G40: 2025 | H40: Paramotor | I40: Perunggu | J40: 1
A41: 8 | B41: Selam | G41: 2025 | H41: Panjat Tebing | I41: Emas | J41: 3
A42: 9 | B42: Pentaque | G42: 2025 | H42: Panjat Tebing | I42: Perak | J42: 8
A43: 10 | B43: Panahan | G43: 2025 | H43: Panjat Tebing | I43: Perunggu | J43: 9
A44: 11 | B44: Brige | G44: 2025 | H44: Balap Sepeda | I44: Emas
A45: 12 | B45: Atletik | G45: 2025 | H45: Balap Sepeda | I45: Perak
A46: 13 | B46: Wushu | G46: 2025 | H46: Balap Sepeda | I46: Perunggu
A47: 14 | B47: Seprak Takraw | G47: 2025 | H47: Catur | I47: Emas
A48: 15 | B48: Bulu Tangkis | G48: 2025 | H48: Catur | I48: Perak
A49: 16 | B49: Basket | G49: 2025 | H49: Catur | I49: Perunggu
A50: 17 | B50: Billiar | G50: 2025 | H50: Selam | I50: Emas | J50: 4
A51: 18 | B51: Pencak Silat | G51: 2025 | H51: Selam | I51: Perak | J51: 2
A52: 19 | B52: Senam | G52: 2025 | H52: Selam | I52: Perunggu | J52: 2
A53: 20 | B53: Bola Voli | G53: 2025 | H53: Pentaque | I53: Emas | J53: 1
A54: 21 | B54: Futsal | G54: 2025 | H54: Pentaque | I54: Perak
A55: 22 | B55: Drumband | G55: 2025 | H55: Pentaque | I55: Perunggu | J55: 2
A56: 23 | B56: Sepatu Roda | G56: 2025 | H56: Panahan | I56: Emas | J56: 37
A57: 24 | B57: Berkuda | G57: 2025 | H57: Panahan | I57: Perak | J57: 32
A58: Jumlah | C58: =SUM(C10:C57) -> 0 | E58: =SUM(E10:E57) -> 0 | G58: 2025 | H58: Panahan | I58: Perunggu | J58: 29
G59: 2025 | H59: Brige | I59: Emas | J59: 1
A60: Sumber : Dinas Kepemudaan, Olahraga, dan Pariwisata Kota Probolinggo | G60: 2025 | H60: Brige | I60: Perak
G61: 2025 | H61: Brige | I61: Perunggu
G62: 2025 | H62: Atletik | I62: Emas | J62: 6
G63: 2025 | H63: Atletik | I63: Perak | J63: 12
G64: 2025 | H64: Atletik | I64: Perunggu | J64: 9
G65: 2025 | H65: Wushu | I65: Emas | J65: 2
G66: 2025 | H66: Wushu | I66: Perak | J66: 3
G67: 2025 | H67: Wushu | I67: Perunggu | J67: 3
G68: 2025 | H68: Seprak Takraw | I68: Emas
G69: 2025 | H69: Seprak Takraw | I69: Perak
G70: 2025 | H70: Seprak Takraw | I70: Perunggu
G71: 2025 | H71: Bulu Tangkis | I71: Emas
G72: 2025 | H72: Bulu Tangkis | I72: Perak
G73: 2025 | H73: Bulu Tangkis | I73: Perunggu
G74: 2025 | H74: Basket | I74: Emas
G75: 2025 | H75: Basket | I75: Perak
G76: 2025 | H76: Basket | I76: Perunggu
G77: 2025 | H77: Billiar | I77: Emas
G78: 2025 | H78: Billiar | I78: Perak
G79: 2025 | H79: Billiar | I79: Perunggu
G80: 2025 | H80: Pencak Silat | I80: Emas | J80: 68
G81: 2025 | H81: Pencak Silat | I81: Perak | J81: 48
G82: 2025 | H82: Pencak Silat | I82: Perunggu | J82: 40
G83: 2025 | H83: Senam | I83: Emas
G84: 2025 | H84: Senam | I84: Perak
G85: 2025 | H85: Senam | I85: Perunggu
G86: 2025 | H86: Bola Voli | I86: Emas
G87: 2025 | H87: Bola Voli | I87: Perak
G88: 2025 | H88: Bola Voli | I88: Perunggu
G89: 2025 | H89: Futsal | I89: Emas
G90: 2025 | H90: Futsal | I90: Perak
G91: 2025 | H91: Futsal | I91: Perunggu
G92: 2025 | H92: Drumband | I92: Emas | J92: 4
G93: 2025 | H93: Drumband | I93: Perak | J93: 3
G94: 2025 | H94: Drumband | I94: Perunggu | J94: 5
G95: 2025 | H95: Sepatu Roda | I95: Emas
G96: 2025 | H96: Sepatu Roda | I96: Perak
G97: 2025 | H97: Sepatu Roda | I97: Perunggu
G98: 2025 | H98: Berkuda | I98: Emas
G99: 2025 | H99: Berkuda | I99: Perak
G100: 2025 | H100: Berkuda | I100: Perunggu
G101: 2025 | H101: Pertina | I101: Emas | J101: 1
...

Sheet 59
A1: Tahun 2019-2025 - Gelanggang / Balai Remaja (selain milik swasta)
A3: tahun | B3: jumlah
A4: 2019 | B4: 3
A5: 2020 | B5: 3
A6: 2021 | B6: 3
A7: 2022 | B7: 3
A8: 2023 | B8: 3
A9: 2024 | B9: 3
A10: 2025

Sheet 60
A1: Tahun 2019-2025 - PAD Sektor Pariwisata
A3: tahun | B3: jumlah_rupiah
A4: 2019 | B4: 8199802435
A5: 2020 | B5: 4390140033
A6: 2021 | B6: 4859498994
A7: 2022 | B7: 7835323736
A8: 2023 | B8: 9796286993
A9: 2024 | B9: 1.3555637e+10
A10: 2025 | B10: 11685849877

Sheet 61
A1: Tahun 2019-2025 - Persentase Destinasi Wisata yang dikembangkan
A3: tahun | B3: persentase
A4: 2019 | B4: 22
A5: 2020 | B5: 9
A6: 2021 | B6: 9
A7: 2022 | B7: 8
A8: 2023 | B8: 8
A9: 2024 | B9: 10
A10: 2025 | B10: 23.08

Sheet 62
A1: Tahun 2019-2025 - Jumlah Pelaku ekonomi kreatif
A3: tahun | B3: jumlah_orang
A4: 2019 | B4: 42
A5: 2020 | B5: 42
A6: 2021 | B6: 42
A7: 2022 | B7: 123
A8: 2023 | B8: 169
A9: 2024 | B9: 9485
A10: 2025 | B10: 9496

Sheet 63
A1: Tahun 2019-2025 - Rata-Rata Lama Tinggal Wisatawan
A3: tahun | B3: jumlah_hari
A4: 2019 | B4: N/A
A5: 2020 | B5: N/A | C5: data capaian kinerja Bapperida
A6: 2021 | B6: 1 | C6: n/a
A7: 2022 | B7: 1 | C7: 0.79
A8: 2023 | B8: 1 | C8: 0.78
A9: 2024 | B9: 1 | C9: 0.78
A10: 2025 | B10: 0.76

Sheet 64
A1: Tahun 2019-2025 - Kontribusi Pariwisata terhadap PAD
A3: tahun | B3: persentase
A4: 2019 | B4: 4.52
A5: 2020 | B5: 2.39
A6: 2021 | B6: 2.28
A7: 2022 | B7: 4.0892
A8: 2023 | B8: 4.67
A9: 2024 | B9: 6.57
A10: 2025 | B10: 4.76

Sheet 65
A1: Tahun 2021-2025 - Persentase Peningkatan Angka Kunjungan Wisatawan
A3: tahun | B3: persentase
A4: 2021 | B4: -5.3
A5: 2022 | B5: 87.17
A6: 2023 | B6: 13.14
A7: 2024 | B7: 8.05
A8: 2025 | B8: 8.58

Sheet 66
A1: Tahun 2021-2025 - Persentase Peningkatan Usaha Ekonomi Kreatif
A3: tahun | B3: persentase
A4: 2021 | B4: n/a
A5: 2022 | B5: n/a
A6: 2023 | B6: n/a
A7: 2024 | B7: 0.5
A8: 2025 | B8: 0.54

Sheet 67
A1: Tahun 2021-2025 - Rasio PDRB Penyediaan Akomodasi Makan dan Minum
A3: tahun | B3: persentase
A4: 2021 | B4: 3.8
A5: 2022 | B5: 3.83
A6: 2023 | B6: 3.84
A7: 2024 | B7: 4.01
A8: 2025 | B8: 4.07
D10: =1814+158 -> 1972 | E10: 59055 | F10: =D10/E10*100% -> 0.0333926
D12: 335277 | E12: 66175 | F12: =E12/D12*100% -> 0.19737411

Sheet 68
A1: Tahun 2019-2025 - Rasio PAD Sektor Pariwisata terhadap Total PAD
A3: tahun | B3: persentase
A4: 2024 | B4: 4.67
A5: 2025 | B5: 4.76
A8: NO | B8: INDIKATOR KINERJA DAERAH (IKD) | C8: SATUAN | D8: REALISASI | I8: TARGET RPJMD | J8: CAPAIAN | K8: Evaluasi dan Analisa Ketercapaian (Uraikan Minimal 2 Paragraf : narasikan/deskripsikan angka ketercapaian, penyebab kenaikan/penurunan dan alasan belum/sudah memenuhi target RPJMD) | L8: KENDALA (menguraikan kendala yang ditemui untuk mencapai target indikator RPJMD) | M8: SOLUSI (menguraikan solusi yang akan dilakukan untuk mengatasi kendala) | N8: Upaya yang telah dilakukan untuk mencapai target
D9: 2021 | E9: 2022 | F9: 2023 | G9: 2024 | H9: 2025 | I9: 2025 | J9: 2025
B11: Rasio PAD Sektor Pariwisata terhadap Total PAD | C11: Persen | G11: =B4 -> 4.67 | H11: =B5 -> 4.76 | I11: 4.68 | J11: =H11/I11 -> 1.017094 | K11: peningkatan PAD sektor pariwisata di sebabkan oleh banyak event event yang diselenggarakan di kota probolinggo sehingga ada lonjakan wisatawan nusantara yang masuk ke kota probolinggo

Sheet 69
A1: Tahun 2021-2025 - Persentase organisasi pemuda yang aktif
A3: tahun | B3: persentase
A4: 2021 | B4: 70
A5: 2022 | B5: 70
A6: 2023 | B6: 70
A7: 2024 | B7: 33.57
A8: 2025

Sheet 70
A1: Tahun 2021-2025 - Persentase wirausaha muda
A3: tahun | B3: persentase
A4: 2021 | B4: 0.18
A5: 2022 | B5: 7.03
A6: 2023 | B6: 7.02
A7: 2024 | B7: 56.05
A8: 2025 | B8: 0.33

Sheet 71
A1: Tahun 2021-2025 - Cakupan pembinaan olahraga
A3: tahun | B3: persentase
A4: 2021 | B4: 83.33
A5: 2022 | B5: 83.33
A6: 2023 | B6: 88.89
A7: 2024 | B7: 88.89
A8: 2025 | B8: 88.89

Sheet 72
A1: Tahun 2021-2025 - Cakupan pembinaan atlet muda
A3: tahun | B3: persentase
A4: 2021 | B4: 83.33
A5: 2022 | B5: 83.33
A6: 2023 | B6: 88.89
A7: 2024 | B7: 41.36
A8: 2025 | B8: 41.36
